Back to Multiple platform build/check report for BioC 3.14
ABCDE[F]GHIJKLMNOPQRSTUVWXYZ

This page was generated on 2021-11-29 15:04:55 -0500 (Mon, 29 Nov 2021).

CHECK results for fgsea on nebbiolo2

To the developers/maintainers of the fgsea package:
- Please allow up to 24 hours (and sometimes 48 hours) for your latest push to git@git.bioconductor.org:packages/fgsea.git to
reflect on this report. See How and When does the builder pull? When will my changes propagate? here for more information.
- Make sure to use the following settings in order to reproduce any error or warning you see on this page.

raw results

Package 640/2083HostnameOS / ArchINSTALLBUILDCHECKBUILD BIN
fgsea 1.20.0  (landing page)
Alexey Sergushichev
Snapshot Date: 2021-11-28 04:15:06 -0500 (Sun, 28 Nov 2021)
git_url: https://git.bioconductor.org/packages/fgsea
git_branch: RELEASE_3_14
git_last_commit: b704f81
git_last_commit_date: 2021-10-26 12:28:46 -0500 (Tue, 26 Oct 2021)
nebbiolo2Linux (Ubuntu 20.04.3 LTS) / x86_64  OK    OK    ERROR  
tokay2Windows Server 2012 R2 Standard / x64  OK    OK    OK    OK  UNNEEDED, same version is already published
machv2macOS 10.14.6 Mojave / x86_64  OK    OK    OK    OK  UNNEEDED, same version is already published

Summary

Package: fgsea
Version: 1.20.0
Command: /home/biocbuild/bbs-3.14-bioc/R/bin/R CMD check --install=check:fgsea.install-out.txt --library=/home/biocbuild/bbs-3.14-bioc/R/library --no-vignettes --timings fgsea_1.20.0.tar.gz
StartedAt: 2021-11-28 09:10:19 -0500 (Sun, 28 Nov 2021)
EndedAt: 2021-11-28 09:12:27 -0500 (Sun, 28 Nov 2021)
EllapsedTime: 127.9 seconds
RetCode: 1
Status:   ERROR  
CheckDir: fgsea.Rcheck
Warnings: NA

Command output

##############################################################################
##############################################################################
###
### Running command:
###
###   /home/biocbuild/bbs-3.14-bioc/R/bin/R CMD check --install=check:fgsea.install-out.txt --library=/home/biocbuild/bbs-3.14-bioc/R/library --no-vignettes --timings fgsea_1.20.0.tar.gz
###
##############################################################################
##############################################################################


* using log directory ‘/home/biocbuild/bbs-3.14-bioc/meat/fgsea.Rcheck’
* using R version 4.1.2 (2021-11-01)
* using platform: x86_64-pc-linux-gnu (64-bit)
* using session charset: UTF-8
* using option ‘--no-vignettes’
* checking for file ‘fgsea/DESCRIPTION’ ... OK
* this is package ‘fgsea’ version ‘1.20.0’
* package encoding: UTF-8
* checking package namespace information ... OK
* checking package dependencies ... OK
* checking if this is a source package ... OK
* checking if there is a namespace ... OK
* checking for hidden files and directories ... OK
* checking for portable file names ... OK
* checking for sufficient/correct file permissions ... OK
* checking whether package ‘fgsea’ can be installed ... OK
* checking installed package size ... NOTE
  installed size is  6.3Mb
  sub-directories of 1Mb or more:
    extdata   1.9Mb
    libs      3.9Mb
* checking package directory ... OK
* checking ‘build’ directory ... OK
* checking DESCRIPTION meta-information ... OK
* checking top-level files ... OK
* checking for left-over files ... OK
* checking index information ... OK
* checking package subdirectories ... OK
* checking R files for non-ASCII characters ... OK
* checking R files for syntax errors ... OK
* checking whether the package can be loaded ... OK
* checking whether the package can be loaded with stated dependencies ... OK
* checking whether the package can be unloaded cleanly ... OK
* checking whether the namespace can be loaded with stated dependencies ... OK
* checking whether the namespace can be unloaded cleanly ... OK
* checking dependencies in R code ... OK
* checking S3 generic/method consistency ... OK
* checking replacement functions ... OK
* checking foreign function calls ... OK
* checking R code for possible problems ... NOTE
collapsePathways: no visible binding for global variable ‘pathway’
collapsePathways: no visible binding for global variable ‘ES’
fgseaMultilevel: no visible binding for global variable ‘modeFraction’
fgseaMultilevel: no visible binding for global variable ‘denomProb’
fora: no visible binding for global variable ‘pval’
Undefined global functions or variables:
  ES denomProb modeFraction pathway pval
* checking Rd files ... OK
* checking Rd metadata ... OK
* checking Rd cross-references ... OK
* checking for missing documentation entries ... OK
* checking for code/documentation mismatches ... OK
* checking Rd \usage sections ... OK
* checking Rd contents ... OK
* checking for unstated dependencies in examples ... OK
* checking contents of ‘data’ directory ... OK
* checking data for non-ASCII characters ... OK
* checking LazyData ... OK
* checking data for ASCII and uncompressed saves ... OK
* checking line endings in C/C++/Fortran sources/headers ... OK
* checking compiled code ... NOTE
Note: information on .o files is not available
* checking files in ‘vignettes’ ... OK
* checking examples ... OK
Examples with CPU (user + system) or elapsed time > 5s
                  user system elapsed
collapsePathways 9.901  0.444   6.313
mapIdsList       8.612  0.415   6.269
fgseaSimple      7.876  1.143   3.208
fgsea            7.422  0.295   3.879
fgseaMultilevel  7.233  0.445   3.770
* checking for unstated dependencies in ‘tests’ ... OK
* checking tests ...
  Running ‘testthat.R’
 ERROR
Running the tests in ‘tests/testthat.R’ failed.
Last 13 lines of output:
  > library(fgsea)
  > 
  > test_check("fgsea")
  ══ Skipped tests ═══════════════════════════════════════════════════════════════
  • On Bioconductor (1)
  
  ══ Failed tests ════════════════════════════════════════════════════════════════
  ── Failure (test_gsea_multilevel.R:213:5): fgseaSimpleImpl works correctly in fgseaMultilevel ──
  `pval1` not equal to `pval2`.
  1/1 mismatches
  [1] 0.997 - 0.997 == 3e-06
  
  [ FAIL 1 | WARN 0 | SKIP 1 | PASS 113 ]
  Error: Test failures
  Execution halted
* checking for unstated dependencies in vignettes ... OK
* checking package vignettes in ‘inst/doc’ ... OK
* checking running R code from vignettes ... SKIPPED
* checking re-building of vignette outputs ... SKIPPED
* checking PDF version of manual ... OK
* DONE

Status: 1 ERROR, 3 NOTEs
See
  ‘/home/biocbuild/bbs-3.14-bioc/meat/fgsea.Rcheck/00check.log’
for details.


Installation output

fgsea.Rcheck/00install.out

##############################################################################
##############################################################################
###
### Running command:
###
###   /home/biocbuild/bbs-3.14-bioc/R/bin/R CMD INSTALL fgsea
###
##############################################################################
##############################################################################


* installing to library ‘/home/biocbuild/bbs-3.14-bioc/R/library’
* installing *source* package ‘fgsea’ ...
** using staged installation
** libs
g++ -std=gnu++11 -I"/home/biocbuild/bbs-3.14-bioc/R/include" -DNDEBUG  -I'/home/biocbuild/bbs-3.14-bioc/R/library/Rcpp/include' -I'/home/biocbuild/bbs-3.14-bioc/R/library/BH/include' -I/usr/local/include   -fpic  -g -O2  -Wall -c RcppExports.cpp -o RcppExports.o
g++ -std=gnu++11 -I"/home/biocbuild/bbs-3.14-bioc/R/include" -DNDEBUG  -I'/home/biocbuild/bbs-3.14-bioc/R/library/Rcpp/include' -I'/home/biocbuild/bbs-3.14-bioc/R/library/BH/include' -I/usr/local/include   -fpic  -g -O2  -Wall -c esCalculation.cpp -o esCalculation.o
g++ -std=gnu++11 -I"/home/biocbuild/bbs-3.14-bioc/R/include" -DNDEBUG  -I'/home/biocbuild/bbs-3.14-bioc/R/library/Rcpp/include' -I'/home/biocbuild/bbs-3.14-bioc/R/library/BH/include' -I/usr/local/include   -fpic  -g -O2  -Wall -c fastGSEA.cpp -o fastGSEA.o
fastGSEA.cpp: In function ‘Rcpp::NumericVector calcGseaStatBatchCpp(const NumericVector&, const List&, const IntegerVector&)’:
fastGSEA.cpp:446:27: warning: comparison of integer expressions of different signedness: ‘int’ and ‘std::vector<int>::size_type’ {aka ‘long unsigned int’} [-Wsign-compare]
  446 |         for (int j = 0; j < S.size(); ++j) {
      |                         ~~^~~~~~~~~~
g++ -std=gnu++11 -I"/home/biocbuild/bbs-3.14-bioc/R/include" -DNDEBUG  -I'/home/biocbuild/bbs-3.14-bioc/R/library/Rcpp/include' -I'/home/biocbuild/bbs-3.14-bioc/R/library/BH/include' -I/usr/local/include   -fpic  -g -O2  -Wall -c fgseaMultilevel.cpp -o fgseaMultilevel.o
In file included from /home/biocbuild/bbs-3.14-bioc/R/library/BH/include/boost/mpl/aux_/na_assert.hpp:23,
                 from /home/biocbuild/bbs-3.14-bioc/R/library/BH/include/boost/mpl/arg.hpp:25,
                 from /home/biocbuild/bbs-3.14-bioc/R/library/BH/include/boost/mpl/placeholders.hpp:24,
                 from /home/biocbuild/bbs-3.14-bioc/R/library/BH/include/boost/mpl/apply.hpp:24,
                 from /home/biocbuild/bbs-3.14-bioc/R/library/BH/include/boost/mpl/aux_/iter_apply.hpp:17,
                 from /home/biocbuild/bbs-3.14-bioc/R/library/BH/include/boost/mpl/aux_/find_if_pred.hpp:14,
                 from /home/biocbuild/bbs-3.14-bioc/R/library/BH/include/boost/mpl/find_if.hpp:17,
                 from /home/biocbuild/bbs-3.14-bioc/R/library/BH/include/boost/mpl/find.hpp:17,
                 from /home/biocbuild/bbs-3.14-bioc/R/library/BH/include/boost/mpl/aux_/contains_impl.hpp:20,
                 from /home/biocbuild/bbs-3.14-bioc/R/library/BH/include/boost/mpl/contains.hpp:20,
                 from /home/biocbuild/bbs-3.14-bioc/R/library/BH/include/boost/math/policies/policy.hpp:10,
                 from /home/biocbuild/bbs-3.14-bioc/R/library/BH/include/boost/math/special_functions/math_fwd.hpp:29,
                 from /home/biocbuild/bbs-3.14-bioc/R/library/BH/include/boost/math/special_functions/digamma.hpp:15,
                 from fgseaMultilevelSupplement.h:9,
                 from fgseaMultilevel.cpp:2:
/home/biocbuild/bbs-3.14-bioc/R/library/BH/include/boost/mpl/assert.hpp:194:21: warning: unnecessary parentheses in declaration of ‘assert_arg’ [-Wparentheses]
  194 | failed ************ (Pred::************
      |                     ^
/home/biocbuild/bbs-3.14-bioc/R/library/BH/include/boost/mpl/assert.hpp:199:21: warning: unnecessary parentheses in declaration of ‘assert_not_arg’ [-Wparentheses]
  199 | failed ************ (boost::mpl::not_<Pred>::************
      |                     ^
fgseaMultilevel.cpp: In function ‘Rcpp::DataFrame fgseaMultilevelCpp(const NumericVector&, const NumericVector&, int, int, int, double, bool)’:
fgseaMultilevel.cpp:10:23: warning: comparison of integer expressions of different signedness: ‘int’ and ‘std::vector<double>::size_type’ {aka ‘long unsigned int’} [-Wsign-compare]
   10 |     for (int i = 0; i < posRanks.size(); i++) {
      |                     ~~^~~~~~~~~~~~~~~~~
g++ -std=gnu++11 -I"/home/biocbuild/bbs-3.14-bioc/R/include" -DNDEBUG  -I'/home/biocbuild/bbs-3.14-bioc/R/library/Rcpp/include' -I'/home/biocbuild/bbs-3.14-bioc/R/library/BH/include' -I/usr/local/include   -fpic  -g -O2  -Wall -c fgseaMultilevelSupplement.cpp -o fgseaMultilevelSupplement.o
In file included from /home/biocbuild/bbs-3.14-bioc/R/library/BH/include/boost/mpl/aux_/na_assert.hpp:23,
                 from /home/biocbuild/bbs-3.14-bioc/R/library/BH/include/boost/mpl/arg.hpp:25,
                 from /home/biocbuild/bbs-3.14-bioc/R/library/BH/include/boost/mpl/placeholders.hpp:24,
                 from /home/biocbuild/bbs-3.14-bioc/R/library/BH/include/boost/mpl/apply.hpp:24,
                 from /home/biocbuild/bbs-3.14-bioc/R/library/BH/include/boost/mpl/aux_/iter_apply.hpp:17,
                 from /home/biocbuild/bbs-3.14-bioc/R/library/BH/include/boost/mpl/aux_/find_if_pred.hpp:14,
                 from /home/biocbuild/bbs-3.14-bioc/R/library/BH/include/boost/mpl/find_if.hpp:17,
                 from /home/biocbuild/bbs-3.14-bioc/R/library/BH/include/boost/mpl/find.hpp:17,
                 from /home/biocbuild/bbs-3.14-bioc/R/library/BH/include/boost/mpl/aux_/contains_impl.hpp:20,
                 from /home/biocbuild/bbs-3.14-bioc/R/library/BH/include/boost/mpl/contains.hpp:20,
                 from /home/biocbuild/bbs-3.14-bioc/R/library/BH/include/boost/math/policies/policy.hpp:10,
                 from /home/biocbuild/bbs-3.14-bioc/R/library/BH/include/boost/math/special_functions/math_fwd.hpp:29,
                 from /home/biocbuild/bbs-3.14-bioc/R/library/BH/include/boost/math/special_functions/digamma.hpp:15,
                 from fgseaMultilevelSupplement.h:9,
                 from fgseaMultilevelSupplement.cpp:1:
/home/biocbuild/bbs-3.14-bioc/R/library/BH/include/boost/mpl/assert.hpp:194:21: warning: unnecessary parentheses in declaration of ‘assert_arg’ [-Wparentheses]
  194 | failed ************ (Pred::************
      |                     ^
/home/biocbuild/bbs-3.14-bioc/R/library/BH/include/boost/mpl/assert.hpp:199:21: warning: unnecessary parentheses in declaration of ‘assert_not_arg’ [-Wparentheses]
  199 | failed ************ (boost::mpl::not_<Pred>::************
      |                     ^
fgseaMultilevelSupplement.cpp: In member function ‘void EsRuler::duplicateSamples()’:
fgseaMultilevelSupplement.cpp:44:37: warning: comparison of integer expressions of different signedness: ‘int’ and ‘const unsigned int’ [-Wsign-compare]
   44 |     for (int sampleId = 0; sampleId < sampleSize; sampleId++) {
      |                            ~~~~~~~~~^~~~~~~~~~~~
fgseaMultilevelSupplement.cpp:54:41: warning: comparison of integer expressions of different signedness: ‘int’ and ‘const unsigned int’ [-Wsign-compare]
   54 |     for (int sampleId = 0; 2 * sampleId < sampleSize; sampleId++) {
      |                            ~~~~~~~~~~~~~^~~~~~~~~~~~
fgseaMultilevelSupplement.cpp:63:41: warning: comparison of integer expressions of different signedness: ‘int’ and ‘unsigned int’ [-Wsign-compare]
   63 |     for (int sampleId = 0; 2 * sampleId < sampleSize - 2; sampleId++) {
      |                            ~~~~~~~~~~~~~^~~~~~~~~~~~~~~~
fgseaMultilevelSupplement.cpp: In member function ‘void EsRuler::extend(double, int, double)’:
fgseaMultilevelSupplement.cpp:77:37: warning: comparison of integer expressions of different signedness: ‘int’ and ‘const unsigned int’ [-Wsign-compare]
   77 |     for (int sampleId = 0; sampleId < sampleSize; sampleId++) {
      |                            ~~~~~~~~~^~~~~~~~~~~~
fgseaMultilevelSupplement.cpp:81:16: warning: unused variable ‘currentES’ [-Wunused-variable]
   81 |         double currentES = calcES(ranks, currentSamples[sampleId]);
      |                ^~~~~~~~~
fgseaMultilevelSupplement.cpp:94:31: warning: comparison of integer expressions of different signedness: ‘int’ and ‘const unsigned int’ [-Wsign-compare]
   94 |             for (int j = 0; j < sampleSize; ++j) {
      |                             ~~^~~~~~~~~~~~
fgseaMultilevelSupplement.cpp:101:27: warning: comparison of integer expressions of different signedness: ‘int’ and ‘const unsigned int’ [-Wsign-compare]
  101 |         for (int i = 0; i < sampleSize; ++i) {
      |                         ~~^~~~~~~~~~~~
fgseaMultilevelSupplement.cpp:116:35: warning: comparison of integer expressions of different signedness: ‘int’ and ‘unsigned int’ [-Wsign-compare]
  116 |         for (int moves = 0; moves < sampleSize * pathwaySize;) {
      |                             ~~~~~~^~~~~~~~~~~~~~~~~~~~~~~~~~
fgseaMultilevelSupplement.cpp:117:45: warning: comparison of integer expressions of different signedness: ‘int’ and ‘const unsigned int’ [-Wsign-compare]
  117 |             for (int sampleId = 0; sampleId < sampleSize; sampleId++) {
      |                                    ~~~~~~~~~^~~~~~~~~~~~
fgseaMultilevelSupplement.cpp:122:27: warning: comparison of integer expressions of different signedness: ‘int’ and ‘const unsigned int’ [-Wsign-compare]
  122 |         for (int i = 0; i < sampleSize; ++i) {
      |                         ~~^~~~~~~~~~~~
fgseaMultilevelSupplement.cpp: In member function ‘int EsRuler::perturbate(const std::vector<double>&, int, EsRuler::SampleChunks&, double, std::mt19937&)’:
fgseaMultilevelSupplement.cpp:264:14: warning: unused variable ‘fl’ [-Wunused-variable]
  264 |         bool fl = false;
      |              ^~
g++ -std=gnu++11 -I"/home/biocbuild/bbs-3.14-bioc/R/include" -DNDEBUG  -I'/home/biocbuild/bbs-3.14-bioc/R/library/Rcpp/include' -I'/home/biocbuild/bbs-3.14-bioc/R/library/BH/include' -I/usr/local/include   -fpic  -g -O2  -Wall -c util.cpp -o util.o
g++ -std=gnu++11 -shared -L/home/biocbuild/bbs-3.14-bioc/R/lib -L/usr/local/lib -o fgsea.so RcppExports.o esCalculation.o fastGSEA.o fgseaMultilevel.o fgseaMultilevelSupplement.o util.o -L/home/biocbuild/bbs-3.14-bioc/R/lib -lR
installing to /home/biocbuild/bbs-3.14-bioc/R/library/00LOCK-fgsea/00new/fgsea/libs
** R
** data
*** moving datasets to lazyload DB
** inst
** byte-compile and prepare package for lazy loading
** help
*** installing help indices
** building package indices
** installing vignettes
** testing if installed package can be loaded from temporary location
** checking absolute paths in shared objects and dynamic libraries
** testing if installed package can be loaded from final location
** testing if installed package keeps a record of temporary installation path
* DONE (fgsea)

Tests output

fgsea.Rcheck/tests/testthat.Rout.fail


R version 4.1.2 (2021-11-01) -- "Bird Hippie"
Copyright (C) 2021 The R Foundation for Statistical Computing
Platform: x86_64-pc-linux-gnu (64-bit)

R is free software and comes with ABSOLUTELY NO WARRANTY.
You are welcome to redistribute it under certain conditions.
Type 'license()' or 'licence()' for distribution details.

R is a collaborative project with many contributors.
Type 'contributors()' for more information and
'citation()' on how to cite R or R packages in publications.

Type 'demo()' for some demos, 'help()' for on-line help, or
'help.start()' for an HTML browser interface to help.
Type 'q()' to quit R.

> # setting R_TESTS to empty string because of
> # https://github.com/hadley/testthat/issues/144
> # revert this when that issue in R is fixed.
> Sys.setenv("R_TESTS" = "")
> 
> library(testthat)
> library(fgsea)
> 
> test_check("fgsea")
══ Skipped tests ═══════════════════════════════════════════════════════════════
• On Bioconductor (1)

══ Failed tests ════════════════════════════════════════════════════════════════
── Failure (test_gsea_multilevel.R:213:5): fgseaSimpleImpl works correctly in fgseaMultilevel ──
`pval1` not equal to `pval2`.
1/1 mismatches
[1] 0.997 - 0.997 == 3e-06

[ FAIL 1 | WARN 0 | SKIP 1 | PASS 113 ]
Error: Test failures
Execution halted

Example timings

fgsea.Rcheck/fgsea-Ex.timings

nameusersystemelapsed
calcGseaStat0.0340.0000.034
collapsePathways9.9010.4446.313
collapsePathwaysORA0.1400.0200.152
fgsea7.4220.2953.879
fgseaLabel000
fgseaMultilevel7.2330.4453.770
fgseaSimple7.8761.1433.208
fora0.0680.0270.094
gmtPathways0.1110.0160.118
mapIdsList8.6120.4156.269
multilevelError000
plotEnrichment0.0010.0000.001
plotGseaTable0.2540.0720.303
reactomePathways2.5100.1602.671
writeGmtPathways0.0420.0000.043