Back to Multiple platform build/check report for BioC 3.14
ABCDE[F]GHIJKLMNOPQRSTUVWXYZ

This page was generated on 2021-12-06 13:04:58 -0500 (Mon, 06 Dec 2021).

CHECK results for fgga on nebbiolo2

To the developers/maintainers of the fgga package:
- Please allow up to 24 hours (and sometimes 48 hours) for your latest push to git@git.bioconductor.org:packages/fgga.git to
reflect on this report. See How and When does the builder pull? When will my changes propagate? here for more information.
- Make sure to use the following settings in order to reproduce any error or warning you see on this page.

raw results

Package 638/2083HostnameOS / ArchINSTALLBUILDCHECKBUILD BIN
fgga 1.2.0  (landing page)
Spetale Flavio
Snapshot Date: 2021-12-05 01:55:05 -0500 (Sun, 05 Dec 2021)
git_url: https://git.bioconductor.org/packages/fgga
git_branch: RELEASE_3_14
git_last_commit: f575f34
git_last_commit_date: 2021-10-26 13:09:32 -0500 (Tue, 26 Oct 2021)
nebbiolo2Linux (Ubuntu 20.04.3 LTS) / x86_64  OK    OK    OK  UNNEEDED, same version is already published
tokay2Windows Server 2012 R2 Standard / x64  OK    OK    OK    OK  UNNEEDED, same version is already published
machv2macOS 10.14.6 Mojave / x86_64  OK    OK    OK    OK  UNNEEDED, same version is already published

Summary

Package: fgga
Version: 1.2.0
Command: /home/biocbuild/bbs-3.14-bioc/R/bin/R CMD check --install=check:fgga.install-out.txt --library=/home/biocbuild/bbs-3.14-bioc/R/library --no-vignettes --timings fgga_1.2.0.tar.gz
StartedAt: 2021-12-05 07:54:54 -0500 (Sun, 05 Dec 2021)
EndedAt: 2021-12-05 07:56:24 -0500 (Sun, 05 Dec 2021)
EllapsedTime: 90.3 seconds
RetCode: 0
Status:   OK  
CheckDir: fgga.Rcheck
Warnings: 0

Command output

##############################################################################
##############################################################################
###
### Running command:
###
###   /home/biocbuild/bbs-3.14-bioc/R/bin/R CMD check --install=check:fgga.install-out.txt --library=/home/biocbuild/bbs-3.14-bioc/R/library --no-vignettes --timings fgga_1.2.0.tar.gz
###
##############################################################################
##############################################################################


* using log directory ‘/home/biocbuild/bbs-3.14-bioc/meat/fgga.Rcheck’
* using R version 4.1.2 (2021-11-01)
* using platform: x86_64-pc-linux-gnu (64-bit)
* using session charset: UTF-8
* using option ‘--no-vignettes’
* checking for file ‘fgga/DESCRIPTION’ ... OK
* checking extension type ... Package
* this is package ‘fgga’ version ‘1.2.0’
* package encoding: UTF-8
* checking package namespace information ... OK
* checking package dependencies ... OK
* checking if this is a source package ... OK
* checking if there is a namespace ... OK
* checking for hidden files and directories ... OK
* checking for portable file names ... OK
* checking for sufficient/correct file permissions ... OK
* checking whether package ‘fgga’ can be installed ... OK
* checking installed package size ... OK
* checking package directory ... OK
* checking ‘build’ directory ... OK
* checking DESCRIPTION meta-information ... OK
* checking top-level files ... OK
* checking for left-over files ... OK
* checking index information ... OK
* checking package subdirectories ... OK
* checking R files for non-ASCII characters ... OK
* checking R files for syntax errors ... OK
* checking whether the package can be loaded ... OK
* checking whether the package can be loaded with stated dependencies ... OK
* checking whether the package can be unloaded cleanly ... OK
* checking whether the namespace can be loaded with stated dependencies ... OK
* checking whether the namespace can be unloaded cleanly ... OK
* checking dependencies in R code ... OK
* checking S3 generic/method consistency ... OK
* checking replacement functions ... OK
* checking foreign function calls ... OK
* checking R code for possible problems ... OK
* checking Rd files ... OK
* checking Rd metadata ... OK
* checking Rd cross-references ... OK
* checking for missing documentation entries ... OK
* checking for code/documentation mismatches ... OK
* checking Rd \usage sections ... OK
* checking Rd contents ... OK
* checking for unstated dependencies in examples ... OK
* checking contents of ‘data’ directory ... OK
* checking data for non-ASCII characters ... OK
* checking data for ASCII and uncompressed saves ... OK
* checking files in ‘vignettes’ ... OK
* checking examples ... OK
Examples with CPU (user + system) or elapsed time > 5s
          user system elapsed
svmTrain 7.786  0.008   7.793
svmGO    7.635  0.016   7.651
* checking for unstated dependencies in ‘tests’ ... OK
* checking tests ...
  Running ‘runTests.R’
 OK
* checking for unstated dependencies in vignettes ... OK
* checking package vignettes in ‘inst/doc’ ... OK
* checking running R code from vignettes ... SKIPPED
* checking re-building of vignette outputs ... SKIPPED
* checking PDF version of manual ... OK
* DONE

Status: OK


Installation output

fgga.Rcheck/00install.out

##############################################################################
##############################################################################
###
### Running command:
###
###   /home/biocbuild/bbs-3.14-bioc/R/bin/R CMD INSTALL fgga
###
##############################################################################
##############################################################################


* installing to library ‘/home/biocbuild/bbs-3.14-bioc/R/library’
* installing *source* package ‘fgga’ ...
** using staged installation
** R
** data
** inst
** byte-compile and prepare package for lazy loading
** help
*** installing help indices
** building package indices
** installing vignettes
** testing if installed package can be loaded from temporary location
** testing if installed package can be loaded from final location
** testing if installed package keeps a record of temporary installation path
* DONE (fgga)

Tests output

fgga.Rcheck/tests/runTests.Rout


R version 4.1.2 (2021-11-01) -- "Bird Hippie"
Copyright (C) 2021 The R Foundation for Statistical Computing
Platform: x86_64-pc-linux-gnu (64-bit)

R is free software and comes with ABSOLUTELY NO WARRANTY.
You are welcome to redistribute it under certain conditions.
Type 'license()' or 'licence()' for distribution details.

R is a collaborative project with many contributors.
Type 'contributors()' for more information and
'citation()' on how to cite R or R packages in publications.

Type 'demo()' for some demos, 'help()' for on-line help, or
'help.start()' for an HTML browser interface to help.
Type 'q()' to quit R.

> BiocGenerics:::testPackage("fgga")

Attaching package: 'BiocGenerics'

The following objects are masked from 'package:stats':

    IQR, mad, sd, var, xtabs

The following objects are masked from 'package:base':

    Filter, Find, Map, Position, Reduce, anyDuplicated, append,
    as.data.frame, basename, cbind, colnames, dirname, do.call,
    duplicated, eval, evalq, get, grep, grepl, intersect, is.unsorted,
    lapply, mapply, match, mget, order, paste, pmax, pmax.int, pmin,
    pmin.int, rank, rbind, rownames, sapply, setdiff, sort, table,
    tapply, union, unique, unsplit, which.max, which.min

GO-term: GO:0000166
GO-term: GO:0003674
GO-term: GO:0003676
GO-term: GO:0003677
GO-term: GO:0003824
GO-term: GO:0004888
GO-term: GO:0005102
GO-term: GO:1901363
GO-term: GO:1902494
GO-term: GO:1990234
GO-term: GO:FES
GO-term:GO:0000166
GO-term:GO:0003674
GO-term:GO:0003676
GO-term:GO:0003677
GO-term:GO:0003824
GO-term:GO:0004888
GO-term:GO:0005102
GO-term:GO:1901363
GO-term:GO:1902494
GO-term:GO:1990234
GO-term:GO:FES
GO-term: GO:0001
GO-term: GO:0002
GO-term: GO:0003
GO-term: GO:0004
GO-term: GO:0005
GO-term: GO:FES
GO-term: GO:0007
GO-term: GO:0008
GO-term: GO:0009


RUNIT TEST PROTOCOL -- Sun Dec  5 07:56:21 2021 
*********************************************** 
Number of test functions: 8 
Number of errors: 0 
Number of failures: 0 

 
1 Test Suite : 
fgga RUnit Tests - 8 test functions, 0 errors, 0 failures
Number of test functions: 8 
Number of errors: 0 
Number of failures: 0 
> 
> proc.time()
   user  system elapsed 
  3.958   0.260   4.200 

Example timings

fgga.Rcheck/fgga-Ex.timings

nameusersystemelapsed
CfData0.0980.0010.097
createFolds0.1030.0150.119
fgga3.0680.2163.284
fgga2bipartite0.1310.0080.139
preCoreFG0.0750.0160.091
sumProduct1.9120.0451.957
svmGO7.6350.0167.651
svmTrain7.7860.0087.793
tableTPG0.0010.0000.001
varianceGO1.5110.0031.515