Back to Multiple platform build/check report for BioC 3.14
ABCDE[F]GHIJKLMNOPQRSTUVWXYZ

This page was generated on 2021-11-24 15:06:02 -0500 (Wed, 24 Nov 2021).

CHECK results for fgga on machv2

To the developers/maintainers of the fgga package:
- Please allow up to 24 hours (and sometimes 48 hours) for your latest push to git@git.bioconductor.org:packages/fgga.git to
reflect on this report. See How and When does the builder pull? When will my changes propagate? here for more information.
- Make sure to use the following settings in order to reproduce any error or warning you see on this page.

raw results

Package 638/2083HostnameOS / ArchINSTALLBUILDCHECKBUILD BIN
fgga 1.2.0  (landing page)
Spetale Flavio
Snapshot Date: 2021-11-23 04:15:06 -0500 (Tue, 23 Nov 2021)
git_url: https://git.bioconductor.org/packages/fgga
git_branch: RELEASE_3_14
git_last_commit: f575f34
git_last_commit_date: 2021-10-26 13:09:32 -0500 (Tue, 26 Oct 2021)
nebbiolo2Linux (Ubuntu 20.04.3 LTS) / x86_64  OK    OK    OK  UNNEEDED, same version is already published
tokay2Windows Server 2012 R2 Standard / x64  OK    OK    OK    OK  UNNEEDED, same version is already published
machv2macOS 10.14.6 Mojave / x86_64  OK    OK    OK    OK  UNNEEDED, same version is already published

Summary

Package: fgga
Version: 1.2.0
Command: /Library/Frameworks/R.framework/Resources/bin/R CMD check --install=check:fgga.install-out.txt --library=/Library/Frameworks/R.framework/Resources/library --no-vignettes --timings fgga_1.2.0.tar.gz
StartedAt: 2021-11-23 16:36:20 -0500 (Tue, 23 Nov 2021)
EndedAt: 2021-11-23 16:39:03 -0500 (Tue, 23 Nov 2021)
EllapsedTime: 163.0 seconds
RetCode: 0
Status:   OK  
CheckDir: fgga.Rcheck
Warnings: 0

Command output

##############################################################################
##############################################################################
###
### Running command:
###
###   /Library/Frameworks/R.framework/Resources/bin/R CMD check --install=check:fgga.install-out.txt --library=/Library/Frameworks/R.framework/Resources/library --no-vignettes --timings fgga_1.2.0.tar.gz
###
##############################################################################
##############################################################################


* using log directory ‘/Users/biocbuild/bbs-3.14-bioc/meat/fgga.Rcheck’
* using R version 4.1.2 (2021-11-01)
* using platform: x86_64-apple-darwin17.0 (64-bit)
* using session charset: UTF-8
* using option ‘--no-vignettes’
* checking for file ‘fgga/DESCRIPTION’ ... OK
* checking extension type ... Package
* this is package ‘fgga’ version ‘1.2.0’
* package encoding: UTF-8
* checking package namespace information ... OK
* checking package dependencies ... OK
* checking if this is a source package ... OK
* checking if there is a namespace ... OK
* checking for hidden files and directories ... OK
* checking for portable file names ... OK
* checking for sufficient/correct file permissions ... OK
* checking whether package ‘fgga’ can be installed ... OK
* checking installed package size ... OK
* checking package directory ... OK
* checking ‘build’ directory ... OK
* checking DESCRIPTION meta-information ... OK
* checking top-level files ... OK
* checking for left-over files ... OK
* checking index information ... OK
* checking package subdirectories ... OK
* checking R files for non-ASCII characters ... OK
* checking R files for syntax errors ... OK
* checking whether the package can be loaded ... OK
* checking whether the package can be loaded with stated dependencies ... OK
* checking whether the package can be unloaded cleanly ... OK
* checking whether the namespace can be loaded with stated dependencies ... OK
* checking whether the namespace can be unloaded cleanly ... OK
* checking dependencies in R code ... OK
* checking S3 generic/method consistency ... OK
* checking replacement functions ... OK
* checking foreign function calls ... OK
* checking R code for possible problems ... OK
* checking Rd files ... OK
* checking Rd metadata ... OK
* checking Rd cross-references ... OK
* checking for missing documentation entries ... OK
* checking for code/documentation mismatches ... OK
* checking Rd \usage sections ... OK
* checking Rd contents ... OK
* checking for unstated dependencies in examples ... OK
* checking contents of ‘data’ directory ... OK
* checking data for non-ASCII characters ... OK
* checking data for ASCII and uncompressed saves ... OK
* checking files in ‘vignettes’ ... OK
* checking examples ... OK
Examples with CPU (user + system) or elapsed time > 5s
           user system elapsed
svmTrain 10.579  0.090  10.675
svmGO    10.568  0.097  10.672
fgga      5.139  0.143   5.287
* checking for unstated dependencies in ‘tests’ ... OK
* checking tests ...
  Running ‘runTests.R’
 OK
* checking for unstated dependencies in vignettes ... OK
* checking package vignettes in ‘inst/doc’ ... OK
* checking running R code from vignettes ... SKIPPED
* checking re-building of vignette outputs ... SKIPPED
* checking PDF version of manual ... OK
* DONE

Status: OK


Installation output

fgga.Rcheck/00install.out

##############################################################################
##############################################################################
###
### Running command:
###
###   /Library/Frameworks/R.framework/Resources/bin/R CMD INSTALL fgga
###
##############################################################################
##############################################################################


* installing to library ‘/Library/Frameworks/R.framework/Versions/4.1/Resources/library’
* installing *source* package ‘fgga’ ...
** using staged installation
** R
** data
** inst
** byte-compile and prepare package for lazy loading
** help
*** installing help indices
** building package indices
** installing vignettes
** testing if installed package can be loaded from temporary location
** testing if installed package can be loaded from final location
** testing if installed package keeps a record of temporary installation path
* DONE (fgga)

Tests output

fgga.Rcheck/tests/runTests.Rout


R version 4.1.2 (2021-11-01) -- "Bird Hippie"
Copyright (C) 2021 The R Foundation for Statistical Computing
Platform: x86_64-apple-darwin17.0 (64-bit)

R is free software and comes with ABSOLUTELY NO WARRANTY.
You are welcome to redistribute it under certain conditions.
Type 'license()' or 'licence()' for distribution details.

R is a collaborative project with many contributors.
Type 'contributors()' for more information and
'citation()' on how to cite R or R packages in publications.

Type 'demo()' for some demos, 'help()' for on-line help, or
'help.start()' for an HTML browser interface to help.
Type 'q()' to quit R.

> BiocGenerics:::testPackage("fgga")

Attaching package: 'BiocGenerics'

The following objects are masked from 'package:stats':

    IQR, mad, sd, var, xtabs

The following objects are masked from 'package:base':

    Filter, Find, Map, Position, Reduce, anyDuplicated, append,
    as.data.frame, basename, cbind, colnames, dirname, do.call,
    duplicated, eval, evalq, get, grep, grepl, intersect, is.unsorted,
    lapply, mapply, match, mget, order, paste, pmax, pmax.int, pmin,
    pmin.int, rank, rbind, rownames, sapply, setdiff, sort, table,
    tapply, union, unique, unsplit, which.max, which.min

GO-term: GO:0000166
GO-term: GO:0003674
GO-term: GO:0003676
GO-term: GO:0003677
GO-term: GO:0003824
GO-term: GO:0004888
GO-term: GO:0005102
GO-term: GO:1901363
GO-term: GO:1902494
GO-term: GO:1990234
GO-term: GO:FES
GO-term:GO:0000166
GO-term:GO:0003674
GO-term:GO:0003676
GO-term:GO:0003677
GO-term:GO:0003824
GO-term:GO:0004888
GO-term:GO:0005102
GO-term:GO:1901363
GO-term:GO:1902494
GO-term:GO:1990234
GO-term:GO:FES
GO-term: GO:0001
GO-term: GO:0002
GO-term: GO:0003
GO-term: GO:0004
GO-term: GO:0005
GO-term: GO:FES
GO-term: GO:0007
GO-term: GO:0008
GO-term: GO:0009


RUNIT TEST PROTOCOL -- Tue Nov 23 16:38:51 2021 
*********************************************** 
Number of test functions: 8 
Number of errors: 0 
Number of failures: 0 

 
1 Test Suite : 
fgga RUnit Tests - 8 test functions, 0 errors, 0 failures
Number of test functions: 8 
Number of errors: 0 
Number of failures: 0 
> 
> proc.time()
   user  system elapsed 
  6.817   0.370   7.167 

Example timings

fgga.Rcheck/fgga-Ex.timings

nameusersystemelapsed
CfData0.1330.0190.153
createFolds0.1560.0540.210
fgga5.1390.1435.287
fgga2bipartite0.1990.0440.243
preCoreFG0.1460.0070.151
sumProduct3.1740.1323.312
svmGO10.568 0.09710.672
svmTrain10.579 0.09010.675
tableTPG0.0010.0010.002
varianceGO2.5130.0522.566