Back to Multiple platform build/check report for BioC 3.14
ABCDE[F]GHIJKLMNOPQRSTUVWXYZ

This page was generated on 2021-12-03 13:05:46 -0500 (Fri, 03 Dec 2021).

BUILD results for fgga on machv2

To the developers/maintainers of the fgga package:
- Please allow up to 24 hours (and sometimes 48 hours) for your latest push to git@git.bioconductor.org:packages/fgga.git to
reflect on this report. See How and When does the builder pull? When will my changes propagate? here for more information.
- Make sure to use the following settings in order to reproduce any error or warning you see on this page.

raw results

Package 638/2083HostnameOS / ArchINSTALLBUILDCHECKBUILD BIN
fgga 1.2.0  (landing page)
Spetale Flavio
Snapshot Date: 2021-12-02 01:55:06 -0500 (Thu, 02 Dec 2021)
git_url: https://git.bioconductor.org/packages/fgga
git_branch: RELEASE_3_14
git_last_commit: f575f34
git_last_commit_date: 2021-10-26 13:09:32 -0500 (Tue, 26 Oct 2021)
nebbiolo2Linux (Ubuntu 20.04.3 LTS) / x86_64  OK    OK    OK  UNNEEDED, same version is already published
tokay2Windows Server 2012 R2 Standard / x64  OK    OK    OK    OK  UNNEEDED, same version is already published
machv2macOS 10.14.6 Mojave / x86_64  OK    OK    OK    OK  UNNEEDED, same version is already published

Summary

Package: fgga
Version: 1.2.0
Command: /Library/Frameworks/R.framework/Resources/bin/R CMD build --keep-empty-dirs --no-resave-data fgga
StartedAt: 2021-12-02 07:07:49 -0500 (Thu, 02 Dec 2021)
EndedAt: 2021-12-02 07:08:37 -0500 (Thu, 02 Dec 2021)
EllapsedTime: 48.3 seconds
RetCode: 0
Status:   OK  
PackageFile: fgga_1.2.0.tar.gz
PackageFileSize: 1.34 MiB

Command output

##############################################################################
##############################################################################
###
### Running command:
###
###   /Library/Frameworks/R.framework/Resources/bin/R CMD build --keep-empty-dirs --no-resave-data fgga
###
##############################################################################
##############################################################################


* checking for file ‘fgga/DESCRIPTION’ ... OK
* preparing ‘fgga’:
* checking DESCRIPTION meta-information ... OK
* installing the package to build vignettes
* creating vignettes ... OK
* checking for LF line-endings in source and make files and shell scripts
* checking for empty or unneeded directories
* looking to see if a ‘data/datalist’ file should be added
* building ‘fgga_1.2.0.tar.gz’