Back to Multiple platform build/check report for BioC 3.14
ABCDE[F]GHIJKLMNOPQRSTUVWXYZ

This page was generated on 2021-11-29 15:05:54 -0500 (Mon, 29 Nov 2021).

BUILD BIN results for fgga on machv2

To the developers/maintainers of the fgga package:
- Please allow up to 24 hours (and sometimes 48 hours) for your latest push to git@git.bioconductor.org:packages/fgga.git to
reflect on this report. See How and When does the builder pull? When will my changes propagate? here for more information.
- Make sure to use the following settings in order to reproduce any error or warning you see on this page.

raw results

Package 638/2083HostnameOS / ArchINSTALLBUILDCHECKBUILD BIN
fgga 1.2.0  (landing page)
Spetale Flavio
Snapshot Date: 2021-11-28 04:15:06 -0500 (Sun, 28 Nov 2021)
git_url: https://git.bioconductor.org/packages/fgga
git_branch: RELEASE_3_14
git_last_commit: f575f34
git_last_commit_date: 2021-10-26 13:09:32 -0500 (Tue, 26 Oct 2021)
nebbiolo2Linux (Ubuntu 20.04.3 LTS) / x86_64  OK    OK    OK  UNNEEDED, same version is already published
tokay2Windows Server 2012 R2 Standard / x64  OK    OK    OK    OK  UNNEEDED, same version is already published
machv2macOS 10.14.6 Mojave / x86_64  OK    OK    OK    OK  UNNEEDED, same version is already published

Summary

Package: fgga
Version: 1.2.0
Command: rm -rf fgga.buildbin-libdir && mkdir fgga.buildbin-libdir && /Users/biocbuild/BBS/utils/build-universal.sh fgga_1.2.0.tar.gz /Library/Frameworks/R.framework/Resources/bin/R fgga.buildbin-libdir
StartedAt: 2021-11-28 23:55:39 -0500 (Sun, 28 Nov 2021)
EndedAt: 2021-11-28 23:56:48 -0500 (Sun, 28 Nov 2021)
EllapsedTime: 68.7 seconds
RetCode: 0
Status:   OK  
PackageFile: fgga_1.2.0.tgz
PackageFileSize: 1.323 MiB

Command output

##############################################################################
##############################################################################
###
### Running command:
###
###   rm -rf fgga.buildbin-libdir && mkdir fgga.buildbin-libdir && /Users/biocbuild/BBS/utils/build-universal.sh fgga_1.2.0.tar.gz /Library/Frameworks/R.framework/Resources/bin/R fgga.buildbin-libdir
###
##############################################################################
##############################################################################


>>>>>>> 
>>>>>>> INSTALLATION WITH 'R CMD INSTALL --preclean --no-multiarch --library=fgga.buildbin-libdir fgga_1.2.0.tar.gz'
>>>>>>> 

* installing *source* package ‘fgga’ ...
** using staged installation
** R
** data
** inst
** byte-compile and prepare package for lazy loading
** help
*** installing help indices
** building package indices
** installing vignettes
** testing if installed package can be loaded from temporary location
** testing if installed package can be loaded from final location
** testing if installed package keeps a record of temporary installation path
* DONE (fgga)