Back to Multiple platform build/check report for BioC 3.14
ABCDE[F]GHIJKLMNOPQRSTUVWXYZ

This page was generated on 2021-12-03 13:04:48 -0500 (Fri, 03 Dec 2021).

INSTALL results for ffpe on nebbiolo2

To the developers/maintainers of the ffpe package:
- Please allow up to 24 hours (and sometimes 48 hours) for your latest push to git@git.bioconductor.org:packages/ffpe.git to
reflect on this report. See How and When does the builder pull? When will my changes propagate? here for more information.
- Make sure to use the following settings in order to reproduce any error or warning you see on this page.

raw results

Package 637/2083HostnameOS / ArchINSTALLBUILDCHECKBUILD BIN
ffpe 1.38.0  (landing page)
Levi Waldron
Snapshot Date: 2021-12-02 01:55:06 -0500 (Thu, 02 Dec 2021)
git_url: https://git.bioconductor.org/packages/ffpe
git_branch: RELEASE_3_14
git_last_commit: 8c9afae
git_last_commit_date: 2021-10-26 12:02:18 -0500 (Tue, 26 Oct 2021)
nebbiolo2Linux (Ubuntu 20.04.3 LTS) / x86_64  OK    OK    OK  UNNEEDED, same version is already published
tokay2Windows Server 2012 R2 Standard / x64  OK    OK    OK    OK  UNNEEDED, same version is already published
machv2macOS 10.14.6 Mojave / x86_64  OK    OK    OK    OK  UNNEEDED, same version is already published

Summary

Package: ffpe
Version: 1.38.0
Command: /home/biocbuild/bbs-3.14-bioc/R/bin/R CMD INSTALL ffpe
StartedAt: 2021-12-02 03:40:35 -0500 (Thu, 02 Dec 2021)
EndedAt: 2021-12-02 03:41:17 -0500 (Thu, 02 Dec 2021)
EllapsedTime: 41.6 seconds
RetCode: 0
Status:   OK  

Command output

##############################################################################
##############################################################################
###
### Running command:
###
###   /home/biocbuild/bbs-3.14-bioc/R/bin/R CMD INSTALL ffpe
###
##############################################################################
##############################################################################


* installing to library ‘/home/biocbuild/bbs-3.14-bioc/R/library’
* installing *source* package ‘ffpe’ ...
** using staged installation
** R
** inst
** byte-compile and prepare package for lazy loading
No methods found in package ‘RSQLite’ for request: ‘dbListFields’ when loading ‘lumi’
** help
*** installing help indices
** building package indices
** installing vignettes
** testing if installed package can be loaded from temporary location
No methods found in package ‘RSQLite’ for request: ‘dbListFields’ when loading ‘lumi’
** testing if installed package can be loaded from final location
No methods found in package ‘RSQLite’ for request: ‘dbListFields’ when loading ‘lumi’
** testing if installed package keeps a record of temporary installation path
* DONE (ffpe)