Back to Multiple platform build/check report for BioC 3.14
ABCDE[F]GHIJKLMNOPQRSTUVWXYZ

This page was generated on 2021-08-05 12:05:23 -0400 (Thu, 05 Aug 2021).

All results for package ffpe

To the developers/maintainers of the ffpe package:
- Please allow up to 24 hours (and sometimes 48 hours) for your latest push to git@git.bioconductor.org:packages/ffpe.git to
reflect on this report. See How and When does the builder pull? When will my changes propagate? here for more information.
- Make sure to use the following settings in order to reproduce any error or warning you see on this page.

raw results

Package 617/2015HostnameOS / ArchINSTALLBUILDCHECKBUILD BIN
ffpe 1.37.0  (landing page)
Levi Waldron
Snapshot Date: 2021-08-04 14:50:10 -0400 (Wed, 04 Aug 2021)
URL: https://git.bioconductor.org/packages/ffpe
Branch: master
Last Commit: 4a9b18e
Last Changed Date: 2021-05-19 11:51:39 -0400 (Wed, 19 May 2021)
nebbiolo2Linux (Ubuntu 20.04.2 LTS) / x86_64  OK    OK    OK  UNNEEDED, same version is already published
riesling1Windows Server 2019 Standard / x64  OK    OK    OK    OK  NO, package depends on 'lumi' which is not available
merida1macOS 10.14.6 Mojave / x86_64  OK    OK    OK    OK  UNNEEDED, same version is already published