Index of /checkResults/3.14/bioc-LATEST/fastseg/raw-results/tokay2

[ICO]NameLast modifiedSizeDescription

[DIR]Parent Directory  -  
[   ]buildbin-summary.dcf14-Apr-2022 01:06 539  
[TXT]buildbin-out.txt14-Apr-2022 01:06 7.6K 
[   ]checksrc-summary.dcf14-Apr-2022 01:06 468  
[TXT]checksrc-out.txt14-Apr-2022 01:06 5.5K 
[   ]buildsrc-summary.dcf14-Apr-2022 01:06 457  
[TXT]buildsrc-out.txt14-Apr-2022 01:06 937  
[   ]install-summary.dcf14-Apr-2022 01:06 640  
[TXT]install-out.txt14-Apr-2022 01:06 8.3K