Back to Multiple platform build/check report for BioC 3.14
ABCDE[F]GHIJKLMNOPQRSTUVWXYZ

This page was generated on 2022-01-17 13:06:14 -0500 (Mon, 17 Jan 2022).

HostnameOSArch (*)R versionInstalled pkgs
nebbiolo2Linux (Ubuntu 20.04.4 LTS)x86_644.1.2 (2021-11-01) -- "Bird Hippie" 4328
tokay2Windows Server 2012 R2 Standardx644.1.2 (2021-11-01) -- "Bird Hippie" 4077
machv2macOS 10.14.6 Mojavex86_644.1.2 (2021-11-01) -- "Bird Hippie" 4138
Click on any hostname to see more info about the system (e.g. compilers)      (*) as reported by 'uname -p', except on Windows and Mac OS X

CHECK results for farms on tokay2


To the developers/maintainers of the farms package:
- Please allow up to 24 hours (and sometimes 48 hours) for your latest push to git@git.bioconductor.org:packages/farms.git to
reflect on this report. See How and When does the builder pull? When will my changes propagate? here for more information.
- Make sure to use the following settings in order to reproduce any error or warning you see on this page.

raw results

Package 624/2083HostnameOS / ArchINSTALLBUILDCHECKBUILD BIN
farms 1.46.0  (landing page)
Djork-Arne Clevert
Snapshot Date: 2022-01-16 01:55:05 -0500 (Sun, 16 Jan 2022)
git_url: https://git.bioconductor.org/packages/farms
git_branch: RELEASE_3_14
git_last_commit: a3cde8d
git_last_commit_date: 2021-10-26 11:56:52 -0500 (Tue, 26 Oct 2021)
nebbiolo2Linux (Ubuntu 20.04.4 LTS) / x86_64  OK    OK    OK  UNNEEDED, same version is already published
tokay2Windows Server 2012 R2 Standard / x64  OK    OK    OK    OK  UNNEEDED, same version is already published
machv2macOS 10.14.6 Mojave / x86_64  OK    OK    OK    OK  UNNEEDED, same version is already published

Summary

Package: farms
Version: 1.46.0
Command: C:\Users\biocbuild\bbs-3.14-bioc\R\bin\R.exe CMD check --force-multiarch --install=check:farms.install-out.txt --library=C:\Users\biocbuild\bbs-3.14-bioc\R\library --no-vignettes --timings farms_1.46.0.tar.gz
StartedAt: 2022-01-16 20:32:15 -0500 (Sun, 16 Jan 2022)
EndedAt: 2022-01-16 20:33:09 -0500 (Sun, 16 Jan 2022)
EllapsedTime: 53.5 seconds
RetCode: 0
Status:   OK  
CheckDir: farms.Rcheck
Warnings: 0

Command output

##############################################################################
##############################################################################
###
### Running command:
###
###   C:\Users\biocbuild\bbs-3.14-bioc\R\bin\R.exe CMD check --force-multiarch --install=check:farms.install-out.txt --library=C:\Users\biocbuild\bbs-3.14-bioc\R\library --no-vignettes --timings farms_1.46.0.tar.gz
###
##############################################################################
##############################################################################


* using log directory 'C:/Users/biocbuild/bbs-3.14-bioc/meat/farms.Rcheck'
* using R version 4.1.2 (2021-11-01)
* using platform: x86_64-w64-mingw32 (64-bit)
* using session charset: ISO8859-1
* using option '--no-vignettes'
* checking for file 'farms/DESCRIPTION' ... OK
* checking extension type ... Package
* this is package 'farms' version '1.46.0'
* checking package namespace information ... NOTE
  Namespace with empty importFrom: 'methods'
* checking package dependencies ... OK
* checking if this is a source package ... OK
* checking if there is a namespace ... OK
* checking for hidden files and directories ... OK
* checking for portable file names ... OK
* checking whether package 'farms' can be installed ... OK
* checking installed package size ... OK
* checking package directory ... OK
* checking 'build' directory ... OK
* checking DESCRIPTION meta-information ... NOTE
Malformed Description field: should contain one or more complete sentences.
Packages listed in more than one of Depends, Imports, Suggests, Enhances:
  'affy' 'MASS' 'methods' 'Biobase'
A package should be listed in only one of these fields.
* checking top-level files ... OK
* checking for left-over files ... OK
* checking index information ... OK
* checking package subdirectories ... OK
* checking R files for non-ASCII characters ... OK
* checking R files for syntax errors ... OK
* loading checks for arch 'i386'
** checking whether the package can be loaded ... OK
** checking whether the package can be loaded with stated dependencies ... OK
** checking whether the package can be unloaded cleanly ... OK
** checking whether the namespace can be loaded with stated dependencies ... OK
** checking whether the namespace can be unloaded cleanly ... OK
* loading checks for arch 'x64'
** checking whether the package can be loaded ... OK
** checking whether the package can be loaded with stated dependencies ... OK
** checking whether the package can be unloaded cleanly ... OK
** checking whether the namespace can be loaded with stated dependencies ... OK
** checking whether the namespace can be unloaded cleanly ... OK
* checking dependencies in R code ... NOTE
'library' or 'require' calls to packages already attached by Depends:
  'affy' 'methods'
  Please remove these calls from your code.
'library' or 'require' calls in package code:
  'Biobase' 'utils'
  Please use :: or requireNamespace() instead.
  See section 'Suggested packages' in the 'Writing R Extensions' manual.
Namespaces in Imports field not imported from:
  'Biobase' 'MASS'
  All declared Imports should be used.
Package in Depends field not imported from: 'MASS'
  These packages need to be imported from (in the NAMESPACE file)
  for when this namespace is loaded but not attached.
* checking S3 generic/method consistency ... OK
* checking replacement functions ... OK
* checking foreign function calls ... OK
* checking R code for possible problems ... NOTE
File 'farms/R/zzz.R':
  .onLoad calls:
    require("methods", quietly = TRUE)
    packageStartupMessage(" _                             ", "\n",     "| |                            ", "\n", "| |  __,   ,_    _  _  _    ,  ",     "\n", "|/  /  |  /  |  / |/ |/ |  / \\_", "\n", "|__/\\_/|_/   |_/  |  |  |_/ \\/ ",     "\n", "|\\                             ", "\n", "|/   ",     "\n")
    require(utils)
    require(Biobase, quietly = TRUE)
    require(affy, quietly = TRUE)
    packageStartupMessage("Citation: S. Hochreiter et al.,", "\n",     "A new summarization method for affymetrix probe level data,",     "\n", "Bioinformatics, 22, 8, 943-949, 2006", "\n", "\n",     "Citation: W. Talloen et al.,", "\n", "I/NI-calls for the exclusion of non-informative genes: a highly effective filtering tool for microarray data,",     "\n", "Bioinformatics, 23, 21, 2897-2902, 2007", "\n", "BibTex: enter 'toBibtex(citation(\"farms\"))'",     "\n\n", "Homepage: http://www.bioinf.jku.at/software/farms/farms.html",     "\n\n", "FARMS Package Version ", version, "\n")
    packageStartupMessage("\n", "Changes in FARMS:", "\n", "For all changes previous to 1.3.0, see the farms vignette.",     "\n", "Version 1.3.0: Added I/NI-calls for filtering", "\n",     "               Adjusted Hyperparameters for alternative CDFs,",     "\n", "               probes set standardized, weighted mean",     "\n", "               Works now with R >= 2.8 and Bioconductor 2.3,",     "\n", "               Changed termination criterion, initialization values,",     "\n", "               factors and loadings scaled, added argument robust",     "\n", "               Update for R-2.11", "\n", "               Updated I/NI-Call for Laplace-FARMS version,",     "\n", "               Maximum likelihood correlation structure given",     "\n", "               non-negative constraints", "\n", "Version 1.4.0: Default centering changed to median",     "\n", "Version 1.8.x: Suppression of spurious correlation (Laplace-FARMS)",     "\n")

Package startup functions should not change the search path.
See section 'Good practice' in '?.onAttach'.

plot,INI_Calls-missing: no visible global function definition for
  'truehist'
Undefined global functions or variables:
  truehist
* checking Rd files ... OK
* checking Rd metadata ... OK
* checking Rd cross-references ... OK
* checking for missing documentation entries ... OK
* checking for code/documentation mismatches ... OK
* checking Rd \usage sections ... OK
* checking Rd contents ... OK
* checking for unstated dependencies in examples ... OK
* checking contents of 'data' directory ... OK
* checking data for non-ASCII characters ... OK
* checking data for ASCII and uncompressed saves ... OK
* checking files in 'vignettes' ... OK
* checking examples ...
** running examples for arch 'i386' ... OK
** running examples for arch 'x64' ... OK
* checking for unstated dependencies in vignettes ... OK
* checking package vignettes in 'inst/doc' ... OK
* checking running R code from vignettes ... SKIPPED
* checking re-building of vignette outputs ... SKIPPED
* checking PDF version of manual ... OK
* DONE

Status: 4 NOTEs
See
  'C:/Users/biocbuild/bbs-3.14-bioc/meat/farms.Rcheck/00check.log'
for details.



Installation output

farms.Rcheck/00install.out

##############################################################################
##############################################################################
###
### Running command:
###
###   C:\cygwin\bin\curl.exe -O http://155.52.207.166/BBS/3.14/bioc/src/contrib/farms_1.46.0.tar.gz && rm -rf farms.buildbin-libdir && mkdir farms.buildbin-libdir && C:\Users\biocbuild\bbs-3.14-bioc\R\bin\R.exe CMD INSTALL --merge-multiarch --build --library=farms.buildbin-libdir farms_1.46.0.tar.gz && C:\Users\biocbuild\bbs-3.14-bioc\R\bin\R.exe CMD INSTALL farms_1.46.0.zip && rm farms_1.46.0.tar.gz farms_1.46.0.zip
###
##############################################################################
##############################################################################


  % Total    % Received % Xferd  Average Speed   Time    Time     Time  Current
                                 Dload  Upload   Total   Spent    Left  Speed

  0     0    0     0    0     0      0      0 --:--:-- --:--:-- --:--:--     0
100 92273  100 92273    0     0   826k      0 --:--:-- --:--:-- --:--:--  834k

install for i386

* installing *source* package 'farms' ...
** using staged installation
** R
** data
** inst
** byte-compile and prepare package for lazy loading
** help
*** installing help indices
  converting help for package 'farms'
    finding HTML links ... done
    INI_Calls-class                         html  
    INIcalls-methods                        html  
    dummy                                   html  
    expFarms                                html  
    generateExprVal.method.farms            html  
    getI_Eset-methods                       html  
    getI_ProbeSets-methods                  html  
    getNI_Eset-methods                      html  
    getNI_ProbeSets-methods                 html  
    lFarms                                  html  
    plot-methods                            html  
    qFarms                                  html  
    summary-methods                         html  
    testAffyBatch                           html  
** building package indices
** installing vignettes
** testing if installed package can be loaded from temporary location
** testing if installed package can be loaded from final location
** testing if installed package keeps a record of temporary installation path

install for x64

* installing *source* package 'farms' ...
** testing if installed package can be loaded
* MD5 sums
packaged installation of 'farms' as farms_1.46.0.zip
* DONE (farms)
* installing to library 'C:/Users/biocbuild/bbs-3.14-bioc/R/library'
package 'farms' successfully unpacked and MD5 sums checked

Tests output


Example timings

farms.Rcheck/examples_i386/farms-Ex.timings

nameusersystemelapsed
INI_Calls-class0.120.000.12
INIcalls-methods0.150.000.16
expFarms0.030.000.03
generateExprVal.method.farms000
getI_Eset-methods0.030.000.03
getI_ProbeSets-methods0.030.000.03
getNI_Eset-methods0.040.000.05
getNI_ProbeSets-methods0.040.000.03
lFarms0.030.020.05
plot-methods0.030.010.04
qFarms0.010.000.02
summary-methods0.050.000.05

farms.Rcheck/examples_x64/farms-Ex.timings

nameusersystemelapsed
INI_Calls-class0.140.000.14
INIcalls-methods0.190.000.19
expFarms0.030.000.03
generateExprVal.method.farms000
getI_Eset-methods0.030.020.05
getI_ProbeSets-methods0.030.000.03
getNI_Eset-methods0.030.000.03
getNI_ProbeSets-methods0.030.010.04
lFarms0.030.000.04
plot-methods0.040.000.03
qFarms0.010.020.03
summary-methods0.050.000.04