Back to Multiple platform build/check report for BioC 3.14
ABCDE[F]GHIJKLMNOPQRSTUVWXYZ

This page was generated on 2022-01-21 13:06:18 -0500 (Fri, 21 Jan 2022).

HostnameOSArch (*)R versionInstalled pkgs
nebbiolo2Linux (Ubuntu 20.04.4 LTS)x86_644.1.2 (2021-11-01) -- "Bird Hippie" 4329
tokay2Windows Server 2012 R2 Standardx644.1.2 (2021-11-01) -- "Bird Hippie" 4079
machv2macOS 10.14.6 Mojavex86_644.1.2 (2021-11-01) -- "Bird Hippie" 4140
Click on any hostname to see more info about the system (e.g. compilers)      (*) as reported by 'uname -p', except on Windows and Mac OS X

BUILD BIN results for fabia on tokay2


To the developers/maintainers of the fabia package:
- Please allow up to 24 hours (and sometimes 48 hours) for your latest push to git@git.bioconductor.org:packages/fabia.git to
reflect on this report. See How and When does the builder pull? When will my changes propagate? here for more information.
- Make sure to use the following settings in order to reproduce any error or warning you see on this page.

raw results

Package 620/2083HostnameOS / ArchINSTALLBUILDCHECKBUILD BIN
fabia 2.40.0  (landing page)
Andreas Mitterecker
Snapshot Date: 2022-01-20 01:55:04 -0500 (Thu, 20 Jan 2022)
git_url: https://git.bioconductor.org/packages/fabia
git_branch: RELEASE_3_14
git_last_commit: e5cd3a4
git_last_commit_date: 2021-10-26 11:56:21 -0500 (Tue, 26 Oct 2021)
nebbiolo2Linux (Ubuntu 20.04.4 LTS) / x86_64  OK    OK    OK  UNNEEDED, same version is already published
tokay2Windows Server 2012 R2 Standard / x64  OK    OK    OK    OK  UNNEEDED, same version is already published
machv2macOS 10.14.6 Mojave / x86_64  OK    OK    OK    OK  UNNEEDED, same version is already published

Summary

Package: fabia
Version: 2.40.0
Command: rm -rf fabia.buildbin-libdir && mkdir fabia.buildbin-libdir && C:\Users\biocbuild\bbs-3.14-bioc\R\bin\R.exe CMD INSTALL --merge-multiarch --build --library=fabia.buildbin-libdir fabia_2.40.0.tar.gz
StartedAt: 2022-01-21 06:06:55 -0500 (Fri, 21 Jan 2022)
EndedAt: 2022-01-21 06:07:26 -0500 (Fri, 21 Jan 2022)
EllapsedTime: 31.5 seconds
RetCode: 0
Status:   OK  
PackageFile: fabia_2.40.0.zip
PackageFileSize: 1.202 MiB

Command output

##############################################################################
##############################################################################
###
### Running command:
###
###   rm -rf fabia.buildbin-libdir && mkdir fabia.buildbin-libdir && C:\Users\biocbuild\bbs-3.14-bioc\R\bin\R.exe CMD INSTALL --merge-multiarch --build --library=fabia.buildbin-libdir fabia_2.40.0.tar.gz
###
##############################################################################
##############################################################################



install for i386

* installing *source* package 'fabia' ...
** using staged installation
** libs
  running 'src/Makefile.win' ...
rm -f fabia.o fabia.dll *.a *.o *.so *.dll
"C:/rtools40/mingw32/bin/"gcc  -c fabiac.c -o fabia.o -I"C:/Users/BIOCBU~1/BBS-3~1.14-/R/include" -Wall -O3
"C:/rtools40/mingw32/bin/"gcc  -shared -s -static-libgcc fabia.o -L"C:/Users/BIOCBU~1/BBS-3~1.14-/R/bin/i386"  -lR  -o fabia.dll 
rm -f fabia.o *.a *.o *.so
installing to C:/Users/biocbuild/bbs-3.14-bioc/meat/fabia.buildbin-libdir/00LOCK-fabia/00new/fabia/libs/i386
** R
** demo
** inst
** byte-compile and prepare package for lazy loading
** help
*** installing help indices
  converting help for package 'fabia'
    finding HTML links ... done
    Factorization-class                     html  
REDIRECT:topic	 Previous alias or file overwritten by alias: C:/Users/biocbuild/bbs-3.14-bioc/meat/fabia.buildbin-libdir/00LOCK-fabia/00new/fabia/help/L.html
REDIRECT:topic	 Previous alias or file overwritten by alias: C:/Users/biocbuild/bbs-3.14-bioc/meat/fabia.buildbin-libdir/00LOCK-fabia/00new/fabia/help/L+2CFactorization-method.html
REDIRECT:topic	 Previous alias or file overwritten by alias: C:/Users/biocbuild/bbs-3.14-bioc/meat/fabia.buildbin-libdir/00LOCK-fabia/00new/fabia/help/L+3C-.html
    estimateMode                            html  
    extractBic                              html  
    extractPlot                             html  
    fabi                                    html  
    fabia                                   html  
    fabiaDemo                               html  
    fabiaVersion                            html  
    fabiap                                  html  
    fabias                                  html  
    fabiasp                                 html  
    makeFabiaData                           html  
    makeFabiaDataBlocks                     html  
    makeFabiaDataBlocksPos                  html  
    makeFabiaDataPos                        html  
    matrixImagePlot                         html  
    mfsc                                    html  
    nmfdiv                                  html  
    nmfeu                                   html  
    nmfsc                                   html  
    plotBicluster                           html  
    projFunc                                html  
    projFuncPos                             html  
    readSamplesSpfabia                      html  
    readSpfabiaResult                       html  
    samplesPerFeature                       html  
    spfabia                                 html  
** building package indices
** installing vignettes
** testing if installed package can be loaded from temporary location
** testing if installed package can be loaded from final location
** testing if installed package keeps a record of temporary installation path

install for x64

* installing *source* package 'fabia' ...
** libs
  running 'src/Makefile.win' ...
rm -f fabia.o fabia.dll *.a *.o *.so *.dll
"C:/rtools40/mingw64/bin/"gcc  -c fabiac.c -o fabia.o -I"C:/Users/BIOCBU~1/BBS-3~1.14-/R/include" -Wall -O3
"C:/rtools40/mingw64/bin/"gcc  -shared -s -static-libgcc fabia.o -L"C:/Users/BIOCBU~1/BBS-3~1.14-/R/bin/x64"  -lR  -o fabia.dll 
rm -f fabia.o *.a *.o *.so
installing to C:/Users/biocbuild/bbs-3.14-bioc/meat/fabia.buildbin-libdir/fabia/libs/x64
** testing if installed package can be loaded
* MD5 sums
packaged installation of 'fabia' as fabia_2.40.0.zip
* DONE (fabia)