Back to Multiple platform build/check report for BioC 3.14
ABCDE[F]GHIJKLMNOPQRSTUVWXYZ

This page was generated on 2021-12-01 17:18:17 -0500 (Wed, 01 Dec 2021).

BUILD BIN results for fabia on machv2

To the developers/maintainers of the fabia package:
- Please allow up to 24 hours (and sometimes 48 hours) for your latest push to git@git.bioconductor.org:packages/fabia.git to
reflect on this report. See How and When does the builder pull? When will my changes propagate? here for more information.
- Make sure to use the following settings in order to reproduce any error or warning you see on this page.

raw results

Package 620/2083HostnameOS / ArchINSTALLBUILDCHECKBUILD BIN
fabia 2.40.0  (landing page)
Andreas Mitterecker
Snapshot Date: 2021-11-30 04:15:05 -0500 (Tue, 30 Nov 2021)
git_url: https://git.bioconductor.org/packages/fabia
git_branch: RELEASE_3_14
git_last_commit: e5cd3a4
git_last_commit_date: 2021-10-26 11:56:21 -0500 (Tue, 26 Oct 2021)
nebbiolo2Linux (Ubuntu 20.04.3 LTS) / x86_64  OK    OK    OK  UNNEEDED, same version is already published
tokay2Windows Server 2012 R2 Standard / x64  OK    OK    OK    OK  UNNEEDED, same version is already published
machv2macOS 10.14.6 Mojave / x86_64  OK    OK    OK    OK  UNNEEDED, same version is already published

Summary

Package: fabia
Version: 2.40.0
Command: rm -rf fabia.buildbin-libdir && mkdir fabia.buildbin-libdir && /Users/biocbuild/BBS/utils/build-universal.sh fabia_2.40.0.tar.gz /Library/Frameworks/R.framework/Resources/bin/R fabia.buildbin-libdir
StartedAt: 2021-12-01 00:05:11 -0500 (Wed, 01 Dec 2021)
EndedAt: 2021-12-01 00:06:24 -0500 (Wed, 01 Dec 2021)
EllapsedTime: 73.2 seconds
RetCode: 0
Status:   OK  
PackageFile: fabia_2.40.0.tgz
PackageFileSize: 1.115 MiB

Command output

##############################################################################
##############################################################################
###
### Running command:
###
###   rm -rf fabia.buildbin-libdir && mkdir fabia.buildbin-libdir && /Users/biocbuild/BBS/utils/build-universal.sh fabia_2.40.0.tar.gz /Library/Frameworks/R.framework/Resources/bin/R fabia.buildbin-libdir
###
##############################################################################
##############################################################################


>>>>>>> 
>>>>>>> INSTALLATION WITH 'R CMD INSTALL --preclean --no-multiarch --library=fabia.buildbin-libdir fabia_2.40.0.tar.gz'
>>>>>>> 

* installing *source* package ‘fabia’ ...
** using staged installation
** libs
clang -mmacosx-version-min=10.13 -I"/Library/Frameworks/R.framework/Resources/include" -DNDEBUG   -I/usr/local/include   -fPIC  -Wall -g -O2  -c fabiac.c -o fabiac.o
clang -mmacosx-version-min=10.13 -dynamiclib -Wl,-headerpad_max_install_names -undefined dynamic_lookup -single_module -multiply_defined suppress -L/Library/Frameworks/R.framework/Resources/lib -L/usr/local/lib -o fabia.so fabiac.o -F/Library/Frameworks/R.framework/.. -framework R -Wl,-framework -Wl,CoreFoundation
installing to /Users/biocbuild/bbs-3.14-bioc/meat/fabia.buildbin-libdir/00LOCK-fabia/00new/fabia/libs
** R
** demo
** inst
** byte-compile and prepare package for lazy loading
** help
*** installing help indices
** building package indices
** installing vignettes
** testing if installed package can be loaded from temporary location
** checking absolute paths in shared objects and dynamic libraries
** testing if installed package can be loaded from final location
** testing if installed package keeps a record of temporary installation path
* DONE (fabia)


>>>>>>> 
>>>>>>> FIXING LINKS FOR fabia.buildbin-libdir/fabia/libs/fabia.so
>>>>>>> 

install_name_tool -change "/usr/local/lib/libgcc_s.1.dylib" "/Library/Frameworks/R.framework/Versions/4.1/Resources/lib/libgcc_s.1.dylib" "fabia.buildbin-libdir/fabia/libs/fabia.so"
install_name_tool -change "/usr/local/lib/libgfortran.5.dylib" "/Library/Frameworks/R.framework/Versions/4.1/Resources/lib/libgfortran.5.dylib" "fabia.buildbin-libdir/fabia/libs/fabia.so"
install_name_tool -change "/usr/local/lib/libquadmath.0.dylib" "/Library/Frameworks/R.framework/Versions/4.1/Resources/lib/libquadmath.0.dylib" "fabia.buildbin-libdir/fabia/libs/fabia.so"