Back to Multiple platform build/check report for BioC 3.14
ABCD[E]FGHIJKLMNOPQRSTUVWXYZ

This page was generated on 2022-01-21 13:06:18 -0500 (Fri, 21 Jan 2022).

HostnameOSArch (*)R versionInstalled pkgs
nebbiolo2Linux (Ubuntu 20.04.4 LTS)x86_644.1.2 (2021-11-01) -- "Bird Hippie" 4329
tokay2Windows Server 2012 R2 Standardx644.1.2 (2021-11-01) -- "Bird Hippie" 4079
machv2macOS 10.14.6 Mojavex86_644.1.2 (2021-11-01) -- "Bird Hippie" 4140
Click on any hostname to see more info about the system (e.g. compilers)      (*) as reported by 'uname -p', except on Windows and Mac OS X

BUILD results for exomePeak2 on tokay2


To the developers/maintainers of the exomePeak2 package:
- Please allow up to 24 hours (and sometimes 48 hours) for your latest push to git@git.bioconductor.org:packages/exomePeak2.git to
reflect on this report. See How and When does the builder pull? When will my changes propagate? here for more information.
- Make sure to use the following settings in order to reproduce any error or warning you see on this page.

raw results

Package 614/2083HostnameOS / ArchINSTALLBUILDCHECKBUILD BIN
exomePeak2 1.6.1  (landing page)
Zhen Wei
Snapshot Date: 2022-01-20 01:55:04 -0500 (Thu, 20 Jan 2022)
git_url: https://git.bioconductor.org/packages/exomePeak2
git_branch: RELEASE_3_14
git_last_commit: 6269c12
git_last_commit_date: 2021-12-10 02:57:09 -0500 (Fri, 10 Dec 2021)
nebbiolo2Linux (Ubuntu 20.04.4 LTS) / x86_64  OK    OK    WARNINGS  UNNEEDED, same version is already published
tokay2Windows Server 2012 R2 Standard / x64  OK    OK    WARNINGS    OK  UNNEEDED, same version is already published
machv2macOS 10.14.6 Mojave / x86_64  OK    OK    WARNINGS    OK  UNNEEDED, same version is already published

Summary

Package: exomePeak2
Version: 1.6.1
Command: chmod a+r exomePeak2 -R && C:\Users\biocbuild\bbs-3.14-bioc\R\bin\R.exe CMD build --keep-empty-dirs --no-resave-data exomePeak2
StartedAt: 2022-01-20 10:45:51 -0500 (Thu, 20 Jan 2022)
EndedAt: 2022-01-20 10:53:35 -0500 (Thu, 20 Jan 2022)
EllapsedTime: 464.2 seconds
RetCode: 0
Status:   OK  
PackageFile: exomePeak2_1.6.1.tar.gz
PackageFileSize: 2.384 MiB

Command output

##############################################################################
##############################################################################
###
### Running command:
###
###   chmod a+r exomePeak2 -R && C:\Users\biocbuild\bbs-3.14-bioc\R\bin\R.exe CMD build --keep-empty-dirs --no-resave-data exomePeak2
###
##############################################################################
##############################################################################


* checking for file 'exomePeak2/DESCRIPTION' ... OK
* preparing 'exomePeak2':
* checking DESCRIPTION meta-information ... OK
* installing the package to build vignettes
* creating vignettes ... OK
* checking for LF line-endings in source and make files and shell scripts
* checking for empty or unneeded directories
Omitted 'LazyData' from DESCRIPTION
  NB: this package now depends on R (>= 3.5.0)
  WARNING: Added dependency on R >= 3.5.0 because serialized objects in
  serialize/load version 3 cannot be read in older versions of R.
  File(s) containing such objects:
    'exomePeak2/inst/extdata/mod_annot.rds'
    'exomePeak2/inst/extdata/sep_ex_dm.rds'
    'exomePeak2/inst/extdata/sep_ex_mod.rds'
* building 'exomePeak2_1.6.1.tar.gz'