Back to Multiple platform build/check report for BioC 3.14
ABCD[E]FGHIJKLMNOPQRSTUVWXYZ

This page was generated on 2022-01-14 13:06:21 -0500 (Fri, 14 Jan 2022).

HostnameOSArch (*)R versionInstalled pkgs
nebbiolo2Linux (Ubuntu 20.04.4 LTS)x86_644.1.2 (2021-11-01) -- "Bird Hippie" 4327
tokay2Windows Server 2012 R2 Standardx644.1.2 (2021-11-01) -- "Bird Hippie" 4076
machv2macOS 10.14.6 Mojavex86_644.1.2 (2021-11-01) -- "Bird Hippie" 4137
Click on any hostname to see more info about the system (e.g. compilers)      (*) as reported by 'uname -p', except on Windows and Mac OS X

INSTALL results for esetVis on tokay2


To the developers/maintainers of the esetVis package:
- Please allow up to 24 hours (and sometimes 48 hours) for your latest push to git@git.bioconductor.org:packages/esetVis.git to
reflect on this report. See How and When does the builder pull? When will my changes propagate? here for more information.
- Make sure to use the following settings in order to reproduce any error or warning you see on this page.

raw results

Package 606/2083HostnameOS / ArchINSTALLBUILDCHECKBUILD BIN
esetVis 1.20.0  (landing page)
Laure Cougnaud
Snapshot Date: 2022-01-13 01:55:04 -0500 (Thu, 13 Jan 2022)
git_url: https://git.bioconductor.org/packages/esetVis
git_branch: RELEASE_3_14
git_last_commit: 25993b9
git_last_commit_date: 2021-10-26 12:28:34 -0500 (Tue, 26 Oct 2021)
nebbiolo2Linux (Ubuntu 20.04.4 LTS) / x86_64  OK    OK    OK  UNNEEDED, same version is already published
tokay2Windows Server 2012 R2 Standard / x64  OK    OK    OK    OK  UNNEEDED, same version is already published
machv2macOS 10.14.6 Mojave / x86_64  OK    OK    OK    OK  UNNEEDED, same version is already published

Summary

Package: esetVis
Version: 1.20.0
Command: C:\cygwin\bin\curl.exe -O http://155.52.207.166/BBS/3.14/bioc/src/contrib/esetVis_1.20.0.tar.gz && rm -rf esetVis.buildbin-libdir && mkdir esetVis.buildbin-libdir && C:\Users\biocbuild\bbs-3.14-bioc\R\bin\R.exe CMD INSTALL --merge-multiarch --build --library=esetVis.buildbin-libdir esetVis_1.20.0.tar.gz && C:\Users\biocbuild\bbs-3.14-bioc\R\bin\R.exe CMD INSTALL esetVis_1.20.0.zip && rm esetVis_1.20.0.tar.gz esetVis_1.20.0.zip
StartedAt: 2022-01-13 04:49:41 -0500 (Thu, 13 Jan 2022)
EndedAt: 2022-01-13 04:51:14 -0500 (Thu, 13 Jan 2022)
EllapsedTime: 93.0 seconds
RetCode: 0
Status:   OK  

Command output

##############################################################################
##############################################################################
###
### Running command:
###
###   C:\cygwin\bin\curl.exe -O http://155.52.207.166/BBS/3.14/bioc/src/contrib/esetVis_1.20.0.tar.gz && rm -rf esetVis.buildbin-libdir && mkdir esetVis.buildbin-libdir && C:\Users\biocbuild\bbs-3.14-bioc\R\bin\R.exe CMD INSTALL --merge-multiarch --build --library=esetVis.buildbin-libdir esetVis_1.20.0.tar.gz && C:\Users\biocbuild\bbs-3.14-bioc\R\bin\R.exe CMD INSTALL esetVis_1.20.0.zip && rm esetVis_1.20.0.tar.gz esetVis_1.20.0.zip
###
##############################################################################
##############################################################################


  % Total    % Received % Xferd  Average Speed   Time    Time     Time  Current
                                 Dload  Upload   Total   Spent    Left  Speed

  0     0    0     0    0     0      0      0 --:--:-- --:--:-- --:--:--     0
100 41304  100 41304    0     0   378k      0 --:--:-- --:--:-- --:--:--  380k

install for i386

* installing *source* package 'esetVis' ...
** using staged installation
** R
** inst
** byte-compile and prepare package for lazy loading
** help
*** installing help indices
  converting help for package 'esetVis'
    finding HTML links ... done
    characterORexpressionOrCall-class       html  
    esetLda                                 html  
    finding level-2 HTML links ... done

    esetPlot-class                          html  
    esetPlotInteractive-class               html  
    esetPlotWrapper                         html  
    esetSpectralMap                         html  
    esetTsne                                html  
    formatManualScale                       html  
    formatOutput                            html  
    getAxesLimits-methods                   html  
    getCoordGeneSets                        html  
    getDataPlotSamplesWithAnnotation-methods
                                            html  
    getGeneSetsForPlot                      html  
    getMethodsInputObjectEsetVis            html  
    ggPlotEset                              html  
    ggplotEsetPlot-class                    html  
    ggvisEsetPlot-class                     html  
    ggvisPlotEset                           html  
    plotEset-methods                        html  
    plotTopElements                         html  
    rbokehEsetPlot-class                    html  
    rbokehPlotEset                          html  
    setFixElement                           html  
    setManualScale                          html  
    simpleCap                               html  
** building package indices
** installing vignettes
** testing if installed package can be loaded from temporary location
** testing if installed package can be loaded from final location
** testing if installed package keeps a record of temporary installation path

install for x64

* installing *source* package 'esetVis' ...
** testing if installed package can be loaded
* MD5 sums
packaged installation of 'esetVis' as esetVis_1.20.0.zip
* DONE (esetVis)
* installing to library 'C:/Users/biocbuild/bbs-3.14-bioc/R/library'
package 'esetVis' successfully unpacked and MD5 sums checked