Back to Multiple platform build/check report for BioC 3.14
ABCD[E]FGHIJKLMNOPQRSTUVWXYZ

This page was generated on 2022-01-21 13:06:18 -0500 (Fri, 21 Jan 2022).

HostnameOSArch (*)R versionInstalled pkgs
nebbiolo2Linux (Ubuntu 20.04.4 LTS)x86_644.1.2 (2021-11-01) -- "Bird Hippie" 4329
tokay2Windows Server 2012 R2 Standardx644.1.2 (2021-11-01) -- "Bird Hippie" 4079
machv2macOS 10.14.6 Mojavex86_644.1.2 (2021-11-01) -- "Bird Hippie" 4140
Click on any hostname to see more info about the system (e.g. compilers)      (*) as reported by 'uname -p', except on Windows and Mac OS X

CHECK results for esetVis on tokay2


To the developers/maintainers of the esetVis package:
- Please allow up to 24 hours (and sometimes 48 hours) for your latest push to git@git.bioconductor.org:packages/esetVis.git to
reflect on this report. See How and When does the builder pull? When will my changes propagate? here for more information.
- Make sure to use the following settings in order to reproduce any error or warning you see on this page.

raw results

Package 606/2083HostnameOS / ArchINSTALLBUILDCHECKBUILD BIN
esetVis 1.20.0  (landing page)
Laure Cougnaud
Snapshot Date: 2022-01-20 01:55:04 -0500 (Thu, 20 Jan 2022)
git_url: https://git.bioconductor.org/packages/esetVis
git_branch: RELEASE_3_14
git_last_commit: 25993b9
git_last_commit_date: 2021-10-26 12:28:34 -0500 (Tue, 26 Oct 2021)
nebbiolo2Linux (Ubuntu 20.04.4 LTS) / x86_64  OK    OK    OK  UNNEEDED, same version is already published
tokay2Windows Server 2012 R2 Standard / x64  OK    OK    OK    OK  UNNEEDED, same version is already published
machv2macOS 10.14.6 Mojave / x86_64  OK    OK    OK    OK  UNNEEDED, same version is already published

Summary

Package: esetVis
Version: 1.20.0
Command: C:\Users\biocbuild\bbs-3.14-bioc\R\bin\R.exe CMD check --force-multiarch --install=check:esetVis.install-out.txt --library=C:\Users\biocbuild\bbs-3.14-bioc\R\library --no-vignettes --timings esetVis_1.20.0.tar.gz
StartedAt: 2022-01-20 19:33:17 -0500 (Thu, 20 Jan 2022)
EndedAt: 2022-01-20 19:37:49 -0500 (Thu, 20 Jan 2022)
EllapsedTime: 272.2 seconds
RetCode: 0
Status:   OK  
CheckDir: esetVis.Rcheck
Warnings: 0

Command output

##############################################################################
##############################################################################
###
### Running command:
###
###   C:\Users\biocbuild\bbs-3.14-bioc\R\bin\R.exe CMD check --force-multiarch --install=check:esetVis.install-out.txt --library=C:\Users\biocbuild\bbs-3.14-bioc\R\library --no-vignettes --timings esetVis_1.20.0.tar.gz
###
##############################################################################
##############################################################################


* using log directory 'C:/Users/biocbuild/bbs-3.14-bioc/meat/esetVis.Rcheck'
* using R version 4.1.2 (2021-11-01)
* using platform: x86_64-w64-mingw32 (64-bit)
* using session charset: ISO8859-1
* using option '--no-vignettes'
* checking for file 'esetVis/DESCRIPTION' ... OK
* checking extension type ... Package
* this is package 'esetVis' version '1.20.0'
* checking package namespace information ... OK
* checking package dependencies ... OK
* checking if this is a source package ... OK
* checking if there is a namespace ... OK
* checking for hidden files and directories ... OK
* checking for portable file names ... OK
* checking whether package 'esetVis' can be installed ... OK
* checking installed package size ... OK
* checking package directory ... OK
* checking 'build' directory ... OK
* checking DESCRIPTION meta-information ... OK
* checking top-level files ... OK
* checking for left-over files ... OK
* checking index information ... OK
* checking package subdirectories ... OK
* checking R files for non-ASCII characters ... OK
* checking R files for syntax errors ... OK
* loading checks for arch 'i386'
** checking whether the package can be loaded ... OK
** checking whether the package can be loaded with stated dependencies ... OK
** checking whether the package can be unloaded cleanly ... OK
** checking whether the namespace can be loaded with stated dependencies ... OK
** checking whether the namespace can be unloaded cleanly ... OK
* loading checks for arch 'x64'
** checking whether the package can be loaded ... OK
** checking whether the package can be loaded with stated dependencies ... OK
** checking whether the package can be unloaded cleanly ... OK
** checking whether the namespace can be loaded with stated dependencies ... OK
** checking whether the namespace can be unloaded cleanly ... OK
* checking dependencies in R code ... OK
* checking S3 generic/method consistency ... OK
* checking replacement functions ... OK
* checking foreign function calls ... OK
* checking R code for possible problems ... NOTE
ggvisPlotEset: no visible global function definition for ':='
ggvisPlotEset: no visible binding for global variable 'fill'
ggvisPlotEset: no visible binding for global variable 'shape'
ggvisPlotEset: no visible binding for global variable 'size'
ggvisPlotEset: no visible binding for global variable 'opacity'
Undefined global functions or variables:
  := fill opacity shape size
* checking Rd files ... OK
* checking Rd metadata ... OK
* checking Rd cross-references ... OK
* checking for missing documentation entries ... OK
* checking for code/documentation mismatches ... OK
* checking Rd \usage sections ... OK
* checking Rd contents ... OK
* checking for unstated dependencies in examples ... OK
* checking files in 'vignettes' ... OK
* checking examples ...
** running examples for arch 'i386' ... OK
Examples with CPU (user + system) or elapsed time > 5s
                    user system elapsed
getGeneSetsForPlot 48.80   3.71   52.50
esetLda             6.06   0.33    6.39
esetPlotWrapper     5.10   0.31    5.41
** running examples for arch 'x64' ... OK
Examples with CPU (user + system) or elapsed time > 5s
                    user system elapsed
getGeneSetsForPlot 46.82   1.47   48.30
esetLda             5.23   0.21    5.44
* checking for unstated dependencies in vignettes ... OK
* checking package vignettes in 'inst/doc' ... OK
* checking running R code from vignettes ... SKIPPED
* checking re-building of vignette outputs ... SKIPPED
* checking PDF version of manual ... OK
* DONE

Status: 1 NOTE
See
  'C:/Users/biocbuild/bbs-3.14-bioc/meat/esetVis.Rcheck/00check.log'
for details.



Installation output

esetVis.Rcheck/00install.out

##############################################################################
##############################################################################
###
### Running command:
###
###   C:\cygwin\bin\curl.exe -O http://155.52.207.166/BBS/3.14/bioc/src/contrib/esetVis_1.20.0.tar.gz && rm -rf esetVis.buildbin-libdir && mkdir esetVis.buildbin-libdir && C:\Users\biocbuild\bbs-3.14-bioc\R\bin\R.exe CMD INSTALL --merge-multiarch --build --library=esetVis.buildbin-libdir esetVis_1.20.0.tar.gz && C:\Users\biocbuild\bbs-3.14-bioc\R\bin\R.exe CMD INSTALL esetVis_1.20.0.zip && rm esetVis_1.20.0.tar.gz esetVis_1.20.0.zip
###
##############################################################################
##############################################################################


  % Total    % Received % Xferd  Average Speed   Time    Time     Time  Current
                                 Dload  Upload   Total   Spent    Left  Speed

  0     0    0     0    0     0      0      0 --:--:-- --:--:-- --:--:--     0
100 41304  100 41304    0     0   266k      0 --:--:-- --:--:-- --:--:--  268k

install for i386

* installing *source* package 'esetVis' ...
** using staged installation
** R
** inst
** byte-compile and prepare package for lazy loading
** help
*** installing help indices
  converting help for package 'esetVis'
    finding HTML links ... done
    characterORexpressionOrCall-class       html  
    esetLda                                 html  
    finding level-2 HTML links ... done

    esetPlot-class                          html  
    esetPlotInteractive-class               html  
    esetPlotWrapper                         html  
    esetSpectralMap                         html  
    esetTsne                                html  
    formatManualScale                       html  
    formatOutput                            html  
    getAxesLimits-methods                   html  
    getCoordGeneSets                        html  
    getDataPlotSamplesWithAnnotation-methods
                                            html  
    getGeneSetsForPlot                      html  
    getMethodsInputObjectEsetVis            html  
    ggPlotEset                              html  
    ggplotEsetPlot-class                    html  
    ggvisEsetPlot-class                     html  
    ggvisPlotEset                           html  
    plotEset-methods                        html  
    plotTopElements                         html  
    rbokehEsetPlot-class                    html  
    rbokehPlotEset                          html  
    setFixElement                           html  
    setManualScale                          html  
    simpleCap                               html  
** building package indices
** installing vignettes
** testing if installed package can be loaded from temporary location
** testing if installed package can be loaded from final location
** testing if installed package keeps a record of temporary installation path

install for x64

* installing *source* package 'esetVis' ...
** testing if installed package can be loaded
* MD5 sums
packaged installation of 'esetVis' as esetVis_1.20.0.zip
* DONE (esetVis)
* installing to library 'C:/Users/biocbuild/bbs-3.14-bioc/R/library'
package 'esetVis' successfully unpacked and MD5 sums checked

Tests output


Example timings

esetVis.Rcheck/examples_i386/esetVis-Ex.timings

nameusersystemelapsed
esetLda6.060.336.39
esetPlotWrapper5.100.315.41
esetSpectralMap3.710.193.90
esetTsne3.450.123.57
getGeneSetsForPlot48.80 3.7152.50

esetVis.Rcheck/examples_x64/esetVis-Ex.timings

nameusersystemelapsed
esetLda5.230.215.44
esetPlotWrapper4.500.264.77
esetSpectralMap4.090.194.28
esetTsne3.050.033.08
getGeneSetsForPlot46.82 1.4748.30