Back to Multiple platform build/check report for BioC 3.14
ABCD[E]FGHIJKLMNOPQRSTUVWXYZ

This page was generated on 2022-01-26 13:06:32 -0500 (Wed, 26 Jan 2022).

HostnameOSArch (*)R versionInstalled pkgs
nebbiolo2Linux (Ubuntu 20.04.4 LTS)x86_644.1.2 (2021-11-01) -- "Bird Hippie" 4329
tokay2Windows Server 2012 R2 Standardx644.1.2 (2021-11-01) -- "Bird Hippie" 4080
machv2macOS 10.14.6 Mojavex86_644.1.2 (2021-11-01) -- "Bird Hippie" 4141
Click on any hostname to see more info about the system (e.g. compilers)      (*) as reported by 'uname -p', except on Windows and Mac OS X

INSTALL results for erma on tokay2


To the developers/maintainers of the erma package:
- Please allow up to 24 hours (and sometimes 48 hours) for your latest push to git@git.bioconductor.org:packages/erma.git to
reflect on this report. See How and When does the builder pull? When will my changes propagate? here for more information.
- Make sure to use the following settings in order to reproduce any error or warning you see on this page.

raw results

Package 602/2083HostnameOS / ArchINSTALLBUILDCHECKBUILD BIN
erma 1.10.0  (landing page)
VJ Carey
Snapshot Date: 2022-01-25 01:55:07 -0500 (Tue, 25 Jan 2022)
git_url: https://git.bioconductor.org/packages/erma
git_branch: RELEASE_3_14
git_last_commit: 8ff4f3c
git_last_commit_date: 2021-10-26 12:21:07 -0500 (Tue, 26 Oct 2021)
nebbiolo2Linux (Ubuntu 20.04.4 LTS) / x86_64  OK    OK    OK  UNNEEDED, same version is already published
tokay2Windows Server 2012 R2 Standard / x64  OK    OK    OK    OK  UNNEEDED, same version is already published
machv2macOS 10.14.6 Mojave / x86_64  OK    OK    OK    OK  UNNEEDED, same version is already published

Summary

Package: erma
Version: 1.10.0
Command: C:\cygwin\bin\curl.exe -O http://155.52.207.166/BBS/3.14/bioc/src/contrib/erma_1.10.0.tar.gz && rm -rf erma.buildbin-libdir && mkdir erma.buildbin-libdir && C:\Users\biocbuild\bbs-3.14-bioc\R\bin\R.exe CMD INSTALL --merge-multiarch --build --library=erma.buildbin-libdir erma_1.10.0.tar.gz && C:\Users\biocbuild\bbs-3.14-bioc\R\bin\R.exe CMD INSTALL erma_1.10.0.zip && rm erma_1.10.0.tar.gz erma_1.10.0.zip
StartedAt: 2022-01-25 07:06:45 -0500 (Tue, 25 Jan 2022)
EndedAt: 2022-01-25 07:12:59 -0500 (Tue, 25 Jan 2022)
EllapsedTime: 374.0 seconds
RetCode: 0
Status:   OK  

Command output

##############################################################################
##############################################################################
###
### Running command:
###
###   C:\cygwin\bin\curl.exe -O http://155.52.207.166/BBS/3.14/bioc/src/contrib/erma_1.10.0.tar.gz && rm -rf erma.buildbin-libdir && mkdir erma.buildbin-libdir && C:\Users\biocbuild\bbs-3.14-bioc\R\bin\R.exe CMD INSTALL --merge-multiarch --build --library=erma.buildbin-libdir erma_1.10.0.tar.gz && C:\Users\biocbuild\bbs-3.14-bioc\R\bin\R.exe CMD INSTALL erma_1.10.0.zip && rm erma_1.10.0.tar.gz erma_1.10.0.zip
###
##############################################################################
##############################################################################


  % Total    % Received % Xferd  Average Speed   Time    Time     Time  Current
                                 Dload  Upload   Total   Spent    Left  Speed

  0     0    0     0    0     0      0      0 --:--:-- --:--:-- --:--:--     0
  0  197M    0 13522    0     0   114k      0  0:29:23 --:--:--  0:29:23  114k
  2  197M    2 4344k    0     0  3825k      0  0:00:52  0:00:01  0:00:51 3823k
  4  197M    4 9836k    0     0  4647k      0  0:00:43  0:00:02  0:00:41 4648k
  8  197M    8 15.9M    0     0  5261k      0  0:00:38  0:00:03  0:00:35 5261k
 11  197M   11 23.3M    0     0  5809k      0  0:00:34  0:00:04  0:00:30 5809k
 15  197M   15 31.5M    0     0  6292k      0  0:00:32  0:00:05  0:00:27 6434k
 20  197M   20 40.5M    0     0  6795k      0  0:00:29  0:00:06  0:00:23 7471k
 25  197M   25 50.6M    0     0  7281k      0  0:00:27  0:00:07  0:00:20 8396k
 31  197M   31 61.6M    0     0  7784k      0  0:00:25  0:00:08  0:00:17 9355k
 37  197M   37 73.6M    0     0  8272k      0  0:00:24  0:00:09  0:00:15 10.0M
 43  197M   43 86.5M    0     0  8759k      0  0:00:23  0:00:10  0:00:13 11.0M
 50  197M   50 99.5M    0     0  9164k      0  0:00:22  0:00:11  0:00:11 11.7M
 57  197M   57  113M    0     0  9551k      0  0:00:21  0:00:12  0:00:09 12.4M
 64  197M   64  127M    0     0  9980k      0  0:00:20  0:00:13  0:00:07 13.2M
 73  197M   73  144M    0     0  10.2M      0  0:00:19  0:00:14  0:00:05 14.0M
 81  197M   81  161M    0     0  10.6M      0  0:00:18  0:00:15  0:00:03 14.9M
 88  197M   88  174M    0     0  10.8M      0  0:00:18  0:00:16  0:00:02 14.9M
 92  197M   92  182M    0     0  10.6M      0  0:00:18  0:00:17  0:00:01 13.9M
 97  197M   97  193M    0     0  10.6M      0  0:00:18  0:00:18 --:--:-- 13.0M
100  197M  100  197M    0     0  10.6M      0  0:00:18  0:00:18 --:--:-- 12.1M

install for i386

* installing *source* package 'erma' ...
** using staged installation
** R
** data
** inst
** byte-compile and prepare package for lazy loading
** help
*** installing help indices
  converting help for package 'erma'
    finding HTML links ... done
    ErmaSet-class                           html  
    finding level-2 HTML links ... done

    erma-package                            html  
    genemodel                               html  
    mapmeta                                 html  
    stateProfile                            html  
    states_25                               html  
** building package indices
** installing vignettes
** testing if installed package can be loaded from temporary location
** testing if installed package can be loaded from final location
** testing if installed package keeps a record of temporary installation path

install for x64

* installing *source* package 'erma' ...
** testing if installed package can be loaded
* MD5 sums
packaged installation of 'erma' as erma_1.10.0.zip
* DONE (erma)
* installing to library 'C:/Users/biocbuild/bbs-3.14-bioc/R/library'
package 'erma' successfully unpacked and MD5 sums checked