Back to Multiple platform build/check report for BioC 3.14
ABCD[E]FGHIJKLMNOPQRSTUVWXYZ

This page was generated on 2021-12-03 13:04:47 -0500 (Fri, 03 Dec 2021).

BUILD results for ensembldb on nebbiolo2

To the developers/maintainers of the ensembldb package:
- Please allow up to 24 hours (and sometimes 48 hours) for your latest push to git@git.bioconductor.org:packages/ensembldb.git to
reflect on this report. See How and When does the builder pull? When will my changes propagate? here for more information.
- Make sure to use the following settings in order to reproduce any error or warning you see on this page.

raw results

Package 584/2083HostnameOS / ArchINSTALLBUILDCHECKBUILD BIN
ensembldb 2.18.2  (landing page)
Johannes Rainer
Snapshot Date: 2021-12-02 01:55:06 -0500 (Thu, 02 Dec 2021)
git_url: https://git.bioconductor.org/packages/ensembldb
git_branch: RELEASE_3_14
git_last_commit: a633cec
git_last_commit_date: 2021-11-08 10:02:00 -0500 (Mon, 08 Nov 2021)
nebbiolo2Linux (Ubuntu 20.04.3 LTS) / x86_64  OK    OK    OK  UNNEEDED, same version is already published
tokay2Windows Server 2012 R2 Standard / x64  OK    OK    OK    OK  UNNEEDED, same version is already published
machv2macOS 10.14.6 Mojave / x86_64  OK    OK    OK    OK  UNNEEDED, same version is already published

Summary

Package: ensembldb
Version: 2.18.2
Command: /home/biocbuild/bbs-3.14-bioc/R/bin/R CMD build --keep-empty-dirs --no-resave-data ensembldb
StartedAt: 2021-12-02 04:20:22 -0500 (Thu, 02 Dec 2021)
EndedAt: 2021-12-02 04:22:09 -0500 (Thu, 02 Dec 2021)
EllapsedTime: 106.9 seconds
RetCode: 0
Status:   OK  
PackageFile: ensembldb_2.18.2.tar.gz
PackageFileSize: 3.129 MiB

Command output

##############################################################################
##############################################################################
###
### Running command:
###
###   /home/biocbuild/bbs-3.14-bioc/R/bin/R CMD build --keep-empty-dirs --no-resave-data ensembldb
###
##############################################################################
##############################################################################


* checking for file ‘ensembldb/DESCRIPTION’ ... OK
* preparing ‘ensembldb’:
* checking DESCRIPTION meta-information ... OK
* installing the package to build vignettes
* creating vignettes ... OK
* checking for LF line-endings in source and make files and shell scripts
* checking for empty or unneeded directories
* building ‘ensembldb_2.18.2.tar.gz’