Back to Multiple platform build/check report for BioC 3.14
ABCD[E]FGHIJKLMNOPQRSTUVWXYZ

This page was generated on 2021-12-03 13:05:45 -0500 (Fri, 03 Dec 2021).

BUILD BIN results for ensembldb on machv2

To the developers/maintainers of the ensembldb package:
- Please allow up to 24 hours (and sometimes 48 hours) for your latest push to git@git.bioconductor.org:packages/ensembldb.git to
reflect on this report. See How and When does the builder pull? When will my changes propagate? here for more information.
- Make sure to use the following settings in order to reproduce any error or warning you see on this page.

raw results

Package 584/2083HostnameOS / ArchINSTALLBUILDCHECKBUILD BIN
ensembldb 2.18.2  (landing page)
Johannes Rainer
Snapshot Date: 2021-12-02 01:55:06 -0500 (Thu, 02 Dec 2021)
git_url: https://git.bioconductor.org/packages/ensembldb
git_branch: RELEASE_3_14
git_last_commit: a633cec
git_last_commit_date: 2021-11-08 10:02:00 -0500 (Mon, 08 Nov 2021)
nebbiolo2Linux (Ubuntu 20.04.3 LTS) / x86_64  OK    OK    OK  UNNEEDED, same version is already published
tokay2Windows Server 2012 R2 Standard / x64  OK    OK    OK    OK  UNNEEDED, same version is already published
machv2macOS 10.14.6 Mojave / x86_64  OK    OK    OK    OK  UNNEEDED, same version is already published

Summary

Package: ensembldb
Version: 2.18.2
Command: rm -rf ensembldb.buildbin-libdir && mkdir ensembldb.buildbin-libdir && /Users/biocbuild/BBS/utils/build-universal.sh ensembldb_2.18.2.tar.gz /Library/Frameworks/R.framework/Resources/bin/R ensembldb.buildbin-libdir
StartedAt: 2021-12-02 21:58:41 -0500 (Thu, 02 Dec 2021)
EndedAt: 2021-12-02 21:59:51 -0500 (Thu, 02 Dec 2021)
EllapsedTime: 69.8 seconds
RetCode: 0
Status:   OK  
PackageFile: ensembldb_2.18.2.tgz
PackageFileSize: 3.408 MiB

Command output

##############################################################################
##############################################################################
###
### Running command:
###
###   rm -rf ensembldb.buildbin-libdir && mkdir ensembldb.buildbin-libdir && /Users/biocbuild/BBS/utils/build-universal.sh ensembldb_2.18.2.tar.gz /Library/Frameworks/R.framework/Resources/bin/R ensembldb.buildbin-libdir
###
##############################################################################
##############################################################################


>>>>>>> 
>>>>>>> INSTALLATION WITH 'R CMD INSTALL --preclean --no-multiarch --library=ensembldb.buildbin-libdir ensembldb_2.18.2.tar.gz'
>>>>>>> 

* installing *source* package ‘ensembldb’ ...
** using staged installation
** R
** inst
** byte-compile and prepare package for lazy loading
** help
*** installing help indices
** building package indices
** installing vignettes
** testing if installed package can be loaded from temporary location
** testing if installed package can be loaded from final location
** testing if installed package keeps a record of temporary installation path
* DONE (ensembldb)