Back to Multiple platform build/check report for BioC 3.14
ABCD[E]FGHIJKLMNOPQRSTUVWXYZ

This page was generated on 2021-11-26 15:04:50 -0500 (Fri, 26 Nov 2021).

BUILD results for edge on nebbiolo2

To the developers/maintainers of the edge package:
- Please allow up to 24 hours (and sometimes 48 hours) for your latest push to git@git.bioconductor.org:packages/edge.git to
reflect on this report. See How and When does the builder pull? When will my changes propagate? here for more information.
- Make sure to use the following settings in order to reproduce any error or warning you see on this page.

raw results

Package 565/2083HostnameOS / ArchINSTALLBUILDCHECKBUILD BIN
edge 2.26.0  (landing page)
John D. Storey , Andrew J. Bass
Snapshot Date: 2021-11-25 04:15:05 -0500 (Thu, 25 Nov 2021)
git_url: https://git.bioconductor.org/packages/edge
git_branch: RELEASE_3_14
git_last_commit: 6eaa176
git_last_commit_date: 2021-10-26 12:20:40 -0500 (Tue, 26 Oct 2021)
nebbiolo2Linux (Ubuntu 20.04.3 LTS) / x86_64  OK    OK    WARNINGS  UNNEEDED, same version is already published
tokay2Windows Server 2012 R2 Standard / x64  OK    OK    WARNINGS    OK  UNNEEDED, same version is already published
machv2macOS 10.14.6 Mojave / x86_64  OK    OK    WARNINGS    OK  UNNEEDED, same version is already published

Summary

Package: edge
Version: 2.26.0
Command: /home/biocbuild/bbs-3.14-bioc/R/bin/R CMD build --keep-empty-dirs --no-resave-data edge
StartedAt: 2021-11-25 06:28:02 -0500 (Thu, 25 Nov 2021)
EndedAt: 2021-11-25 06:29:00 -0500 (Thu, 25 Nov 2021)
EllapsedTime: 57.8 seconds
RetCode: 0
Status:   OK  
PackageFile: edge_2.26.0.tar.gz
PackageFileSize: 998.9 KiB

Command output

##############################################################################
##############################################################################
###
### Running command:
###
###   /home/biocbuild/bbs-3.14-bioc/R/bin/R CMD build --keep-empty-dirs --no-resave-data edge
###
##############################################################################
##############################################################################


* checking for file ‘edge/DESCRIPTION’ ... OK
* preparing ‘edge’:
* checking DESCRIPTION meta-information ... OK
* cleaning src
* installing the package to build vignettes
* creating vignettes ... OK
* cleaning src
* checking for LF line-endings in source and make files and shell scripts
* checking for empty or unneeded directories
* building ‘edge_2.26.0.tar.gz’