Back to Multiple platform build/check report for BioC 3.14
ABCD[E]FGHIJKLMNOPQRSTUVWXYZ

This page was generated on 2021-12-01 17:18:16 -0500 (Wed, 01 Dec 2021).

BUILD BIN results for ecolitk on machv2

To the developers/maintainers of the ecolitk package:
- Please allow up to 24 hours (and sometimes 48 hours) for your latest push to git@git.bioconductor.org:packages/ecolitk.git to
reflect on this report. See How and When does the builder pull? When will my changes propagate? here for more information.
- Make sure to use the following settings in order to reproduce any error or warning you see on this page.

raw results

Package 563/2083HostnameOS / ArchINSTALLBUILDCHECKBUILD BIN
ecolitk 1.66.0  (landing page)
Laurent Gautier
Snapshot Date: 2021-11-30 04:15:05 -0500 (Tue, 30 Nov 2021)
git_url: https://git.bioconductor.org/packages/ecolitk
git_branch: RELEASE_3_14
git_last_commit: 7494e6f
git_last_commit_date: 2021-10-26 11:46:23 -0500 (Tue, 26 Oct 2021)
nebbiolo2Linux (Ubuntu 20.04.3 LTS) / x86_64  OK    OK    WARNINGS  UNNEEDED, same version is already published
tokay2Windows Server 2012 R2 Standard / x64  OK    OK    WARNINGS    OK  UNNEEDED, same version is already published
machv2macOS 10.14.6 Mojave / x86_64  OK    OK    WARNINGS    OK  UNNEEDED, same version is already published

Summary

Package: ecolitk
Version: 1.66.0
Command: rm -rf ecolitk.buildbin-libdir && mkdir ecolitk.buildbin-libdir && /Users/biocbuild/BBS/utils/build-universal.sh ecolitk_1.66.0.tar.gz /Library/Frameworks/R.framework/Resources/bin/R ecolitk.buildbin-libdir
StartedAt: 2021-12-01 00:00:13 -0500 (Wed, 01 Dec 2021)
EndedAt: 2021-12-01 00:01:28 -0500 (Wed, 01 Dec 2021)
EllapsedTime: 75.4 seconds
RetCode: 0
Status:   OK  
PackageFile: ecolitk_1.66.0.tgz
PackageFileSize: 1.768 MiB

Command output

##############################################################################
##############################################################################
###
### Running command:
###
###   rm -rf ecolitk.buildbin-libdir && mkdir ecolitk.buildbin-libdir && /Users/biocbuild/BBS/utils/build-universal.sh ecolitk_1.66.0.tar.gz /Library/Frameworks/R.framework/Resources/bin/R ecolitk.buildbin-libdir
###
##############################################################################
##############################################################################


>>>>>>> 
>>>>>>> INSTALLATION WITH 'R CMD INSTALL --preclean --no-multiarch --library=ecolitk.buildbin-libdir ecolitk_1.66.0.tar.gz'
>>>>>>> 

* installing *source* package ‘ecolitk’ ...
** using staged installation
** R
** data
** inst
** byte-compile and prepare package for lazy loading
Note: possible error in 'strsplit(line, "\t", ': unused argument (extended = TRUE) 
** help
*** installing help indices
** building package indices
** installing vignettes
** testing if installed package can be loaded from temporary location
** testing if installed package can be loaded from final location
** testing if installed package keeps a record of temporary installation path
* DONE (ecolitk)