Index of /checkResults/3.14/bioc-LATEST/dyebias/raw-results/machv2

[ICO]NameLast modifiedSizeDescription

[DIR]Parent Directory  -  
[   ]buildbin-summary.dcf14-Apr-2022 01:07 529  
[TXT]buildbin-out.txt14-Apr-2022 01:07 1.1K 
[   ]checksrc-summary.dcf14-Apr-2022 01:07 443  
[TXT]checksrc-out.txt14-Apr-2022 01:07 11K 
[   ]buildsrc-summary.dcf14-Apr-2022 01:07 427  
[TXT]buildsrc-out.txt14-Apr-2022 01:07 816  
[   ]install-summary.dcf14-Apr-2022 01:07 268  
[TXT]install-out.txt14-Apr-2022 01:07 1.0K