Back to Multiple platform build/check report for BioC 3.14
ABC[D]EFGHIJKLMNOPQRSTUVWXYZ

This page was generated on 2021-09-21 12:05:35 -0400 (Tue, 21 Sep 2021).

CHECK results for dupRadar on nebbiolo2

To the developers/maintainers of the dupRadar package:
- Please allow up to 24 hours (and sometimes 48 hours) for your latest push to git@git.bioconductor.org:packages/dupRadar.git to
reflect on this report. See How and When does the builder pull? When will my changes propagate? here for more information.
- Make sure to use the following settings in order to reproduce any error or warning you see on this page.

raw results

Package 536/2029HostnameOS / ArchINSTALLBUILDCHECKBUILD BIN
dupRadar 1.23.0  (landing page)
Sergi Sayols , Holger Klein
Snapshot Date: 2021-09-20 14:50:09 -0400 (Mon, 20 Sep 2021)
git_url: https://git.bioconductor.org/packages/dupRadar
git_branch: master
git_last_commit: ee87138
git_last_commit_date: 2021-05-19 12:15:40 -0400 (Wed, 19 May 2021)
nebbiolo2Linux (Ubuntu 20.04.2 LTS) / x86_64  OK    OK    OK  UNNEEDED, same version is already published
riesling1Windows Server 2019 Standard / x64... NOT SUPPORTED ...
merida1macOS 10.14.6 Mojave / x86_64  OK    OK    OK    OK  UNNEEDED, same version is already published

Summary

Package: dupRadar
Version: 1.23.0
Command: /home/biocbuild/bbs-3.14-bioc/R/bin/R CMD check --install=check:dupRadar.install-out.txt --library=/home/biocbuild/bbs-3.14-bioc/R/library --no-vignettes --timings dupRadar_1.23.0.tar.gz
StartedAt: 2021-09-20 19:41:12 -0400 (Mon, 20 Sep 2021)
EndedAt: 2021-09-20 19:41:48 -0400 (Mon, 20 Sep 2021)
EllapsedTime: 35.4 seconds
RetCode: 0
Status:   OK  
CheckDir: dupRadar.Rcheck
Warnings: 0

Command output

##############################################################################
##############################################################################
###
### Running command:
###
###   /home/biocbuild/bbs-3.14-bioc/R/bin/R CMD check --install=check:dupRadar.install-out.txt --library=/home/biocbuild/bbs-3.14-bioc/R/library --no-vignettes --timings dupRadar_1.23.0.tar.gz
###
##############################################################################
##############################################################################


* using log directory ‘/home/biocbuild/bbs-3.14-bioc/meat/dupRadar.Rcheck’
* using R version 4.1.1 (2021-08-10)
* using platform: x86_64-pc-linux-gnu (64-bit)
* using session charset: UTF-8
* using option ‘--no-vignettes’
* checking for file ‘dupRadar/DESCRIPTION’ ... OK
* checking extension type ... Package
* this is package ‘dupRadar’ version ‘1.23.0’
* checking package namespace information ... OK
* checking package dependencies ... OK
* checking if this is a source package ... OK
* checking if there is a namespace ... OK
* checking for hidden files and directories ... NOTE
Found the following hidden files and directories:
  .BBSoptions
These were most likely included in error. See section ‘Package
structure’ in the ‘Writing R Extensions’ manual.
* checking for portable file names ... OK
* checking for sufficient/correct file permissions ... OK
* checking whether package ‘dupRadar’ can be installed ... OK
* checking installed package size ... OK
* checking package directory ... OK
* checking ‘build’ directory ... OK
* checking DESCRIPTION meta-information ... OK
* checking top-level files ... NOTE
File
  LICENSE
is not mentioned in the DESCRIPTION file.
* checking for left-over files ... OK
* checking index information ... OK
* checking package subdirectories ... OK
* checking R files for non-ASCII characters ... OK
* checking R files for syntax errors ... OK
* checking whether the package can be loaded ... OK
* checking whether the package can be loaded with stated dependencies ... OK
* checking whether the package can be unloaded cleanly ... OK
* checking whether the namespace can be loaded with stated dependencies ... OK
* checking whether the namespace can be unloaded cleanly ... OK
* checking dependencies in R code ... OK
* checking S3 generic/method consistency ... OK
* checking replacement functions ... OK
* checking foreign function calls ... OK
* checking R code for possible problems ... OK
* checking Rd files ... OK
* checking Rd metadata ... OK
* checking Rd cross-references ... OK
* checking for missing documentation entries ... OK
* checking for code/documentation mismatches ... OK
* checking Rd \usage sections ... OK
* checking Rd contents ... OK
* checking for unstated dependencies in examples ... OK
* checking contents of ‘data’ directory ... OK
* checking data for non-ASCII characters ... OK
* checking LazyData ... OK
* checking data for ASCII and uncompressed saves ... OK
* checking files in ‘vignettes’ ... OK
* checking examples ... OK
* checking for unstated dependencies in vignettes ... OK
* checking package vignettes in ‘inst/doc’ ... OK
* checking running R code from vignettes ... SKIPPED
* checking re-building of vignette outputs ... SKIPPED
* checking PDF version of manual ... OK
* DONE

Status: 2 NOTEs
See
  ‘/home/biocbuild/bbs-3.14-bioc/meat/dupRadar.Rcheck/00check.log’
for details.



Installation output

dupRadar.Rcheck/00install.out

##############################################################################
##############################################################################
###
### Running command:
###
###   /home/biocbuild/bbs-3.14-bioc/R/bin/R CMD INSTALL dupRadar
###
##############################################################################
##############################################################################


* installing to library ‘/home/biocbuild/bbs-3.14-bioc/R/library’
* installing *source* package ‘dupRadar’ ...
** using staged installation
** R
** data
*** moving datasets to lazyload DB
** inst
** byte-compile and prepare package for lazy loading
** help
*** installing help indices
** building package indices
** installing vignettes
** testing if installed package can be loaded from temporary location
** testing if installed package can be loaded from final location
** testing if installed package keeps a record of temporary installation path
* DONE (dupRadar)

Tests output


Example timings

dupRadar.Rcheck/dupRadar-Ex.timings

nameusersystemelapsed
analyzeDuprates0.1460.0280.242
cumulativeDuprateBarplot0.1250.0280.153
duprateExpBoxplot0.1510.0000.152
duprateExpDensPlot2.0190.0362.055
duprateExpFit0.040.000.04
duprateExpIdentify0.3960.0080.403
duprateExpPlot0.0860.0000.086
expressionHist0.0250.0000.026
getDupMatStats0.0190.0000.018
getDynamicRange0.4960.0000.495
markDuplicates000
readcountExpBoxplot0.0570.0000.056