Back to Multiple platform build/check report for BioC 3.14
ABC[D]EFGHIJKLMNOPQRSTUVWXYZ

This page was generated on 2021-12-01 17:16:57 -0500 (Wed, 01 Dec 2021).

All results for package dualKS

To the developers/maintainers of the dualKS package:
- Please allow up to 24 hours (and sometimes 48 hours) for your latest push to git@git.bioconductor.org:packages/dualKS.git to
reflect on this report. See How and When does the builder pull? When will my changes propagate? here for more information.
- Make sure to use the following settings in order to reproduce any error or warning you see on this page.

raw results

Package 549/2083HostnameOS / ArchINSTALLBUILDCHECKBUILD BIN
dualKS 1.54.0  (landing page)
Eric J. Kort
Snapshot Date: 2021-11-30 04:15:05 -0500 (Tue, 30 Nov 2021)
git_url: https://git.bioconductor.org/packages/dualKS
git_branch: RELEASE_3_14
git_last_commit: a78fb68
git_last_commit_date: 2021-10-26 12:12:06 -0500 (Tue, 26 Oct 2021)
nebbiolo2Linux (Ubuntu 20.04.3 LTS) / x86_64  OK    ERROR  skipped
tokay2Windows Server 2012 R2 Standard / x64  OK    ERROR  skippedskipped
machv2macOS 10.14.6 Mojave / x86_64  OK    ERROR  skippedskipped