Back to Multiple platform build/check report for BioC 3.14
ABC[D]EFGHIJKLMNOPQRSTUVWXYZ

This page was generated on 2021-11-24 15:06:00 -0500 (Wed, 24 Nov 2021).

BUILD results for drugTargetInteractions on machv2

To the developers/maintainers of the drugTargetInteractions package:
- Please allow up to 24 hours (and sometimes 48 hours) for your latest push to git@git.bioconductor.org:packages/drugTargetInteractions.git to
reflect on this report. See How and When does the builder pull? When will my changes propagate? here for more information.
- Make sure to use the following settings in order to reproduce any error or warning you see on this page.

raw results

Package 544/2083HostnameOS / ArchINSTALLBUILDCHECKBUILD BIN
drugTargetInteractions 1.2.0  (landing page)
Thomas Girke
Snapshot Date: 2021-11-23 04:15:06 -0500 (Tue, 23 Nov 2021)
git_url: https://git.bioconductor.org/packages/drugTargetInteractions
git_branch: RELEASE_3_14
git_last_commit: 0c4904f
git_last_commit_date: 2021-10-26 13:08:09 -0500 (Tue, 26 Oct 2021)
nebbiolo2Linux (Ubuntu 20.04.3 LTS) / x86_64  OK    OK    OK  UNNEEDED, same version is already published
tokay2Windows Server 2012 R2 Standard / x64  OK    OK    OK    OK  NO, package depends on 'UniProt.ws' which is not available
machv2macOS 10.14.6 Mojave / x86_64  OK    OK    OK    OK  UNNEEDED, same version is already published

Summary

Package: drugTargetInteractions
Version: 1.2.0
Command: /Library/Frameworks/R.framework/Resources/bin/R CMD build --keep-empty-dirs --no-resave-data drugTargetInteractions
StartedAt: 2021-11-23 08:53:02 -0500 (Tue, 23 Nov 2021)
EndedAt: 2021-11-23 08:55:35 -0500 (Tue, 23 Nov 2021)
EllapsedTime: 153.4 seconds
RetCode: 0
Status:   OK  
PackageFile: drugTargetInteractions_1.2.0.tar.gz
PackageFileSize: 942.9 KiB

Command output

##############################################################################
##############################################################################
###
### Running command:
###
###   /Library/Frameworks/R.framework/Resources/bin/R CMD build --keep-empty-dirs --no-resave-data drugTargetInteractions
###
##############################################################################
##############################################################################


* checking for file ‘drugTargetInteractions/DESCRIPTION’ ... OK
* preparing ‘drugTargetInteractions’:
* checking DESCRIPTION meta-information ... OK
* installing the package to process help pages
* saving partial Rd database
* creating vignettes ... OK
* checking for LF line-endings in source and make files and shell scripts
* checking for empty or unneeded directories
* building ‘drugTargetInteractions_1.2.0.tar.gz’