Back to Multiple platform build/check report for BioC 3.14
ABC[D]EFGHIJKLMNOPQRSTUVWXYZ

This page was generated on 2022-01-24 13:06:09 -0500 (Mon, 24 Jan 2022).

HostnameOSArch (*)R versionInstalled pkgs
nebbiolo2Linux (Ubuntu 20.04.4 LTS)x86_644.1.2 (2021-11-01) -- "Bird Hippie" 4329
tokay2Windows Server 2012 R2 Standardx644.1.2 (2021-11-01) -- "Bird Hippie" 4080
machv2macOS 10.14.6 Mojavex86_644.1.2 (2021-11-01) -- "Bird Hippie" 4141
Click on any hostname to see more info about the system (e.g. compilers)      (*) as reported by 'uname -p', except on Windows and Mac OS X

CHECK results for destiny on tokay2


To the developers/maintainers of the destiny package:
- Please allow up to 24 hours (and sometimes 48 hours) for your latest push to git@git.bioconductor.org:packages/destiny.git to
reflect on this report. See How and When does the builder pull? When will my changes propagate? here for more information.
- Make sure to use the following settings in order to reproduce any error or warning you see on this page.

raw results

Package 496/2083HostnameOS / ArchINSTALLBUILDCHECKBUILD BIN
destiny 3.8.0  (landing page)
Philipp Angerer
Snapshot Date: 2022-01-23 01:55:04 -0500 (Sun, 23 Jan 2022)
git_url: https://git.bioconductor.org/packages/destiny
git_branch: RELEASE_3_14
git_last_commit: 90ad170
git_last_commit_date: 2022-01-21 05:15:34 -0500 (Fri, 21 Jan 2022)
nebbiolo2Linux (Ubuntu 20.04.4 LTS) / x86_64  OK    OK    OK  UNNEEDED, same version is already published
tokay2Windows Server 2012 R2 Standard / x64  OK    OK    OK    OK  UNNEEDED, same version is already published
machv2macOS 10.14.6 Mojave / x86_64  OK    OK    OK    OK  UNNEEDED, same version is already published

Summary

Package: destiny
Version: 3.8.0
Command: C:\Users\biocbuild\bbs-3.14-bioc\R\bin\R.exe CMD check --force-multiarch --install=check:destiny.install-out.txt --library=C:\Users\biocbuild\bbs-3.14-bioc\R\library --no-vignettes --timings destiny_3.8.0.tar.gz
StartedAt: 2022-01-23 18:11:04 -0500 (Sun, 23 Jan 2022)
EndedAt: 2022-01-23 18:17:32 -0500 (Sun, 23 Jan 2022)
EllapsedTime: 388.1 seconds
RetCode: 0
Status:   OK  
CheckDir: destiny.Rcheck
Warnings: 0

Command output

##############################################################################
##############################################################################
###
### Running command:
###
###   C:\Users\biocbuild\bbs-3.14-bioc\R\bin\R.exe CMD check --force-multiarch --install=check:destiny.install-out.txt --library=C:\Users\biocbuild\bbs-3.14-bioc\R\library --no-vignettes --timings destiny_3.8.0.tar.gz
###
##############################################################################
##############################################################################


* using log directory 'C:/Users/biocbuild/bbs-3.14-bioc/meat/destiny.Rcheck'
* using R version 4.1.2 (2021-11-01)
* using platform: x86_64-w64-mingw32 (64-bit)
* using session charset: ISO8859-1
* using option '--no-vignettes'
* checking for file 'destiny/DESCRIPTION' ... OK
* checking extension type ... Package
* this is package 'destiny' version '3.8.0'
* package encoding: UTF-8
* checking package namespace information ... OK
* checking package dependencies ... OK
* checking if this is a source package ... OK
* checking if there is a namespace ... OK
* checking for hidden files and directories ... OK
* checking for portable file names ... OK
* checking whether package 'destiny' can be installed ... OK
* checking installed package size ... OK
* checking package directory ... OK
* checking DESCRIPTION meta-information ... NOTE
Packages listed in more than one of Depends, Imports, Suggests, Enhances:
  'rgl' 'SingleCellExperiment'
A package should be listed in only one of these fields.
'LinkingTo' for 'grDevices' is unused as it has no 'include' directory
* checking top-level files ... OK
* checking for left-over files ... OK
* checking index information ... OK
* checking package subdirectories ... OK
* checking R files for non-ASCII characters ... OK
* checking R files for syntax errors ... OK
* loading checks for arch 'i386'
** checking whether the package can be loaded ... OK
** checking whether the package can be loaded with stated dependencies ... OK
** checking whether the package can be unloaded cleanly ... OK
** checking whether the namespace can be loaded with stated dependencies ... OK
** checking whether the namespace can be unloaded cleanly ... OK
* loading checks for arch 'x64'
** checking whether the package can be loaded ... OK
** checking whether the package can be loaded with stated dependencies ... OK
** checking whether the package can be unloaded cleanly ... OK
** checking whether the namespace can be loaded with stated dependencies ... OK
** checking whether the namespace can be unloaded cleanly ... OK
* checking dependencies in R code ... OK
* checking S3 generic/method consistency ... NOTE
Found the following apparent S3 methods exported but not registered:
  plot.DPT plot.DiffusionMap
See section 'Registering S3 methods' in the 'Writing R Extensions'
manual.
* checking replacement functions ... OK
* checking foreign function calls ... OK
* checking R code for possible problems ... OK
* checking Rd files ... OK
* checking Rd metadata ... OK
* checking Rd cross-references ... OK
* checking for missing documentation entries ... OK
* checking for code/documentation mismatches ... OK
* checking Rd \usage sections ... NOTE
S3 methods shown with full name in documentation object 'plot.DPT':
  'plot.DPT'

S3 methods shown with full name in documentation object 'plot.DiffusionMap':
  'plot.DiffusionMap'

The \usage entries for S3 methods should use the \method markup and not
their full name.
See chapter 'Writing R documentation files' in the 'Writing R
Extensions' manual.
* checking Rd contents ... OK
* checking for unstated dependencies in examples ... OK
* checking contents of 'data' directory ... OK
* checking data for non-ASCII characters ... OK
* checking data for ASCII and uncompressed saves ... OK
* checking line endings in C/C++/Fortran sources/headers ... OK
* checking line endings in Makefiles ... OK
* checking compilation flags in Makevars ... OK
* checking for GNU extensions in Makefiles ... OK
* checking for portable use of $(BLAS_LIBS) and $(LAPACK_LIBS) ... OK
* checking use of PKG_*FLAGS in Makefiles ... OK
* checking compiled code ... NOTE
Note: information on .o files for i386 is not available
Note: information on .o files for x64 is not available
File 'C:/Users/biocbuild/bbs-3.14-bioc/R/library/destiny/libs/i386/destiny.dll':
  Found 'abort', possibly from 'abort' (C), 'runtime' (Fortran)
  Found 'exit', possibly from 'exit' (C), 'stop' (Fortran)
  Found 'printf', possibly from 'printf' (C)
File 'C:/Users/biocbuild/bbs-3.14-bioc/R/library/destiny/libs/x64/destiny.dll':
  Found 'abort', possibly from 'abort' (C), 'runtime' (Fortran)
  Found 'exit', possibly from 'exit' (C), 'stop' (Fortran)
  Found 'printf', possibly from 'printf' (C)

Compiled code should not call entry points which might terminate R nor
write to stdout/stderr instead of to the console, nor use Fortran I/O
nor system RNGs. The detected symbols are linked into the code but
might come from libraries and not actually be called.

See 'Writing portable packages' in the 'Writing R Extensions' manual.
* checking files in 'vignettes' ... OK
* checking examples ...
** running examples for arch 'i386' ... OK
Examples with CPU (user + system) or elapsed time > 5s
                         user system elapsed
destiny                 12.10   0.36   12.53
Gene-Relevance-plotting  5.09   0.17    5.26
** running examples for arch 'x64' ... OK
Examples with CPU (user + system) or elapsed time > 5s
                         user system elapsed
destiny                 11.86   0.34    12.2
Gene-Relevance-plotting  7.25   0.05     7.3
* checking for unstated dependencies in 'tests' ... OK
* checking tests ...
** running tests for arch 'i386' ...
  Running 'testthat.R'
 OK
** running tests for arch 'x64' ...
  Running 'testthat.R'
 OK
* checking for unstated dependencies in vignettes ... OK
* checking package vignettes in 'inst/doc' ... OK
* checking running R code from vignettes ... SKIPPED
* checking re-building of vignette outputs ... SKIPPED
* checking PDF version of manual ... OK
* DONE

Status: 4 NOTEs
See
  'C:/Users/biocbuild/bbs-3.14-bioc/meat/destiny.Rcheck/00check.log'
for details.



Installation output

destiny.Rcheck/00install.out

##############################################################################
##############################################################################
###
### Running command:
###
###   C:\cygwin\bin\curl.exe -O http://155.52.207.166/BBS/3.14/bioc/src/contrib/destiny_3.8.0.tar.gz && rm -rf destiny.buildbin-libdir && mkdir destiny.buildbin-libdir && C:\Users\biocbuild\bbs-3.14-bioc\R\bin\R.exe CMD INSTALL --merge-multiarch --build --library=destiny.buildbin-libdir destiny_3.8.0.tar.gz && C:\Users\biocbuild\bbs-3.14-bioc\R\bin\R.exe CMD INSTALL destiny_3.8.0.zip && rm destiny_3.8.0.tar.gz destiny_3.8.0.zip
###
##############################################################################
##############################################################################


  % Total    % Received % Xferd  Average Speed   Time    Time     Time  Current
                                 Dload  Upload   Total   Spent    Left  Speed

  0     0    0     0    0     0      0      0 --:--:-- --:--:-- --:--:--     0
 57 2596k   57 1481k    0     0  3096k      0 --:--:-- --:--:-- --:--:-- 3099k
100 2596k  100 2596k    0     0  3912k      0 --:--:-- --:--:-- --:--:-- 3910k

install for i386

* installing *source* package 'destiny' ...
** using staged installation
** libs
"C:/rtools40/mingw32/bin/"g++  -std=gnu++11 -I"C:/Users/BIOCBU~1/BBS-3~1.14-/R/include" -DNDEBUG  -I'C:/Users/biocbuild/bbs-3.14-bioc/R/library/Rcpp/include' -I'C:/Users/biocbuild/bbs-3.14-bioc/R/library/RcppEigen/include' -I'C:/Users/biocbuild/bbs-3.14-bioc/R/library/grDevices/include'   -I"C:/extsoft/include"  -ggdb   -O2 -Wall  -mfpmath=sse -msse2 -mstackrealign  -c RcppExports.cpp -o RcppExports.o
In file included from C:/Users/biocbuild/bbs-3.14-bioc/R/library/RcppEigen/include/Eigen/Core:397,
                 from C:/Users/biocbuild/bbs-3.14-bioc/R/library/RcppEigen/include/Eigen/Dense:1,
                 from C:/Users/biocbuild/bbs-3.14-bioc/R/library/RcppEigen/include/RcppEigenForward.h:30,
                 from C:/Users/biocbuild/bbs-3.14-bioc/R/library/RcppEigen/include/RcppEigen.h:25,
                 from RcppExports.cpp:4:
C:/Users/biocbuild/bbs-3.14-bioc/R/library/RcppEigen/include/Eigen/src/Core/arch/SSE/PacketMath.h:60:39: warning: ignoring attributes on template argument '__m128' {aka '__vector(4) float'} [-Wignored-attributes]
 template<> struct is_arithmetic<__m128>  { enum { value = true }; };
                                       ^
C:/Users/biocbuild/bbs-3.14-bioc/R/library/RcppEigen/include/Eigen/src/Core/arch/SSE/PacketMath.h:61:40: warning: ignoring attributes on template argument '__m128i' {aka '__vector(2) long long int'} [-Wignored-attributes]
 template<> struct is_arithmetic<__m128i> { enum { value = true }; };
                                        ^
C:/Users/biocbuild/bbs-3.14-bioc/R/library/RcppEigen/include/Eigen/src/Core/arch/SSE/PacketMath.h:62:40: warning: ignoring attributes on template argument '__m128d' {aka '__vector(2) double'} [-Wignored-attributes]
 template<> struct is_arithmetic<__m128d> { enum { value = true }; };
                                        ^
C:/Users/biocbuild/bbs-3.14-bioc/R/library/RcppEigen/include/Eigen/src/Core/arch/SSE/PacketMath.h:161:43: warning: ignoring attributes on template argument 'Eigen::internal::Packet4f' {aka '__vector(4) float'} [-Wignored-attributes]
 template<> struct unpacket_traits<Packet4f> { typedef float  type; enum {size=4, alignment=Aligned16}; typedef Packet4f half; };
                                           ^
C:/Users/biocbuild/bbs-3.14-bioc/R/library/RcppEigen/include/Eigen/src/Core/arch/SSE/PacketMath.h:162:43: warning: ignoring attributes on template argument 'Eigen::internal::Packet2d' {aka '__vector(2) double'} [-Wignored-attributes]
 template<> struct unpacket_traits<Packet2d> { typedef double type; enum {size=2, alignment=Aligned16}; typedef Packet2d half; };
                                           ^
C:/Users/biocbuild/bbs-3.14-bioc/R/library/RcppEigen/include/Eigen/src/Core/arch/SSE/PacketMath.h:163:43: warning: ignoring attributes on template argument 'Eigen::internal::Packet4i' {aka '__vector(2) long long int'} [-Wignored-attributes]
 template<> struct unpacket_traits<Packet4i> { typedef int    type; enum {size=4, alignment=Aligned16}; typedef Packet4i half; };
                                           ^
C:/Users/biocbuild/bbs-3.14-bioc/R/library/RcppEigen/include/Eigen/src/Core/arch/SSE/PacketMath.h:718:35: warning: ignoring attributes on template argument 'Eigen::internal::Packet4f' {aka '__vector(4) float'} [-Wignored-attributes]
 struct palign_impl<Offset,Packet4f>
                                   ^
C:/Users/biocbuild/bbs-3.14-bioc/R/library/RcppEigen/include/Eigen/src/Core/arch/SSE/PacketMath.h:741:35: warning: ignoring attributes on template argument 'Eigen::internal::Packet4i' {aka '__vector(2) long long int'} [-Wignored-attributes]
 struct palign_impl<Offset,Packet4i>
                                   ^
C:/Users/biocbuild/bbs-3.14-bioc/R/library/RcppEigen/include/Eigen/src/Core/arch/SSE/PacketMath.h:764:35: warning: ignoring attributes on template argument 'Eigen::internal::Packet2d' {aka '__vector(2) double'} [-Wignored-attributes]
 struct palign_impl<Offset,Packet2d>
                                   ^
C:/Users/biocbuild/bbs-3.14-bioc/R/library/RcppEigen/include/Eigen/src/Core/arch/SSE/PacketMath.h:778:34: warning: ignoring attributes on template argument 'Eigen::internal::Packet4f' {aka '__vector(4) float'} [-Wignored-attributes]
 ptranspose(PacketBlock<Packet4f,4>& kernel) {
                                  ^
C:/Users/biocbuild/bbs-3.14-bioc/R/library/RcppEigen/include/Eigen/src/Core/arch/SSE/PacketMath.h:783:34: warning: ignoring attributes on template argument 'Eigen::internal::Packet2d' {aka '__vector(2) double'} [-Wignored-attributes]
 ptranspose(PacketBlock<Packet2d,2>& kernel) {
                                  ^
C:/Users/biocbuild/bbs-3.14-bioc/R/library/RcppEigen/include/Eigen/src/Core/arch/SSE/PacketMath.h:790:34: warning: ignoring attributes on template argument 'Eigen::internal::Packet4i' {aka '__vector(2) long long int'} [-Wignored-attributes]
 ptranspose(PacketBlock<Packet4i,4>& kernel) {
                                  ^
In file included from C:/Users/biocbuild/bbs-3.14-bioc/R/library/RcppEigen/include/Eigen/Core:377,
                 from C:/Users/biocbuild/bbs-3.14-bioc/R/library/RcppEigen/include/Eigen/Dense:1,
                 from C:/Users/biocbuild/bbs-3.14-bioc/R/library/RcppEigen/include/RcppEigenForward.h:30,
                 from C:/Users/biocbuild/bbs-3.14-bioc/R/library/RcppEigen/include/RcppEigen.h:25,
                 from RcppExports.cpp:4:
C:/Users/biocbuild/bbs-3.14-bioc/R/library/RcppEigen/include/Eigen/src/Core/arch/Default/ConjHelper.h:15:70: warning: ignoring attributes on template argument 'Eigen::internal::Packet4f' {aka '__vector(4) float'} [-Wignored-attributes]
   template<> struct conj_helper<PACKET_REAL, PACKET_CPLX, false,false> {                                          \
                                                                      ^
C:/Users/biocbuild/bbs-3.14-bioc/R/library/RcppEigen/include/Eigen/src/Core/arch/SSE/Complex.h:232:1: note: in expansion of macro 'EIGEN_MAKE_CONJ_HELPER_CPLX_REAL'
 EIGEN_MAKE_CONJ_HELPER_CPLX_REAL(Packet2cf,Packet4f)
 ^~~~~~~~~~~~~~~~~~~~~~~~~~~~~~~~
C:/Users/biocbuild/bbs-3.14-bioc/R/library/RcppEigen/include/Eigen/src/Core/arch/Default/ConjHelper.h:22:70: warning: ignoring attributes on template argument 'Eigen::internal::Packet4f' {aka '__vector(4) float'} [-Wignored-attributes]
   template<> struct conj_helper<PACKET_CPLX, PACKET_REAL, false,false> {                                          \
                                                                      ^
C:/Users/biocbuild/bbs-3.14-bioc/R/library/RcppEigen/include/Eigen/src/Core/arch/SSE/Complex.h:232:1: note: in expansion of macro 'EIGEN_MAKE_CONJ_HELPER_CPLX_REAL'
 EIGEN_MAKE_CONJ_HELPER_CPLX_REAL(Packet2cf,Packet4f)
 ^~~~~~~~~~~~~~~~~~~~~~~~~~~~~~~~
C:/Users/biocbuild/bbs-3.14-bioc/R/library/RcppEigen/include/Eigen/src/Core/arch/Default/ConjHelper.h:15:70: warning: ignoring attributes on template argument 'Eigen::internal::Packet2d' {aka '__vector(2) double'} [-Wignored-attributes]
   template<> struct conj_helper<PACKET_REAL, PACKET_CPLX, false,false> {                                          \
                                                                      ^
C:/Users/biocbuild/bbs-3.14-bioc/R/library/RcppEigen/include/Eigen/src/Core/arch/SSE/Complex.h:417:1: note: in expansion of macro 'EIGEN_MAKE_CONJ_HELPER_CPLX_REAL'
 EIGEN_MAKE_CONJ_HELPER_CPLX_REAL(Packet1cd,Packet2d)
 ^~~~~~~~~~~~~~~~~~~~~~~~~~~~~~~~
C:/Users/biocbuild/bbs-3.14-bioc/R/library/RcppEigen/include/Eigen/src/Core/arch/Default/ConjHelper.h:22:70: warning: ignoring attributes on template argument 'Eigen::internal::Packet2d' {aka '__vector(2) double'} [-Wignored-attributes]
   template<> struct conj_helper<PACKET_CPLX, PACKET_REAL, false,false> {                                          \
                                                                      ^
C:/Users/biocbuild/bbs-3.14-bioc/R/library/RcppEigen/include/Eigen/src/Core/arch/SSE/Complex.h:417:1: note: in expansion of macro 'EIGEN_MAKE_CONJ_HELPER_CPLX_REAL'
 EIGEN_MAKE_CONJ_HELPER_CPLX_REAL(Packet1cd,Packet2d)
 ^~~~~~~~~~~~~~~~~~~~~~~~~~~~~~~~
In file included from C:/Users/biocbuild/bbs-3.14-bioc/R/library/RcppEigen/include/Eigen/Core:370,
                 from C:/Users/biocbuild/bbs-3.14-bioc/R/library/RcppEigen/include/Eigen/Dense:1,
                 from C:/Users/biocbuild/bbs-3.14-bioc/R/library/RcppEigen/include/RcppEigenForward.h:30,
                 from C:/Users/biocbuild/bbs-3.14-bioc/R/library/RcppEigen/include/RcppEigen.h:25,
                 from RcppExports.cpp:4:
C:/Users/biocbuild/bbs-3.14-bioc/R/library/RcppEigen/include/Eigen/src/Core/util/XprHelper.h: In instantiation of 'struct Eigen::internal::find_best_packet<int, -1>':
C:/Users/biocbuild/bbs-3.14-bioc/R/library/RcppEigen/include/Eigen/src/Core/Matrix.h:22:57:   required from 'struct Eigen::internal::traits<Eigen::Matrix<int, 1, -1> >'
C:/Users/biocbuild/bbs-3.14-bioc/R/library/RcppEigen/include/Eigen/src/Core/Array.h:17:8:   required from 'struct Eigen::internal::traits<Eigen::Array<int, 1, -1> >'
C:/Users/biocbuild/bbs-3.14-bioc/R/library/RcppEigen/include/Eigen/src/Core/PlainObjectBase.h:98:7:   required from 'class Eigen::PlainObjectBase<Eigen::Array<int, 1, -1> >'
C:/Users/biocbuild/bbs-3.14-bioc/R/library/RcppEigen/include/Eigen/src/Core/Array.h:45:7:   required from 'class Eigen::Array<int, 1, -1>'
C:/Users/biocbuild/bbs-3.14-bioc/R/library/RcppEigen/include/Eigen/src/SVD/BDCSVD.h:101:22:   required from here
C:/Users/biocbuild/bbs-3.14-bioc/R/library/RcppEigen/include/Eigen/src/Core/util/XprHelper.h:187:44: warning: ignoring attributes on template argument 'Eigen::internal::packet_traits<int>::type' {aka '__vector(2) long long int'} [-Wignored-attributes]
          bool Stop = Size==Dynamic || (Size%unpacket_traits<PacketType>::size)==0 || is_same<PacketType,typename unpacket_traits<PacketType>::half>::value>
                                       ~~~~~^~~~~~~~~~~~~~~~~~~~~~~~~~~~~~~~~~~
C:/Users/biocbuild/bbs-3.14-bioc/R/library/RcppEigen/include/Eigen/src/Core/util/XprHelper.h:187:83: warning: ignoring attributes on template argument 'Eigen::internal::packet_traits<int>::type' {aka '__vector(2) long long int'} [-Wignored-attributes]
          bool Stop = Size==Dynamic || (Size%unpacket_traits<PacketType>::size)==0 || is_same<PacketType,typename unpacket_traits<PacketType>::half>::value>
                      ~~~~~~~~~~~~~~~~~~~~~~~~~~~~~~~~~~~~~~~~~~~~~~~~~~~~~~~~~~~~~^~~~~~~~~~~~~~~~~~~~~~~~~~~~~~~~~~~~~~~~~~~~~~~~~~~~~~~~~~~~~~~~~
C:/Users/biocbuild/bbs-3.14-bioc/R/library/RcppEigen/include/Eigen/src/Core/util/XprHelper.h:187:83: warning: ignoring attributes on template argument 'Eigen::internal::packet_traits<int>::type' {aka '__vector(2) long long int'} [-Wignored-attributes]
C:/Users/biocbuild/bbs-3.14-bioc/R/library/RcppEigen/include/Eigen/src/Core/util/XprHelper.h:187:83: warning: ignoring attributes on template argument 'Eigen::internal::unpacket_traits<__vector(2) long long int>::half' {aka '__vector(2) long long int'} [-Wignored-attributes]
C:/Users/biocbuild/bbs-3.14-bioc/R/library/RcppEigen/include/Eigen/src/Core/util/XprHelper.h:205:88: warning: ignoring attributes on template argument 'Eigen::internal::packet_traits<int>::type' {aka '__vector(2) long long int'} [-Wignored-attributes]
   typedef typename find_best_packet_helper<Size,typename packet_traits<T>::type>::type type;
                                                                                        ^~~~
In file included from C:/Users/biocbuild/bbs-3.14-bioc/R/library/RcppEigen/include/Eigen/Core:439,
                 from C:/Users/biocbuild/bbs-3.14-bioc/R/library/RcppEigen/include/Eigen/Dense:1,
                 from C:/Users/biocbuild/bbs-3.14-bioc/R/library/RcppEigen/include/RcppEigenForward.h:30,
                 from C:/Users/biocbuild/bbs-3.14-bioc/R/library/RcppEigen/include/RcppEigen.h:25,
                 from RcppExports.cpp:4:
C:/Users/biocbuild/bbs-3.14-bioc/R/library/RcppEigen/include/Eigen/src/Core/DenseCoeffsBase.h: In instantiation of 'class Eigen::DenseCoeffsBase<Eigen::Array<int, 1, -1>, 0>':
C:/Users/biocbuild/bbs-3.14-bioc/R/library/RcppEigen/include/Eigen/src/Core/DenseCoeffsBase.h:300:7:   required from 'class Eigen::DenseCoeffsBase<Eigen::Array<int, 1, -1>, 1>'
C:/Users/biocbuild/bbs-3.14-bioc/R/library/RcppEigen/include/Eigen/src/Core/DenseCoeffsBase.h:551:7:   required from 'class Eigen::DenseCoeffsBase<Eigen::Array<int, 1, -1>, 3>'
C:/Users/biocbuild/bbs-3.14-bioc/R/library/RcppEigen/include/Eigen/src/Core/DenseBase.h:41:34:   required from 'class Eigen::DenseBase<Eigen::Array<int, 1, -1> >'
C:/Users/biocbuild/bbs-3.14-bioc/R/library/RcppEigen/include/Eigen/src/Core/ArrayBase.h:39:34:   required from 'class Eigen::ArrayBase<Eigen::Array<int, 1, -1> >'
C:/Users/biocbuild/bbs-3.14-bioc/R/library/RcppEigen/include/Eigen/src/Core/PlainObjectBase.h:98:7:   required from 'class Eigen::PlainObjectBase<Eigen::Array<int, 1, -1> >'
C:/Users/biocbuild/bbs-3.14-bioc/R/library/RcppEigen/include/Eigen/src/Core/Array.h:45:7:   required from 'class Eigen::Array<int, 1, -1>'
C:/Users/biocbuild/bbs-3.14-bioc/R/library/RcppEigen/include/Eigen/src/SVD/BDCSVD.h:101:22:   required from here
C:/Users/biocbuild/bbs-3.14-bioc/R/library/RcppEigen/include/Eigen/src/Core/DenseCoeffsBase.h:55:30: warning: ignoring attributes on template argument 'Eigen::internal::packet_traits<int>::type' {aka '__vector(2) long long int'} [-Wignored-attributes]
                      >::type PacketReturnType;
                              ^~~~~~~~~~~~~~~~
C:/Users/biocbuild/bbs-3.14-bioc/R/library/RcppEigen/include/Eigen/src/Core/DenseCoeffsBase.h: In instantiation of 'class Eigen::DenseCoeffsBase<Eigen::Ref<Eigen::Array<int, 1, -1> >, 0>':
C:/Users/biocbuild/bbs-3.14-bioc/R/library/RcppEigen/include/Eigen/src/Core/DenseCoeffsBase.h:300:7:   required from 'class Eigen::DenseCoeffsBase<Eigen::Ref<Eigen::Array<int, 1, -1> >, 1>'
C:/Users/biocbuild/bbs-3.14-bioc/R/library/RcppEigen/include/Eigen/src/Core/DenseCoeffsBase.h:551:7:   required from 'class Eigen::DenseCoeffsBase<Eigen::Ref<Eigen::Array<int, 1, -1> >, 3>'
C:/Users/biocbuild/bbs-3.14-bioc/R/library/RcppEigen/include/Eigen/src/Core/DenseBase.h:41:34:   required from 'class Eigen::DenseBase<Eigen::Ref<Eigen::Array<int, 1, -1> > >'
C:/Users/biocbuild/bbs-3.14-bioc/R/library/RcppEigen/include/Eigen/src/Core/ArrayBase.h:39:34:   required from 'class Eigen::ArrayBase<Eigen::Ref<Eigen::Array<int, 1, -1> > >'
C:/Users/biocbuild/bbs-3.14-bioc/R/library/RcppEigen/include/Eigen/src/Core/MapBase.h:37:34:   required from 'class Eigen::MapBase<Eigen::Ref<Eigen::Array<int, 1, -1> >, 0>'
C:/Users/biocbuild/bbs-3.14-bioc/R/library/RcppEigen/include/Eigen/src/Core/MapBase.h:221:34:   required from 'class Eigen::MapBase<Eigen::Ref<Eigen::Array<int, 1, -1> >, 1>'
C:/Users/biocbuild/bbs-3.14-bioc/R/library/RcppEigen/include/Eigen/src/Core/Ref.h:59:34:   required from 'class Eigen::RefBase<Eigen::Ref<Eigen::Array<int, 1, -1> > >'
C:/Users/biocbuild/bbs-3.14-bioc/R/library/RcppEigen/include/Eigen/src/Core/Ref.h:193:76:   required from 'class Eigen::Ref<Eigen::Array<int, 1, -1> >'
C:/Users/biocbuild/bbs-3.14-bioc/R/library/RcppEigen/include/Eigen/src/SVD/BDCSVD.h:694:17:   required from here
C:/Users/biocbuild/bbs-3.14-bioc/R/library/RcppEigen/include/Eigen/src/Core/DenseCoeffsBase.h:55:30: warning: ignoring attributes on template argument 'Eigen::internal::packet_traits<int>::type' {aka '__vector(2) long long int'} [-Wignored-attributes]
In file included from C:/Users/biocbuild/bbs-3.14-bioc/R/library/RcppEigen/include/Eigen/Core:370,
                 from C:/Users/biocbuild/bbs-3.14-bioc/R/library/RcppEigen/include/Eigen/Dense:1,
                 from C:/Users/biocbuild/bbs-3.14-bioc/R/library/RcppEigen/include/RcppEigenForward.h:30,
                 from C:/Users/biocbuild/bbs-3.14-bioc/R/library/RcppEigen/include/RcppEigen.h:25,
                 from RcppExports.cpp:4:
C:/Users/biocbuild/bbs-3.14-bioc/R/library/RcppEigen/include/Eigen/src/Core/util/XprHelper.h: In instantiation of 'struct Eigen::internal::find_best_packet<float, 4>':
C:/Users/biocbuild/bbs-3.14-bioc/R/library/RcppEigen/include/Eigen/src/Core/Matrix.h:22:57:   required from 'struct Eigen::internal::traits<Eigen::Matrix<float, 4, 1> >'
C:/Users/biocbuild/bbs-3.14-bioc/R/library/RcppEigen/include/Eigen/src/Geometry/Quaternion.h:242:7:   required from 'struct Eigen::internal::traits<Eigen::Quaternion<float> >'
C:/Users/biocbuild/bbs-3.14-bioc/R/library/RcppEigen/include/Eigen/src/Geometry/arch/Geometry_SSE.h:24:46:   required from here
C:/Users/biocbuild/bbs-3.14-bioc/R/library/RcppEigen/include/Eigen/src/Core/util/XprHelper.h:187:44: warning: ignoring attributes on template argument 'Eigen::internal::packet_traits<float>::type' {aka '__vector(4) float'} [-Wignored-attributes]
          bool Stop = Size==Dynamic || (Size%unpacket_traits<PacketType>::size)==0 || is_same<PacketType,typename unpacket_traits<PacketType>::half>::value>
                                       ~~~~~^~~~~~~~~~~~~~~~~~~~~~~~~~~~~~~~~~~
C:/Users/biocbuild/bbs-3.14-bioc/R/library/RcppEigen/include/Eigen/src/Core/util/XprHelper.h:187:83: warning: ignoring attributes on template argument 'Eigen::internal::packet_traits<float>::type' {aka '__vector(4) float'} [-Wignored-attributes]
          bool Stop = Size==Dynamic || (Size%unpacket_traits<PacketType>::size)==0 || is_same<PacketType,typename unpacket_traits<PacketType>::half>::value>
                      ~~~~~~~~~~~~~~~~~~~~~~~~~~~~~~~~~~~~~~~~~~~~~~~~~~~~~~~~~~~~~^~~~~~~~~~~~~~~~~~~~~~~~~~~~~~~~~~~~~~~~~~~~~~~~~~~~~~~~~~~~~~~~~
C:/Users/biocbuild/bbs-3.14-bioc/R/library/RcppEigen/include/Eigen/src/Core/util/XprHelper.h:187:83: warning: ignoring attributes on template argument 'Eigen::internal::packet_traits<float>::type' {aka '__vector(4) float'} [-Wignored-attributes]
C:/Users/biocbuild/bbs-3.14-bioc/R/library/RcppEigen/include/Eigen/src/Core/util/XprHelper.h:187:83: warning: ignoring attributes on template argument 'Eigen::internal::unpacket_traits<__vector(4) float>::half' {aka '__vector(4) float'} [-Wignored-attributes]
C:/Users/biocbuild/bbs-3.14-bioc/R/library/RcppEigen/include/Eigen/src/Core/util/XprHelper.h:205:88: warning: ignoring attributes on template argument 'Eigen::internal::packet_traits<float>::type' {aka '__vector(4) float'} [-Wignored-attributes]
   typedef typename find_best_packet_helper<Size,typename packet_traits<T>::type>::type type;
                                                                                        ^~~~
In file included from C:/Users/biocbuild/bbs-3.14-bioc/R/library/RcppEigen/include/Eigen/Core:439,
                 from C:/Users/biocbuild/bbs-3.14-bioc/R/library/RcppEigen/include/Eigen/Dense:1,
                 from C:/Users/biocbuild/bbs-3.14-bioc/R/library/RcppEigen/include/RcppEigenForward.h:30,
                 from C:/Users/biocbuild/bbs-3.14-bioc/R/library/RcppEigen/include/RcppEigen.h:25,
                 from RcppExports.cpp:4:
C:/Users/biocbuild/bbs-3.14-bioc/R/library/RcppEigen/include/Eigen/src/Core/DenseCoeffsBase.h: In instantiation of 'class Eigen::DenseCoeffsBase<Eigen::Matrix<float, 4, 1>, 0>':
C:/Users/biocbuild/bbs-3.14-bioc/R/library/RcppEigen/include/Eigen/src/Core/DenseCoeffsBase.h:300:7:   required from 'class Eigen::DenseCoeffsBase<Eigen::Matrix<float, 4, 1>, 1>'
C:/Users/biocbuild/bbs-3.14-bioc/R/library/RcppEigen/include/Eigen/src/Core/DenseCoeffsBase.h:551:7:   required from 'class Eigen::DenseCoeffsBase<Eigen::Matrix<float, 4, 1>, 3>'
C:/Users/biocbuild/bbs-3.14-bioc/R/library/RcppEigen/include/Eigen/src/Core/DenseBase.h:41:34:   required from 'class Eigen::DenseBase<Eigen::Matrix<float, 4, 1> >'
C:/Users/biocbuild/bbs-3.14-bioc/R/library/RcppEigen/include/Eigen/src/Core/MatrixBase.h:48:34:   required from 'class Eigen::MatrixBase<Eigen::Matrix<float, 4, 1> >'
C:/Users/biocbuild/bbs-3.14-bioc/R/library/RcppEigen/include/Eigen/src/Core/PlainObjectBase.h:98:7:   required from 'class Eigen::PlainObjectBase<Eigen::Matrix<float, 4, 1> >'
C:/Users/biocbuild/bbs-3.14-bioc/R/library/RcppEigen/include/Eigen/src/Core/Matrix.h:178:7:   required from 'class Eigen::Matrix<float, 4, 1>'
C:/Users/biocbuild/bbs-3.14-bioc/R/library/RcppEigen/include/Eigen/src/Geometry/Quaternion.h:46:50:   required from 'class Eigen::QuaternionBase<Eigen::Quaternion<float> >'
C:/Users/biocbuild/bbs-3.14-bioc/R/library/RcppEigen/include/Eigen/src/Geometry/Quaternion.h:250:7:   required from 'class Eigen::Quaternion<float>'
C:/Users/biocbuild/bbs-3.14-bioc/R/library/RcppEigen/include/Eigen/src/Geometry/arch/Geometry_SSE.h:27:3:   required from here
C:/Users/biocbuild/bbs-3.14-bioc/R/library/RcppEigen/include/Eigen/src/Core/DenseCoeffsBase.h:55:30: warning: ignoring attributes on template argument 'Eigen::internal::packet_traits<float>::type' {aka '__vector(4) float'} [-Wignored-attributes]
                      >::type PacketReturnType;
                              ^~~~~~~~~~~~~~~~
In file included from C:/Users/biocbuild/bbs-3.14-bioc/R/library/RcppEigen/include/Eigen/Core:370,
                 from C:/Users/biocbuild/bbs-3.14-bioc/R/library/RcppEigen/include/Eigen/Dense:1,
                 from C:/Users/biocbuild/bbs-3.14-bioc/R/library/RcppEigen/include/RcppEigenForward.h:30,
                 from C:/Users/biocbuild/bbs-3.14-bioc/R/library/RcppEigen/include/RcppEigen.h:25,
                 from RcppExports.cpp:4:
C:/Users/biocbuild/bbs-3.14-bioc/R/library/RcppEigen/include/Eigen/src/Core/util/XprHelper.h: In instantiation of 'struct Eigen::internal::find_best_packet<double, 4>':
C:/Users/biocbuild/bbs-3.14-bioc/R/library/RcppEigen/include/Eigen/src/Core/Matrix.h:22:57:   required from 'struct Eigen::internal::traits<Eigen::Matrix<double, 4, 1> >'
C:/Users/biocbuild/bbs-3.14-bioc/R/library/RcppEigen/include/Eigen/src/Geometry/Quaternion.h:242:7:   required from 'struct Eigen::internal::traits<Eigen::Quaternion<double> >'
C:/Users/biocbuild/bbs-3.14-bioc/R/library/RcppEigen/include/Eigen/src/Geometry/arch/Geometry_SSE.h:88:47:   required from here
C:/Users/biocbuild/bbs-3.14-bioc/R/library/RcppEigen/include/Eigen/src/Core/util/XprHelper.h:187:44: warning: ignoring attributes on template argument 'Eigen::internal::packet_traits<double>::type' {aka '__vector(2) double'} [-Wignored-attributes]
          bool Stop = Size==Dynamic || (Size%unpacket_traits<PacketType>::size)==0 || is_same<PacketType,typename unpacket_traits<PacketType>::half>::value>
                                       ~~~~~^~~~~~~~~~~~~~~~~~~~~~~~~~~~~~~~~~~
C:/Users/biocbuild/bbs-3.14-bioc/R/library/RcppEigen/include/Eigen/src/Core/util/XprHelper.h:187:83: warning: ignoring attributes on template argument 'Eigen::internal::packet_traits<double>::type' {aka '__vector(2) double'} [-Wignored-attributes]
          bool Stop = Size==Dynamic || (Size%unpacket_traits<PacketType>::size)==0 || is_same<PacketType,typename unpacket_traits<PacketType>::half>::value>
                      ~~~~~~~~~~~~~~~~~~~~~~~~~~~~~~~~~~~~~~~~~~~~~~~~~~~~~~~~~~~~~^~~~~~~~~~~~~~~~~~~~~~~~~~~~~~~~~~~~~~~~~~~~~~~~~~~~~~~~~~~~~~~~~
C:/Users/biocbuild/bbs-3.14-bioc/R/library/RcppEigen/include/Eigen/src/Core/util/XprHelper.h:187:83: warning: ignoring attributes on template argument 'Eigen::internal::packet_traits<double>::type' {aka '__vector(2) double'} [-Wignored-attributes]
C:/Users/biocbuild/bbs-3.14-bioc/R/library/RcppEigen/include/Eigen/src/Core/util/XprHelper.h:187:83: warning: ignoring attributes on template argument 'Eigen::internal::unpacket_traits<__vector(2) double>::half' {aka '__vector(2) double'} [-Wignored-attributes]
C:/Users/biocbuild/bbs-3.14-bioc/R/library/RcppEigen/include/Eigen/src/Core/util/XprHelper.h:205:88: warning: ignoring attributes on template argument 'Eigen::internal::packet_traits<double>::type' {aka '__vector(2) double'} [-Wignored-attributes]
   typedef typename find_best_packet_helper<Size,typename packet_traits<T>::type>::type type;
                                                                                        ^~~~
In file included from C:/Users/biocbuild/bbs-3.14-bioc/R/library/RcppEigen/include/Eigen/Core:439,
                 from C:/Users/biocbuild/bbs-3.14-bioc/R/library/RcppEigen/include/Eigen/Dense:1,
                 from C:/Users/biocbuild/bbs-3.14-bioc/R/library/RcppEigen/include/RcppEigenForward.h:30,
                 from C:/Users/biocbuild/bbs-3.14-bioc/R/library/RcppEigen/include/RcppEigen.h:25,
                 from RcppExports.cpp:4:
C:/Users/biocbuild/bbs-3.14-bioc/R/library/RcppEigen/include/Eigen/src/Core/DenseCoeffsBase.h: In instantiation of 'class Eigen::DenseCoeffsBase<Eigen::Matrix<double, 4, 1>, 0>':
C:/Users/biocbuild/bbs-3.14-bioc/R/library/RcppEigen/include/Eigen/src/Core/DenseCoeffsBase.h:300:7:   required from 'class Eigen::DenseCoeffsBase<Eigen::Matrix<double, 4, 1>, 1>'
C:/Users/biocbuild/bbs-3.14-bioc/R/library/RcppEigen/include/Eigen/src/Core/DenseCoeffsBase.h:551:7:   required from 'class Eigen::DenseCoeffsBase<Eigen::Matrix<double, 4, 1>, 3>'
C:/Users/biocbuild/bbs-3.14-bioc/R/library/RcppEigen/include/Eigen/src/Core/DenseBase.h:41:34:   required from 'class Eigen::DenseBase<Eigen::Matrix<double, 4, 1> >'
C:/Users/biocbuild/bbs-3.14-bioc/R/library/RcppEigen/include/Eigen/src/Core/MatrixBase.h:48:34:   required from 'class Eigen::MatrixBase<Eigen::Matrix<double, 4, 1> >'
C:/Users/biocbuild/bbs-3.14-bioc/R/library/RcppEigen/include/Eigen/src/Core/PlainObjectBase.h:98:7:   required from 'class Eigen::PlainObjectBase<Eigen::Matrix<double, 4, 1> >'
C:/Users/biocbuild/bbs-3.14-bioc/R/library/RcppEigen/include/Eigen/src/Core/Matrix.h:178:7:   required from 'class Eigen::Matrix<double, 4, 1>'
C:/Users/biocbuild/bbs-3.14-bioc/R/library/RcppEigen/include/Eigen/src/Geometry/Quaternion.h:46:50:   required from 'class Eigen::QuaternionBase<Eigen::Quaternion<double> >'
C:/Users/biocbuild/bbs-3.14-bioc/R/library/RcppEigen/include/Eigen/src/Geometry/Quaternion.h:250:7:   required from 'class Eigen::Quaternion<double>'
C:/Users/biocbuild/bbs-3.14-bioc/R/library/RcppEigen/include/Eigen/src/Geometry/arch/Geometry_SSE.h:92:3:   required from here
C:/Users/biocbuild/bbs-3.14-bioc/R/library/RcppEigen/include/Eigen/src/Core/DenseCoeffsBase.h:55:30: warning: ignoring attributes on template argument 'Eigen::internal::packet_traits<double>::type' {aka '__vector(2) double'} [-Wignored-attributes]
                      >::type PacketReturnType;
                              ^~~~~~~~~~~~~~~~
In file included from C:/Users/biocbuild/bbs-3.14-bioc/R/library/RcppEigen/include/Eigen/SparseCore:37,
                 from C:/Users/biocbuild/bbs-3.14-bioc/R/library/RcppEigen/include/Eigen/Sparse:26,
                 from C:/Users/biocbuild/bbs-3.14-bioc/R/library/RcppEigen/include/RcppEigenForward.h:31,
                 from C:/Users/biocbuild/bbs-3.14-bioc/R/library/RcppEigen/include/RcppEigen.h:25,
                 from RcppExports.cpp:4:
C:/Users/biocbuild/bbs-3.14-bioc/R/library/RcppEigen/include/Eigen/src/SparseCore/SparseMatrixBase.h: In instantiation of 'class Eigen::SparseMatrixBase<Eigen::SparseMatrix<double, 0, int> >':
C:/Users/biocbuild/bbs-3.14-bioc/R/library/RcppEigen/include/Eigen/src/SparseCore/SparseCompressedBase.h:36:7:   required from 'class Eigen::SparseCompressedBase<Eigen::SparseMatrix<double, 0, int> >'
C:/Users/biocbuild/bbs-3.14-bioc/R/library/RcppEigen/include/Eigen/src/SparseCore/SparseMatrix.h:96:7:   required from 'class Eigen::SparseMatrix<double, 0, int>'
C:/Users/biocbuild/bbs-3.14-bioc/R/library/RcppEigen/include/unsupported/Eigen/src/IterativeSolvers/ConstrainedConjGrad.h:61:25:   required from here
C:/Users/biocbuild/bbs-3.14-bioc/R/library/RcppEigen/include/Eigen/src/SparseCore/SparseMatrixBase.h:47:30: warning: ignoring attributes on template argument 'Eigen::internal::packet_traits<double>::type' {aka '__vector(2) double'} [-Wignored-attributes]
                      >::type PacketReturnType;
                              ^~~~~~~~~~~~~~~~
In file included from C:/Users/biocbuild/bbs-3.14-bioc/R/library/RcppEigen/include/Eigen/Core:439,
                 from C:/Users/biocbuild/bbs-3.14-bioc/R/library/RcppEigen/include/Eigen/Dense:1,
                 from C:/Users/biocbuild/bbs-3.14-bioc/R/library/RcppEigen/include/RcppEigenForward.h:30,
                 from C:/Users/biocbuild/bbs-3.14-bioc/R/library/RcppEigen/include/RcppEigen.h:25,
                 from RcppExports.cpp:4:
C:/Users/biocbuild/bbs-3.14-bioc/R/library/RcppEigen/include/Eigen/src/Core/DenseCoeffsBase.h: In instantiation of 'class Eigen::DenseCoeffsBase<Eigen::Matrix<int, -1, 1>, 0>':
C:/Users/biocbuild/bbs-3.14-bioc/R/library/RcppEigen/include/Eigen/src/Core/DenseCoeffsBase.h:300:7:   required from 'class Eigen::DenseCoeffsBase<Eigen::Matrix<int, -1, 1>, 1>'
C:/Users/biocbuild/bbs-3.14-bioc/R/library/RcppEigen/include/Eigen/src/Core/DenseCoeffsBase.h:551:7:   required from 'class Eigen::DenseCoeffsBase<Eigen::Matrix<int, -1, 1>, 3>'
C:/Users/biocbuild/bbs-3.14-bioc/R/library/RcppEigen/include/Eigen/src/Core/DenseBase.h:41:34:   required from 'class Eigen::DenseBase<Eigen::Matrix<int, -1, 1> >'
C:/Users/biocbuild/bbs-3.14-bioc/R/library/RcppEigen/include/Eigen/src/Core/MatrixBase.h:48:34:   required from 'class Eigen::MatrixBase<Eigen::Matrix<int, -1, 1> >'
C:/Users/biocbuild/bbs-3.14-bioc/R/library/RcppEigen/include/Eigen/src/Core/PlainObjectBase.h:98:7:   required from 'class Eigen::PlainObjectBase<Eigen::Matrix<int, -1, 1> >'
C:/Users/biocbuild/bbs-3.14-bioc/R/library/RcppEigen/include/Eigen/src/Core/Matrix.h:178:7:   required from 'class Eigen::Matrix<int, -1, 1>'
C:/Users/biocbuild/bbs-3.14-bioc/R/library/RcppEigen/include/unsupported/Eigen/src/KroneckerProduct/KroneckerTensorProduct.h:168:29:   required from here
C:/Users/biocbuild/bbs-3.14-bioc/R/library/RcppEigen/include/Eigen/src/Core/DenseCoeffsBase.h:55:30: warning: ignoring attributes on template argument 'Eigen::internal::packet_traits<int>::type' {aka '__vector(2) long long int'} [-Wignored-attributes]
                      >::type PacketReturnType;
                              ^~~~~~~~~~~~~~~~
C:/Users/biocbuild/bbs-3.14-bioc/R/library/RcppEigen/include/Eigen/src/Core/DenseCoeffsBase.h: In instantiation of 'class Eigen::DenseCoeffsBase<Eigen::Transpose<Eigen::Matrix<int, -1, 1> >, 0>':
C:/Users/biocbuild/bbs-3.14-bioc/R/library/RcppEigen/include/Eigen/src/Core/DenseCoeffsBase.h:300:7:   required from 'class Eigen::DenseCoeffsBase<Eigen::Transpose<Eigen::Matrix<int, -1, 1> >, 1>'
C:/Users/biocbuild/bbs-3.14-bioc/R/library/RcppEigen/include/Eigen/src/Core/DenseCoeffsBase.h:551:7:   required from 'class Eigen::DenseCoeffsBase<Eigen::Transpose<Eigen::Matrix<int, -1, 1> >, 3>'
C:/Users/biocbuild/bbs-3.14-bioc/R/library/RcppEigen/include/Eigen/src/Core/DenseBase.h:41:34:   required from 'class Eigen::DenseBase<Eigen::Transpose<Eigen::Matrix<int, -1, 1> > >'
C:/Users/biocbuild/bbs-3.14-bioc/R/library/RcppEigen/include/Eigen/src/Core/MatrixBase.h:48:34:   required from 'class Eigen::MatrixBase<Eigen::Transpose<Eigen::Matrix<int, -1, 1> > >'
C:/Users/biocbuild/bbs-3.14-bioc/R/library/RcppEigen/include/Eigen/src/Core/Transpose.h:115:37:   required from 'class Eigen::TransposeImpl<Eigen::Matrix<int, -1, 1>, Eigen::Dense>'
C:/Users/biocbuild/bbs-3.14-bioc/R/library/RcppEigen/include/Eigen/src/Core/Transpose.h:52:37:   required from 'class Eigen::Transpose<Eigen::Matrix<int, -1, 1> >'
C:/Users/biocbuild/bbs-3.14-bioc/R/library/RcppEigen/include/unsupported/Eigen/src/KroneckerProduct/KroneckerTensorProduct.h:178:72:   required from here
C:/Users/biocbuild/bbs-3.14-bioc/R/library/RcppEigen/include/Eigen/src/Core/DenseCoeffsBase.h:55:30: warning: ignoring attributes on template argument 'Eigen::internal::packet_traits<int>::type' {aka '__vector(2) long long int'} [-Wignored-attributes]
C:/Users/biocbuild/bbs-3.14-bioc/R/library/RcppEigen/include/Eigen/src/Core/DenseCoeffsBase.h: In instantiation of 'class Eigen::DenseCoeffsBase<Eigen::Matrix<int, -1, -1>, 0>':
C:/Users/biocbuild/bbs-3.14-bioc/R/library/RcppEigen/include/Eigen/src/Core/DenseCoeffsBase.h:300:7:   required from 'class Eigen::DenseCoeffsBase<Eigen::Matrix<int, -1, -1>, 1>'
C:/Users/biocbuild/bbs-3.14-bioc/R/library/RcppEigen/include/Eigen/src/Core/DenseCoeffsBase.h:551:7:   required from 'class Eigen::DenseCoeffsBase<Eigen::Matrix<int, -1, -1>, 3>'
C:/Users/biocbuild/bbs-3.14-bioc/R/library/RcppEigen/include/Eigen/src/Core/DenseBase.h:41:34:   required from 'class Eigen::DenseBase<Eigen::Matrix<int, -1, -1> >'
C:/Users/biocbuild/bbs-3.14-bioc/R/library/RcppEigen/include/Eigen/src/Core/MatrixBase.h:48:34:   required from 'class Eigen::MatrixBase<Eigen::Matrix<int, -1, -1> >'
C:/Users/biocbuild/bbs-3.14-bioc/R/library/RcppEigen/include/Eigen/src/Core/PlainObjectBase.h:98:7:   required from 'class Eigen::PlainObjectBase<Eigen::Matrix<int, -1, -1> >'
C:/Users/biocbuild/bbs-3.14-bioc/R/library/RcppEigen/include/Eigen/src/Core/Matrix.h:178:7:   required from 'class Eigen::Matrix<int, -1, -1>'
C:/Users/biocbuild/bbs-3.14-bioc/R/library/RcppEigen/include/unsupported/Eigen/src/KroneckerProduct/KroneckerTensorProduct.h:179:36:   required from here
C:/Users/biocbuild/bbs-3.14-bioc/R/library/RcppEigen/include/Eigen/src/Core/DenseCoeffsBase.h:55:30: warning: ignoring attributes on template argument 'Eigen::internal::packet_traits<int>::type' {aka '__vector(2) long long int'} [-Wignored-attributes]
C:/Users/biocbuild/bbs-3.14-bioc/R/library/RcppEigen/include/Eigen/src/Core/DenseCoeffsBase.h: In instantiation of 'class Eigen::DenseCoeffsBase<Eigen::SparseMatrix<double, 0, int>, 0>':
C:/Users/biocbuild/bbs-3.14-bioc/R/library/RcppEigen/include/Eigen/src/SparseCore/SparseCompressedBase.h:298:80:   required from 'struct Eigen::internal::evaluator<Eigen::SparseCompressedBase<Eigen::SparseMatrix<double, 0, int> > >'
C:/Users/biocbuild/bbs-3.14-bioc/R/library/RcppEigen/include/Eigen/src/SparseCore/SparseMatrix.h:1391:8:   required from 'struct Eigen::internal::evaluator<Eigen::SparseMatrix<double, 0, int> >'
C:/Users/biocbuild/bbs-3.14-bioc/R/library/RcppEigen/include/Eigen/src/SparseCore/SparseAssign.h:77:20:   required from 'void Eigen::internal::assign_sparse_to_sparse(DstXprType&, const SrcXprType&) [with DstXprType = Eigen::SparseMatrix<double, 0, int>; SrcXprType = Eigen::SparseMatrix<double, 0, int>]'
C:/Users/biocbuild/bbs-3.14-bioc/R/library/RcppEigen/include/Eigen/src/SparseCore/SparseAssign.h:132:28:   required from 'static void Eigen::internal::Assignment<DstXprType, SrcXprType, Functor, Eigen::internal::Sparse2Sparse>::run(DstXprType&, const SrcXprType&, const Eigen::internal::assign_op<typename DstXprType::Scalar, typename SrcXprType::Scalar>&) [with DstXprType = Eigen::SparseMatrix<double, 0, int>; SrcXprType = Eigen::SparseMatrix<double, 0, int>; Functor = Eigen::internal::assign_op<double, double>; typename SrcXprType::Scalar = double; typename DstXprType::Scalar = double]'
C:/Users/biocbuild/bbs-3.14-bioc/R/library/RcppEigen/include/Eigen/src/Core/AssignEvaluator.h:836:49:   required from 'void Eigen::internal::call_assignment_no_alias(Dst&, const Src&, const Func&) [with Dst = Eigen::SparseMatrix<double, 0, int>; Src = Eigen::SparseMatrix<double, 0, int>; Func = Eigen::internal::assign_op<double, double>]'
C:/Users/biocbuild/bbs-3.14-bioc/R/library/RcppEigen/include/Eigen/src/Core/AssignEvaluator.h:842:27:   required from 'void Eigen::internal::call_assignment_no_alias(Dst&, const Src&) [with Dst = Eigen::SparseMatrix<double, 0, int>; Src = Eigen::SparseMatrix<double, 0, int>]'
C:/Users/biocbuild/bbs-3.14-bioc/R/library/RcppEigen/include/Eigen/src/SparseCore/SparseAssign.h:45:37:   required from 'Derived& Eigen::SparseMatrixBase<Derived>::operator=(const Derived&) [with Derived = Eigen::SparseMatrix<double, 0, int>]'
C:/Users/biocbuild/bbs-3.14-bioc/R/library/RcppEigen/include/Eigen/src/SparseCore/SparseMatrix.h:774:26:   required from 'Eigen::SparseMatrix<_Scalar, _Flags, _StorageIndex>& Eigen::SparseMatrix<_Scalar, _Flags, _StorageIndex>::operator=(const Eigen::SparseMatrix<_Scalar, _Flags, _StorageIndex>&) [with _Scalar = double; int _Options = 0; _StorageIndex = int]'
C:/Users/biocbuild/bbs-3.14-bioc/R/library/RcppEigen/include/Eigen/src/SparseCore/SparseMatrix.h:709:13:   required from 'Eigen::SparseMatrix<_Scalar, _Flags, _StorageIndex>::SparseMatrix(const Eigen::SparseMatrix<_Scalar, _Flags, _StorageIndex>&) [with _Scalar = double; int _Options = 0; _StorageIndex = int]'
RcppExports.cpp:27:127:   required from here
C:/Users/biocbuild/bbs-3.14-bioc/R/library/RcppEigen/include/Eigen/src/Core/DenseCoeffsBase.h:55:30: warning: ignoring attributes on template argument 'Eigen::internal::packet_traits<double>::type' {aka '__vector(2) double'} [-Wignored-attributes]
C:/Users/biocbuild/bbs-3.14-bioc/R/library/RcppEigen/include/Eigen/src/Core/DenseCoeffsBase.h: In instantiation of 'class Eigen::DenseCoeffsBase<Eigen::Map<const Eigen::Matrix<int, -1, 1>, 0, Eigen::Stride<0, 0> >, 0>':
C:/Users/biocbuild/bbs-3.14-bioc/R/library/RcppEigen/include/Eigen/src/Core/DenseCoeffsBase.h:478:7:   required from 'class Eigen::DenseCoeffsBase<Eigen::Map<const Eigen::Matrix<int, -1, 1>, 0, Eigen::Stride<0, 0> >, 2>'
C:/Users/biocbuild/bbs-3.14-bioc/R/library/RcppEigen/include/Eigen/src/Core/DenseBase.h:41:34:   required from 'class Eigen::DenseBase<Eigen::Map<const Eigen::Matrix<int, -1, 1>, 0, Eigen::Stride<0, 0> > >'
C:/Users/biocbuild/bbs-3.14-bioc/R/library/RcppEigen/include/Eigen/src/Core/MatrixBase.h:48:34:   required from 'class Eigen::MatrixBase<Eigen::Map<const Eigen::Matrix<int, -1, 1>, 0, Eigen::Stride<0, 0> > >'
C:/Users/biocbuild/bbs-3.14-bioc/R/library/RcppEigen/include/Eigen/src/Core/MapBase.h:37:34:   required from 'class Eigen::MapBase<Eigen::Map<const Eigen::Matrix<int, -1, 1>, 0, Eigen::Stride<0, 0> >, 0>'
C:/Users/biocbuild/bbs-3.14-bioc/R/library/RcppEigen/include/Eigen/src/Core/Map.h:94:79:   required from 'class Eigen::Map<const Eigen::Matrix<int, -1, 1>, 0, Eigen::Stride<0, 0> >'
C:/Users/biocbuild/bbs-3.14-bioc/R/library/RcppEigen/include/Eigen/src/SparseCore/SparseCompressedBase.h:65:32:   [ skipping 3 instantiation contexts, use -ftemplate-backtrace-limit=0 to disable ]
C:/Users/biocbuild/bbs-3.14-bioc/R/library/RcppEigen/include/RcppEigenWrap.h:149:39:   required from 'SEXPREC* Rcpp::RcppEigen::eigen_wrap(const T&) [with T = Eigen::SparseMatrix<double, 0, int>; SEXP = SEXPREC*]'
C:/Users/biocbuild/bbs-3.14-bioc/R/library/Rcpp/include/Rcpp/internal/wrap.h:776:49:   required from 'SEXPREC* Rcpp::internal::wrap_dispatch_eigen(const T&, Rcpp::traits::true_type) [with T = Eigen::SparseMatrix<double, 0, int>; SEXP = SEXPREC*; Rcpp::traits::true_type = Rcpp::traits::integral_constant<bool, true>]'
C:/Users/biocbuild/bbs-3.14-bioc/R/library/Rcpp/include/Rcpp/internal/wrap.h:787:39:   required from 'SEXPREC* Rcpp::internal::wrap_dispatch_unknown_importable(const T&, Rcpp::traits::false_type) [with T = Eigen::SparseMatrix<double, 0, int>; SEXP = SEXPREC*; Rcpp::traits::false_type = Rcpp::traits::integral_constant<bool, false>]'
C:/Users/biocbuild/bbs-3.14-bioc/R/library/Rcpp/include/Rcpp/internal/wrap.h:807:52:   required from 'SEXPREC* Rcpp::internal::wrap_dispatch(const T&, Rcpp::traits::wrap_type_unknown_tag) [with T = Eigen::SparseMatrix<double, 0, int>; SEXP = SEXPREC*]'
C:/Users/biocbuild/bbs-3.14-bioc/R/library/Rcpp/include/Rcpp/internal/wrap_end.h:30:38:   required from 'SEXPREC* Rcpp::wrap(const T&) [with T = Eigen::SparseMatrix<double, 0, int>; SEXP = SEXPREC*]'
RcppExports.cpp:27:128:   required from here
C:/Users/biocbuild/bbs-3.14-bioc/R/library/RcppEigen/include/Eigen/src/Core/DenseCoeffsBase.h:55:30: warning: ignoring attributes on template argument 'Eigen::internal::packet_traits<int>::type' {aka '__vector(2) long long int'} [-Wignored-attributes]
C:/Users/biocbuild/bbs-3.14-bioc/R/library/RcppEigen/include/Eigen/src/Core/DenseCoeffsBase.h: In instantiation of 'Eigen::Index Eigen::internal::first_default_aligned(const Eigen::DenseBase<Derived>&) [with Derived = Eigen::Map<const Eigen::Matrix<int, -1, 1>, 0, Eigen::Stride<0, 0> >; Eigen::Index = int]':
C:/Users/biocbuild/bbs-3.14-bioc/R/library/RcppEigen/include/Eigen/src/Core/Redux.h:225:63:   required from 'static Eigen::internal::redux_impl<Func, Derived, 3, 0>::Scalar Eigen::internal::redux_impl<Func, Derived, 3, 0>::run(const Derived&, const Func&) [with Func = Eigen::internal::scalar_sum_op<int, int>; Derived = Eigen::internal::redux_evaluator<Eigen::Map<const Eigen::Matrix<int, -1, 1>, 0, Eigen::Stride<0, 0> > >; Eigen::internal::redux_impl<Func, Derived, 3, 0>::Scalar = int]'
C:/Users/biocbuild/bbs-3.14-bioc/R/library/RcppEigen/include/Eigen/src/Core/Redux.h:418:56:   required from 'typename Eigen::internal::traits<T>::Scalar Eigen::DenseBase<Derived>::redux(const Func&) const [with BinaryOp = Eigen::internal::scalar_sum_op<int, int>; Derived = Eigen::Map<const Eigen::Matrix<int, -1, 1>, 0, Eigen::Stride<0, 0> >; typename Eigen::internal::traits<T>::Scalar = int]'
C:/Users/biocbuild/bbs-3.14-bioc/R/library/RcppEigen/include/Eigen/src/Core/Redux.h:453:73:   required from 'typename Eigen::internal::traits<T>::Scalar Eigen::DenseBase<Derived>::sum() const [with Derived = Eigen::Map<const Eigen::Matrix<int, -1, 1>, 0, Eigen::Stride<0, 0> >; typename Eigen::internal::traits<T>::Scalar = int]'
C:/Users/biocbuild/bbs-3.14-bioc/R/library/RcppEigen/include/Eigen/src/SparseCore/SparseCompressedBase.h:65:36:   required from 'Eigen::Index Eigen::SparseCompressedBase<Derived>::nonZeros() const [with Derived = Eigen::SparseMatrix<double, 0, int>; Eigen::Index = int]'
C:/Users/biocbuild/bbs-3.14-bioc/R/library/RcppEigen/include/RcppEigenWrap.h:119:26:   [ skipping 2 instantiation contexts, use -ftemplate-backtrace-limit=0 to disable ]
C:/Users/biocbuild/bbs-3.14-bioc/R/library/RcppEigen/include/RcppEigenWrap.h:149:39:   required from 'SEXPREC* Rcpp::RcppEigen::eigen_wrap(const T&) [with T = Eigen::SparseMatrix<double, 0, int>; SEXP = SEXPREC*]'
C:/Users/biocbuild/bbs-3.14-bioc/R/library/Rcpp/include/Rcpp/internal/wrap.h:776:49:   required from 'SEXPREC* Rcpp::internal::wrap_dispatch_eigen(const T&, Rcpp::traits::true_type) [with T = Eigen::SparseMatrix<double, 0, int>; SEXP = SEXPREC*; Rcpp::traits::true_type = Rcpp::traits::integral_constant<bool, true>]'
C:/Users/biocbuild/bbs-3.14-bioc/R/library/Rcpp/include/Rcpp/internal/wrap.h:787:39:   required from 'SEXPREC* Rcpp::internal::wrap_dispatch_unknown_importable(const T&, Rcpp::traits::false_type) [with T = Eigen::SparseMatrix<double, 0, int>; SEXP = SEXPREC*; Rcpp::traits::false_type = Rcpp::traits::integral_constant<bool, false>]'
C:/Users/biocbuild/bbs-3.14-bioc/R/library/Rcpp/include/Rcpp/internal/wrap.h:807:52:   required from 'SEXPREC* Rcpp::internal::wrap_dispatch(const T&, Rcpp::traits::wrap_type_unknown_tag) [with T = Eigen::SparseMatrix<double, 0, int>; SEXP = SEXPREC*]'
C:/Users/biocbuild/bbs-3.14-bioc/R/library/Rcpp/include/Rcpp/internal/wrap_end.h:30:38:   required from 'SEXPREC* Rcpp::wrap(const T&) [with T = Eigen::SparseMatrix<double, 0, int>; SEXP = SEXPREC*]'
RcppExports.cpp:27:128:   required from here
C:/Users/biocbuild/bbs-3.14-bioc/R/library/RcppEigen/include/Eigen/src/Core/DenseCoeffsBase.h:650:34: warning: ignoring attributes on template argument 'Eigen::internal::packet_traits<int>::type' {aka '__vector(2) long long int'} [-Wignored-attributes]
   return internal::first_aligned<int(unpacket_traits<DefaultPacketType>::alignment),Derived>(m);
                                  ^~~~~~~~~~~~~~~~~~~~~~~~~~~~~~~~~~~~~~~~~~~~~~~~~~
"C:/rtools40/mingw32/bin/"g++  -std=gnu++11 -I"C:/Users/BIOCBU~1/BBS-3~1.14-/R/include" -DNDEBUG  -I'C:/Users/biocbuild/bbs-3.14-bioc/R/library/Rcpp/include' -I'C:/Users/biocbuild/bbs-3.14-bioc/R/library/RcppEigen/include' -I'C:/Users/biocbuild/bbs-3.14-bioc/R/library/grDevices/include'   -I"C:/extsoft/include"  -ggdb   -O2 -Wall  -mfpmath=sse -msse2 -mstackrealign  -c censoring.cpp -o censoring.o
In file included from C:/Users/biocbuild/bbs-3.14-bioc/R/library/RcppEigen/include/Eigen/Core:397,
                 from C:/Users/biocbuild/bbs-3.14-bioc/R/library/RcppEigen/include/Eigen/Dense:1,
                 from C:/Users/biocbuild/bbs-3.14-bioc/R/library/RcppEigen/include/RcppEigenForward.h:30,
                 from C:/Users/biocbuild/bbs-3.14-bioc/R/library/RcppEigen/include/RcppEigen.h:25,
                 from censoring.cpp:7:
C:/Users/biocbuild/bbs-3.14-bioc/R/library/RcppEigen/include/Eigen/src/Core/arch/SSE/PacketMath.h:60:39: warning: ignoring attributes on template argument '__m128' {aka '__vector(4) float'} [-Wignored-attributes]
 template<> struct is_arithmetic<__m128>  { enum { value = true }; };
                                       ^
C:/Users/biocbuild/bbs-3.14-bioc/R/library/RcppEigen/include/Eigen/src/Core/arch/SSE/PacketMath.h:61:40: warning: ignoring attributes on template argument '__m128i' {aka '__vector(2) long long int'} [-Wignored-attributes]
 template<> struct is_arithmetic<__m128i> { enum { value = true }; };
                                        ^
C:/Users/biocbuild/bbs-3.14-bioc/R/library/RcppEigen/include/Eigen/src/Core/arch/SSE/PacketMath.h:62:40: warning: ignoring attributes on template argument '__m128d' {aka '__vector(2) double'} [-Wignored-attributes]
 template<> struct is_arithmetic<__m128d> { enum { value = true }; };
                                        ^
C:/Users/biocbuild/bbs-3.14-bioc/R/library/RcppEigen/include/Eigen/src/Core/arch/SSE/PacketMath.h:161:43: warning: ignoring attributes on template argument 'Eigen::internal::Packet4f' {aka '__vector(4) float'} [-Wignored-attributes]
 template<> struct unpacket_traits<Packet4f> { typedef float  type; enum {size=4, alignment=Aligned16}; typedef Packet4f half; };
                                           ^
C:/Users/biocbuild/bbs-3.14-bioc/R/library/RcppEigen/include/Eigen/src/Core/arch/SSE/PacketMath.h:162:43: warning: ignoring attributes on template argument 'Eigen::internal::Packet2d' {aka '__vector(2) double'} [-Wignored-attributes]
 template<> struct unpacket_traits<Packet2d> { typedef double type; enum {size=2, alignment=Aligned16}; typedef Packet2d half; };
                                           ^
C:/Users/biocbuild/bbs-3.14-bioc/R/library/RcppEigen/include/Eigen/src/Core/arch/SSE/PacketMath.h:163:43: warning: ignoring attributes on template argument 'Eigen::internal::Packet4i' {aka '__vector(2) long long int'} [-Wignored-attributes]
 template<> struct unpacket_traits<Packet4i> { typedef int    type; enum {size=4, alignment=Aligned16}; typedef Packet4i half; };
                                           ^
C:/Users/biocbuild/bbs-3.14-bioc/R/library/RcppEigen/include/Eigen/src/Core/arch/SSE/PacketMath.h:718:35: warning: ignoring attributes on template argument 'Eigen::internal::Packet4f' {aka '__vector(4) float'} [-Wignored-attributes]
 struct palign_impl<Offset,Packet4f>
                                   ^
C:/Users/biocbuild/bbs-3.14-bioc/R/library/RcppEigen/include/Eigen/src/Core/arch/SSE/PacketMath.h:741:35: warning: ignoring attributes on template argument 'Eigen::internal::Packet4i' {aka '__vector(2) long long int'} [-Wignored-attributes]
 struct palign_impl<Offset,Packet4i>
                                   ^
C:/Users/biocbuild/bbs-3.14-bioc/R/library/RcppEigen/include/Eigen/src/Core/arch/SSE/PacketMath.h:764:35: warning: ignoring attributes on template argument 'Eigen::internal::Packet2d' {aka '__vector(2) double'} [-Wignored-attributes]
 struct palign_impl<Offset,Packet2d>
                                   ^
C:/Users/biocbuild/bbs-3.14-bioc/R/library/RcppEigen/include/Eigen/src/Core/arch/SSE/PacketMath.h:778:34: warning: ignoring attributes on template argument 'Eigen::internal::Packet4f' {aka '__vector(4) float'} [-Wignored-attributes]
 ptranspose(PacketBlock<Packet4f,4>& kernel) {
                                  ^
C:/Users/biocbuild/bbs-3.14-bioc/R/library/RcppEigen/include/Eigen/src/Core/arch/SSE/PacketMath.h:783:34: warning: ignoring attributes on template argument 'Eigen::internal::Packet2d' {aka '__vector(2) double'} [-Wignored-attributes]
 ptranspose(PacketBlock<Packet2d,2>& kernel) {
                                  ^
C:/Users/biocbuild/bbs-3.14-bioc/R/library/RcppEigen/include/Eigen/src/Core/arch/SSE/PacketMath.h:790:34: warning: ignoring attributes on template argument 'Eigen::internal::Packet4i' {aka '__vector(2) long long int'} [-Wignored-attributes]
 ptranspose(PacketBlock<Packet4i,4>& kernel) {
                                  ^
In file included from C:/Users/biocbuild/bbs-3.14-bioc/R/library/RcppEigen/include/Eigen/Core:377,
                 from C:/Users/biocbuild/bbs-3.14-bioc/R/library/RcppEigen/include/Eigen/Dense:1,
                 from C:/Users/biocbuild/bbs-3.14-bioc/R/library/RcppEigen/include/RcppEigenForward.h:30,
                 from C:/Users/biocbuild/bbs-3.14-bioc/R/library/RcppEigen/include/RcppEigen.h:25,
                 from censoring.cpp:7:
C:/Users/biocbuild/bbs-3.14-bioc/R/library/RcppEigen/include/Eigen/src/Core/arch/Default/ConjHelper.h:15:70: warning: ignoring attributes on template argument 'Eigen::internal::Packet4f' {aka '__vector(4) float'} [-Wignored-attributes]
   template<> struct conj_helper<PACKET_REAL, PACKET_CPLX, false,false> {                                          \
                                                                      ^
C:/Users/biocbuild/bbs-3.14-bioc/R/library/RcppEigen/include/Eigen/src/Core/arch/SSE/Complex.h:232:1: note: in expansion of macro 'EIGEN_MAKE_CONJ_HELPER_CPLX_REAL'
 EIGEN_MAKE_CONJ_HELPER_CPLX_REAL(Packet2cf,Packet4f)
 ^~~~~~~~~~~~~~~~~~~~~~~~~~~~~~~~
C:/Users/biocbuild/bbs-3.14-bioc/R/library/RcppEigen/include/Eigen/src/Core/arch/Default/ConjHelper.h:22:70: warning: ignoring attributes on template argument 'Eigen::internal::Packet4f' {aka '__vector(4) float'} [-Wignored-attributes]
   template<> struct conj_helper<PACKET_CPLX, PACKET_REAL, false,false> {                                          \
                                                                      ^
C:/Users/biocbuild/bbs-3.14-bioc/R/library/RcppEigen/include/Eigen/src/Core/arch/SSE/Complex.h:232:1: note: in expansion of macro 'EIGEN_MAKE_CONJ_HELPER_CPLX_REAL'
 EIGEN_MAKE_CONJ_HELPER_CPLX_REAL(Packet2cf,Packet4f)
 ^~~~~~~~~~~~~~~~~~~~~~~~~~~~~~~~
C:/Users/biocbuild/bbs-3.14-bioc/R/library/RcppEigen/include/Eigen/src/Core/arch/Default/ConjHelper.h:15:70: warning: ignoring attributes on template argument 'Eigen::internal::Packet2d' {aka '__vector(2) double'} [-Wignored-attributes]
   template<> struct conj_helper<PACKET_REAL, PACKET_CPLX, false,false> {                                          \
                                                                      ^
C:/Users/biocbuild/bbs-3.14-bioc/R/library/RcppEigen/include/Eigen/src/Core/arch/SSE/Complex.h:417:1: note: in expansion of macro 'EIGEN_MAKE_CONJ_HELPER_CPLX_REAL'
 EIGEN_MAKE_CONJ_HELPER_CPLX_REAL(Packet1cd,Packet2d)
 ^~~~~~~~~~~~~~~~~~~~~~~~~~~~~~~~
C:/Users/biocbuild/bbs-3.14-bioc/R/library/RcppEigen/include/Eigen/src/Core/arch/Default/ConjHelper.h:22:70: warning: ignoring attributes on template argument 'Eigen::internal::Packet2d' {aka '__vector(2) double'} [-Wignored-attributes]
   template<> struct conj_helper<PACKET_CPLX, PACKET_REAL, false,false> {                                          \
                                                                      ^
C:/Users/biocbuild/bbs-3.14-bioc/R/library/RcppEigen/include/Eigen/src/Core/arch/SSE/Complex.h:417:1: note: in expansion of macro 'EIGEN_MAKE_CONJ_HELPER_CPLX_REAL'
 EIGEN_MAKE_CONJ_HELPER_CPLX_REAL(Packet1cd,Packet2d)
 ^~~~~~~~~~~~~~~~~~~~~~~~~~~~~~~~
In file included from C:/Users/biocbuild/bbs-3.14-bioc/R/library/RcppEigen/include/Eigen/Core:370,
                 from C:/Users/biocbuild/bbs-3.14-bioc/R/library/RcppEigen/include/Eigen/Dense:1,
                 from C:/Users/biocbuild/bbs-3.14-bioc/R/library/RcppEigen/include/RcppEigenForward.h:30,
                 from C:/Users/biocbuild/bbs-3.14-bioc/R/library/RcppEigen/include/RcppEigen.h:25,
                 from censoring.cpp:7:
C:/Users/biocbuild/bbs-3.14-bioc/R/library/RcppEigen/include/Eigen/src/Core/util/XprHelper.h: In instantiation of 'struct Eigen::internal::find_best_packet<int, -1>':
C:/Users/biocbuild/bbs-3.14-bioc/R/library/RcppEigen/include/Eigen/src/Core/Matrix.h:22:57:   required from 'struct Eigen::internal::traits<Eigen::Matrix<int, 1, -1> >'
C:/Users/biocbuild/bbs-3.14-bioc/R/library/RcppEigen/include/Eigen/src/Core/Array.h:17:8:   required from 'struct Eigen::internal::traits<Eigen::Array<int, 1, -1> >'
C:/Users/biocbuild/bbs-3.14-bioc/R/library/RcppEigen/include/Eigen/src/Core/PlainObjectBase.h:98:7:   required from 'class Eigen::PlainObjectBase<Eigen::Array<int, 1, -1> >'
C:/Users/biocbuild/bbs-3.14-bioc/R/library/RcppEigen/include/Eigen/src/Core/Array.h:45:7:   required from 'class Eigen::Array<int, 1, -1>'
C:/Users/biocbuild/bbs-3.14-bioc/R/library/RcppEigen/include/Eigen/src/SVD/BDCSVD.h:101:22:   required from here
C:/Users/biocbuild/bbs-3.14-bioc/R/library/RcppEigen/include/Eigen/src/Core/util/XprHelper.h:187:44: warning: ignoring attributes on template argument 'Eigen::internal::packet_traits<int>::type' {aka '__vector(2) long long int'} [-Wignored-attributes]
          bool Stop = Size==Dynamic || (Size%unpacket_traits<PacketType>::size)==0 || is_same<PacketType,typename unpacket_traits<PacketType>::half>::value>
                                       ~~~~~^~~~~~~~~~~~~~~~~~~~~~~~~~~~~~~~~~~
C:/Users/biocbuild/bbs-3.14-bioc/R/library/RcppEigen/include/Eigen/src/Core/util/XprHelper.h:187:83: warning: ignoring attributes on template argument 'Eigen::internal::packet_traits<int>::type' {aka '__vector(2) long long int'} [-Wignored-attributes]
          bool Stop = Size==Dynamic || (Size%unpacket_traits<PacketType>::size)==0 || is_same<PacketType,typename unpacket_traits<PacketType>::half>::value>
                      ~~~~~~~~~~~~~~~~~~~~~~~~~~~~~~~~~~~~~~~~~~~~~~~~~~~~~~~~~~~~~^~~~~~~~~~~~~~~~~~~~~~~~~~~~~~~~~~~~~~~~~~~~~~~~~~~~~~~~~~~~~~~~~
C:/Users/biocbuild/bbs-3.14-bioc/R/library/RcppEigen/include/Eigen/src/Core/util/XprHelper.h:187:83: warning: ignoring attributes on template argument 'Eigen::internal::packet_traits<int>::type' {aka '__vector(2) long long int'} [-Wignored-attributes]
C:/Users/biocbuild/bbs-3.14-bioc/R/library/RcppEigen/include/Eigen/src/Core/util/XprHelper.h:187:83: warning: ignoring attributes on template argument 'Eigen::internal::unpacket_traits<__vector(2) long long int>::half' {aka '__vector(2) long long int'} [-Wignored-attributes]
C:/Users/biocbuild/bbs-3.14-bioc/R/library/RcppEigen/include/Eigen/src/Core/util/XprHelper.h:205:88: warning: ignoring attributes on template argument 'Eigen::internal::packet_traits<int>::type' {aka '__vector(2) long long int'} [-Wignored-attributes]
   typedef typename find_best_packet_helper<Size,typename packet_traits<T>::type>::type type;
                                                                                        ^~~~
In file included from C:/Users/biocbuild/bbs-3.14-bioc/R/library/RcppEigen/include/Eigen/Core:439,
                 from C:/Users/biocbuild/bbs-3.14-bioc/R/library/RcppEigen/include/Eigen/Dense:1,
                 from C:/Users/biocbuild/bbs-3.14-bioc/R/library/RcppEigen/include/RcppEigenForward.h:30,
                 from C:/Users/biocbuild/bbs-3.14-bioc/R/library/RcppEigen/include/RcppEigen.h:25,
                 from censoring.cpp:7:
C:/Users/biocbuild/bbs-3.14-bioc/R/library/RcppEigen/include/Eigen/src/Core/DenseCoeffsBase.h: In instantiation of 'class Eigen::DenseCoeffsBase<Eigen::Array<int, 1, -1>, 0>':
C:/Users/biocbuild/bbs-3.14-bioc/R/library/RcppEigen/include/Eigen/src/Core/DenseCoeffsBase.h:300:7:   required from 'class Eigen::DenseCoeffsBase<Eigen::Array<int, 1, -1>, 1>'
C:/Users/biocbuild/bbs-3.14-bioc/R/library/RcppEigen/include/Eigen/src/Core/DenseCoeffsBase.h:551:7:   required from 'class Eigen::DenseCoeffsBase<Eigen::Array<int, 1, -1>, 3>'
C:/Users/biocbuild/bbs-3.14-bioc/R/library/RcppEigen/include/Eigen/src/Core/DenseBase.h:41:34:   required from 'class Eigen::DenseBase<Eigen::Array<int, 1, -1> >'
C:/Users/biocbuild/bbs-3.14-bioc/R/library/RcppEigen/include/Eigen/src/Core/ArrayBase.h:39:34:   required from 'class Eigen::ArrayBase<Eigen::Array<int, 1, -1> >'
C:/Users/biocbuild/bbs-3.14-bioc/R/library/RcppEigen/include/Eigen/src/Core/PlainObjectBase.h:98:7:   required from 'class Eigen::PlainObjectBase<Eigen::Array<int, 1, -1> >'
C:/Users/biocbuild/bbs-3.14-bioc/R/library/RcppEigen/include/Eigen/src/Core/Array.h:45:7:   required from 'class Eigen::Array<int, 1, -1>'
C:/Users/biocbuild/bbs-3.14-bioc/R/library/RcppEigen/include/Eigen/src/SVD/BDCSVD.h:101:22:   required from here
C:/Users/biocbuild/bbs-3.14-bioc/R/library/RcppEigen/include/Eigen/src/Core/DenseCoeffsBase.h:55:30: warning: ignoring attributes on template argument 'Eigen::internal::packet_traits<int>::type' {aka '__vector(2) long long int'} [-Wignored-attributes]
                      >::type PacketReturnType;
                              ^~~~~~~~~~~~~~~~
C:/Users/biocbuild/bbs-3.14-bioc/R/library/RcppEigen/include/Eigen/src/Core/DenseCoeffsBase.h: In instantiation of 'class Eigen::DenseCoeffsBase<Eigen::Ref<Eigen::Array<int, 1, -1> >, 0>':
C:/Users/biocbuild/bbs-3.14-bioc/R/library/RcppEigen/include/Eigen/src/Core/DenseCoeffsBase.h:300:7:   required from 'class Eigen::DenseCoeffsBase<Eigen::Ref<Eigen::Array<int, 1, -1> >, 1>'
C:/Users/biocbuild/bbs-3.14-bioc/R/library/RcppEigen/include/Eigen/src/Core/DenseCoeffsBase.h:551:7:   required from 'class Eigen::DenseCoeffsBase<Eigen::Ref<Eigen::Array<int, 1, -1> >, 3>'
C:/Users/biocbuild/bbs-3.14-bioc/R/library/RcppEigen/include/Eigen/src/Core/DenseBase.h:41:34:   required from 'class Eigen::DenseBase<Eigen::Ref<Eigen::Array<int, 1, -1> > >'
C:/Users/biocbuild/bbs-3.14-bioc/R/library/RcppEigen/include/Eigen/src/Core/ArrayBase.h:39:34:   required from 'class Eigen::ArrayBase<Eigen::Ref<Eigen::Array<int, 1, -1> > >'
C:/Users/biocbuild/bbs-3.14-bioc/R/library/RcppEigen/include/Eigen/src/Core/MapBase.h:37:34:   required from 'class Eigen::MapBase<Eigen::Ref<Eigen::Array<int, 1, -1> >, 0>'
C:/Users/biocbuild/bbs-3.14-bioc/R/library/RcppEigen/include/Eigen/src/Core/MapBase.h:221:34:   required from 'class Eigen::MapBase<Eigen::Ref<Eigen::Array<int, 1, -1> >, 1>'
C:/Users/biocbuild/bbs-3.14-bioc/R/library/RcppEigen/include/Eigen/src/Core/Ref.h:59:34:   required from 'class Eigen::RefBase<Eigen::Ref<Eigen::Array<int, 1, -1> > >'
C:/Users/biocbuild/bbs-3.14-bioc/R/library/RcppEigen/include/Eigen/src/Core/Ref.h:193:76:   required from 'class Eigen::Ref<Eigen::Array<int, 1, -1> >'
C:/Users/biocbuild/bbs-3.14-bioc/R/library/RcppEigen/include/Eigen/src/SVD/BDCSVD.h:694:17:   required from here
C:/Users/biocbuild/bbs-3.14-bioc/R/library/RcppEigen/include/Eigen/src/Core/DenseCoeffsBase.h:55:30: warning: ignoring attributes on template argument 'Eigen::internal::packet_traits<int>::type' {aka '__vector(2) long long int'} [-Wignored-attributes]
In file included from C:/Users/biocbuild/bbs-3.14-bioc/R/library/RcppEigen/include/Eigen/Core:370,
                 from C:/Users/biocbuild/bbs-3.14-bioc/R/library/RcppEigen/include/Eigen/Dense:1,
                 from C:/Users/biocbuild/bbs-3.14-bioc/R/library/RcppEigen/include/RcppEigenForward.h:30,
                 from C:/Users/biocbuild/bbs-3.14-bioc/R/library/RcppEigen/include/RcppEigen.h:25,
                 from censoring.cpp:7:
C:/Users/biocbuild/bbs-3.14-bioc/R/library/RcppEigen/include/Eigen/src/Core/util/XprHelper.h: In instantiation of 'struct Eigen::internal::find_best_packet<float, 4>':
C:/Users/biocbuild/bbs-3.14-bioc/R/library/RcppEigen/include/Eigen/src/Core/Matrix.h:22:57:   required from 'struct Eigen::internal::traits<Eigen::Matrix<float, 4, 1> >'
C:/Users/biocbuild/bbs-3.14-bioc/R/library/RcppEigen/include/Eigen/src/Geometry/Quaternion.h:242:7:   required from 'struct Eigen::internal::traits<Eigen::Quaternion<float> >'
C:/Users/biocbuild/bbs-3.14-bioc/R/library/RcppEigen/include/Eigen/src/Geometry/arch/Geometry_SSE.h:24:46:   required from here
C:/Users/biocbuild/bbs-3.14-bioc/R/library/RcppEigen/include/Eigen/src/Core/util/XprHelper.h:187:44: warning: ignoring attributes on template argument 'Eigen::internal::packet_traits<float>::type' {aka '__vector(4) float'} [-Wignored-attributes]
          bool Stop = Size==Dynamic || (Size%unpacket_traits<PacketType>::size)==0 || is_same<PacketType,typename unpacket_traits<PacketType>::half>::value>
                                       ~~~~~^~~~~~~~~~~~~~~~~~~~~~~~~~~~~~~~~~~
C:/Users/biocbuild/bbs-3.14-bioc/R/library/RcppEigen/include/Eigen/src/Core/util/XprHelper.h:187:83: warning: ignoring attributes on template argument 'Eigen::internal::packet_traits<float>::type' {aka '__vector(4) float'} [-Wignored-attributes]
          bool Stop = Size==Dynamic || (Size%unpacket_traits<PacketType>::size)==0 || is_same<PacketType,typename unpacket_traits<PacketType>::half>::value>
                      ~~~~~~~~~~~~~~~~~~~~~~~~~~~~~~~~~~~~~~~~~~~~~~~~~~~~~~~~~~~~~^~~~~~~~~~~~~~~~~~~~~~~~~~~~~~~~~~~~~~~~~~~~~~~~~~~~~~~~~~~~~~~~~
C:/Users/biocbuild/bbs-3.14-bioc/R/library/RcppEigen/include/Eigen/src/Core/util/XprHelper.h:187:83: warning: ignoring attributes on template argument 'Eigen::internal::packet_traits<float>::type' {aka '__vector(4) float'} [-Wignored-attributes]
C:/Users/biocbuild/bbs-3.14-bioc/R/library/RcppEigen/include/Eigen/src/Core/util/XprHelper.h:187:83: warning: ignoring attributes on template argument 'Eigen::internal::unpacket_traits<__vector(4) float>::half' {aka '__vector(4) float'} [-Wignored-attributes]
C:/Users/biocbuild/bbs-3.14-bioc/R/library/RcppEigen/include/Eigen/src/Core/util/XprHelper.h:205:88: warning: ignoring attributes on template argument 'Eigen::internal::packet_traits<float>::type' {aka '__vector(4) float'} [-Wignored-attributes]
   typedef typename find_best_packet_helper<Size,typename packet_traits<T>::type>::type type;
                                                                                        ^~~~
In file included from C:/Users/biocbuild/bbs-3.14-bioc/R/library/RcppEigen/include/Eigen/Core:439,
                 from C:/Users/biocbuild/bbs-3.14-bioc/R/library/RcppEigen/include/Eigen/Dense:1,
                 from C:/Users/biocbuild/bbs-3.14-bioc/R/library/RcppEigen/include/RcppEigenForward.h:30,
                 from C:/Users/biocbuild/bbs-3.14-bioc/R/library/RcppEigen/include/RcppEigen.h:25,
                 from censoring.cpp:7:
C:/Users/biocbuild/bbs-3.14-bioc/R/library/RcppEigen/include/Eigen/src/Core/DenseCoeffsBase.h: In instantiation of 'class Eigen::DenseCoeffsBase<Eigen::Matrix<float, 4, 1>, 0>':
C:/Users/biocbuild/bbs-3.14-bioc/R/library/RcppEigen/include/Eigen/src/Core/DenseCoeffsBase.h:300:7:   required from 'class Eigen::DenseCoeffsBase<Eigen::Matrix<float, 4, 1>, 1>'
C:/Users/biocbuild/bbs-3.14-bioc/R/library/RcppEigen/include/Eigen/src/Core/DenseCoeffsBase.h:551:7:   required from 'class Eigen::DenseCoeffsBase<Eigen::Matrix<float, 4, 1>, 3>'
C:/Users/biocbuild/bbs-3.14-bioc/R/library/RcppEigen/include/Eigen/src/Core/DenseBase.h:41:34:   required from 'class Eigen::DenseBase<Eigen::Matrix<float, 4, 1> >'
C:/Users/biocbuild/bbs-3.14-bioc/R/library/RcppEigen/include/Eigen/src/Core/MatrixBase.h:48:34:   required from 'class Eigen::MatrixBase<Eigen::Matrix<float, 4, 1> >'
C:/Users/biocbuild/bbs-3.14-bioc/R/library/RcppEigen/include/Eigen/src/Core/PlainObjectBase.h:98:7:   required from 'class Eigen::PlainObjectBase<Eigen::Matrix<float, 4, 1> >'
C:/Users/biocbuild/bbs-3.14-bioc/R/library/RcppEigen/include/Eigen/src/Core/Matrix.h:178:7:   required from 'class Eigen::Matrix<float, 4, 1>'
C:/Users/biocbuild/bbs-3.14-bioc/R/library/RcppEigen/include/Eigen/src/Geometry/Quaternion.h:46:50:   required from 'class Eigen::QuaternionBase<Eigen::Quaternion<float> >'
C:/Users/biocbuild/bbs-3.14-bioc/R/library/RcppEigen/include/Eigen/src/Geometry/Quaternion.h:250:7:   required from 'class Eigen::Quaternion<float>'
C:/Users/biocbuild/bbs-3.14-bioc/R/library/RcppEigen/include/Eigen/src/Geometry/arch/Geometry_SSE.h:27:3:   required from here
C:/Users/biocbuild/bbs-3.14-bioc/R/library/RcppEigen/include/Eigen/src/Core/DenseCoeffsBase.h:55:30: warning: ignoring attributes on template argument 'Eigen::internal::packet_traits<float>::type' {aka '__vector(4) float'} [-Wignored-attributes]
                      >::type PacketReturnType;
                              ^~~~~~~~~~~~~~~~
In file included from C:/Users/biocbuild/bbs-3.14-bioc/R/library/RcppEigen/include/Eigen/Core:370,
                 from C:/Users/biocbuild/bbs-3.14-bioc/R/library/RcppEigen/include/Eigen/Dense:1,
                 from C:/Users/biocbuild/bbs-3.14-bioc/R/library/RcppEigen/include/RcppEigenForward.h:30,
                 from C:/Users/biocbuild/bbs-3.14-bioc/R/library/RcppEigen/include/RcppEigen.h:25,
                 from censoring.cpp:7:
C:/Users/biocbuild/bbs-3.14-bioc/R/library/RcppEigen/include/Eigen/src/Core/util/XprHelper.h: In instantiation of 'struct Eigen::internal::find_best_packet<double, 4>':
C:/Users/biocbuild/bbs-3.14-bioc/R/library/RcppEigen/include/Eigen/src/Core/Matrix.h:22:57:   required from 'struct Eigen::internal::traits<Eigen::Matrix<double, 4, 1> >'
C:/Users/biocbuild/bbs-3.14-bioc/R/library/RcppEigen/include/Eigen/src/Geometry/Quaternion.h:242:7:   required from 'struct Eigen::internal::traits<Eigen::Quaternion<double> >'
C:/Users/biocbuild/bbs-3.14-bioc/R/library/RcppEigen/include/Eigen/src/Geometry/arch/Geometry_SSE.h:88:47:   required from here
C:/Users/biocbuild/bbs-3.14-bioc/R/library/RcppEigen/include/Eigen/src/Core/util/XprHelper.h:187:44: warning: ignoring attributes on template argument 'Eigen::internal::packet_traits<double>::type' {aka '__vector(2) double'} [-Wignored-attributes]
          bool Stop = Size==Dynamic || (Size%unpacket_traits<PacketType>::size)==0 || is_same<PacketType,typename unpacket_traits<PacketType>::half>::value>
                                       ~~~~~^~~~~~~~~~~~~~~~~~~~~~~~~~~~~~~~~~~
C:/Users/biocbuild/bbs-3.14-bioc/R/library/RcppEigen/include/Eigen/src/Core/util/XprHelper.h:187:83: warning: ignoring attributes on template argument 'Eigen::internal::packet_traits<double>::type' {aka '__vector(2) double'} [-Wignored-attributes]
          bool Stop = Size==Dynamic || (Size%unpacket_traits<PacketType>::size)==0 || is_same<PacketType,typename unpacket_traits<PacketType>::half>::value>
                      ~~~~~~~~~~~~~~~~~~~~~~~~~~~~~~~~~~~~~~~~~~~~~~~~~~~~~~~~~~~~~^~~~~~~~~~~~~~~~~~~~~~~~~~~~~~~~~~~~~~~~~~~~~~~~~~~~~~~~~~~~~~~~~
C:/Users/biocbuild/bbs-3.14-bioc/R/library/RcppEigen/include/Eigen/src/Core/util/XprHelper.h:187:83: warning: ignoring attributes on template argument 'Eigen::internal::packet_traits<double>::type' {aka '__vector(2) double'} [-Wignored-attributes]
C:/Users/biocbuild/bbs-3.14-bioc/R/library/RcppEigen/include/Eigen/src/Core/util/XprHelper.h:187:83: warning: ignoring attributes on template argument 'Eigen::internal::unpacket_traits<__vector(2) double>::half' {aka '__vector(2) double'} [-Wignored-attributes]
C:/Users/biocbuild/bbs-3.14-bioc/R/library/RcppEigen/include/Eigen/src/Core/util/XprHelper.h:205:88: warning: ignoring attributes on template argument 'Eigen::internal::packet_traits<double>::type' {aka '__vector(2) double'} [-Wignored-attributes]
   typedef typename find_best_packet_helper<Size,typename packet_traits<T>::type>::type type;
                                                                                        ^~~~
In file included from C:/Users/biocbuild/bbs-3.14-bioc/R/library/RcppEigen/include/Eigen/Core:439,
                 from C:/Users/biocbuild/bbs-3.14-bioc/R/library/RcppEigen/include/Eigen/Dense:1,
                 from C:/Users/biocbuild/bbs-3.14-bioc/R/library/RcppEigen/include/RcppEigenForward.h:30,
                 from C:/Users/biocbuild/bbs-3.14-bioc/R/library/RcppEigen/include/RcppEigen.h:25,
                 from censoring.cpp:7:
C:/Users/biocbuild/bbs-3.14-bioc/R/library/RcppEigen/include/Eigen/src/Core/DenseCoeffsBase.h: In instantiation of 'class Eigen::DenseCoeffsBase<Eigen::Matrix<double, 4, 1>, 0>':
C:/Users/biocbuild/bbs-3.14-bioc/R/library/RcppEigen/include/Eigen/src/Core/DenseCoeffsBase.h:300:7:   required from 'class Eigen::DenseCoeffsBase<Eigen::Matrix<double, 4, 1>, 1>'
C:/Users/biocbuild/bbs-3.14-bioc/R/library/RcppEigen/include/Eigen/src/Core/DenseCoeffsBase.h:551:7:   required from 'class Eigen::DenseCoeffsBase<Eigen::Matrix<double, 4, 1>, 3>'
C:/Users/biocbuild/bbs-3.14-bioc/R/library/RcppEigen/include/Eigen/src/Core/DenseBase.h:41:34:   required from 'class Eigen::DenseBase<Eigen::Matrix<double, 4, 1> >'
C:/Users/biocbuild/bbs-3.14-bioc/R/library/RcppEigen/include/Eigen/src/Core/MatrixBase.h:48:34:   required from 'class Eigen::MatrixBase<Eigen::Matrix<double, 4, 1> >'
C:/Users/biocbuild/bbs-3.14-bioc/R/library/RcppEigen/include/Eigen/src/Core/PlainObjectBase.h:98:7:   required from 'class Eigen::PlainObjectBase<Eigen::Matrix<double, 4, 1> >'
C:/Users/biocbuild/bbs-3.14-bioc/R/library/RcppEigen/include/Eigen/src/Core/Matrix.h:178:7:   required from 'class Eigen::Matrix<double, 4, 1>'
C:/Users/biocbuild/bbs-3.14-bioc/R/library/RcppEigen/include/Eigen/src/Geometry/Quaternion.h:46:50:   required from 'class Eigen::QuaternionBase<Eigen::Quaternion<double> >'
C:/Users/biocbuild/bbs-3.14-bioc/R/library/RcppEigen/include/Eigen/src/Geometry/Quaternion.h:250:7:   required from 'class Eigen::Quaternion<double>'
C:/Users/biocbuild/bbs-3.14-bioc/R/library/RcppEigen/include/Eigen/src/Geometry/arch/Geometry_SSE.h:92:3:   required from here
C:/Users/biocbuild/bbs-3.14-bioc/R/library/RcppEigen/include/Eigen/src/Core/DenseCoeffsBase.h:55:30: warning: ignoring attributes on template argument 'Eigen::internal::packet_traits<double>::type' {aka '__vector(2) double'} [-Wignored-attributes]
                      >::type PacketReturnType;
                              ^~~~~~~~~~~~~~~~
In file included from C:/Users/biocbuild/bbs-3.14-bioc/R/library/RcppEigen/include/Eigen/SparseCore:37,
                 from C:/Users/biocbuild/bbs-3.14-bioc/R/library/RcppEigen/include/Eigen/Sparse:26,
                 from C:/Users/biocbuild/bbs-3.14-bioc/R/library/RcppEigen/include/RcppEigenForward.h:31,
                 from C:/Users/biocbuild/bbs-3.14-bioc/R/library/RcppEigen/include/RcppEigen.h:25,
                 from censoring.cpp:7:
C:/Users/biocbuild/bbs-3.14-bioc/R/library/RcppEigen/include/Eigen/src/SparseCore/SparseMatrixBase.h: In instantiation of 'class Eigen::SparseMatrixBase<Eigen::SparseMatrix<double, 0, int> >':
C:/Users/biocbuild/bbs-3.14-bioc/R/library/RcppEigen/include/Eigen/src/SparseCore/SparseCompressedBase.h:36:7:   required from 'class Eigen::SparseCompressedBase<Eigen::SparseMatrix<double, 0, int> >'
C:/Users/biocbuild/bbs-3.14-bioc/R/library/RcppEigen/include/Eigen/src/SparseCore/SparseMatrix.h:96:7:   required from 'class Eigen::SparseMatrix<double, 0, int>'
C:/Users/biocbuild/bbs-3.14-bioc/R/library/RcppEigen/include/unsupported/Eigen/src/IterativeSolvers/ConstrainedConjGrad.h:61:25:   required from here
C:/Users/biocbuild/bbs-3.14-bioc/R/library/RcppEigen/include/Eigen/src/SparseCore/SparseMatrixBase.h:47:30: warning: ignoring attributes on template argument 'Eigen::internal::packet_traits<double>::type' {aka '__vector(2) double'} [-Wignored-attributes]
                      >::type PacketReturnType;
                              ^~~~~~~~~~~~~~~~
In file included from C:/Users/biocbuild/bbs-3.14-bioc/R/library/RcppEigen/include/Eigen/Core:439,
                 from C:/Users/biocbuild/bbs-3.14-bioc/R/library/RcppEigen/include/Eigen/Dense:1,
                 from C:/Users/biocbuild/bbs-3.14-bioc/R/library/RcppEigen/include/RcppEigenForward.h:30,
                 from C:/Users/biocbuild/bbs-3.14-bioc/R/library/RcppEigen/include/RcppEigen.h:25,
                 from censoring.cpp:7:
C:/Users/biocbuild/bbs-3.14-bioc/R/library/RcppEigen/include/Eigen/src/Core/DenseCoeffsBase.h: In instantiation of 'class Eigen::DenseCoeffsBase<Eigen::Matrix<int, -1, 1>, 0>':
C:/Users/biocbuild/bbs-3.14-bioc/R/library/RcppEigen/include/Eigen/src/Core/DenseCoeffsBase.h:300:7:   required from 'class Eigen::DenseCoeffsBase<Eigen::Matrix<int, -1, 1>, 1>'
C:/Users/biocbuild/bbs-3.14-bioc/R/library/RcppEigen/include/Eigen/src/Core/DenseCoeffsBase.h:551:7:   required from 'class Eigen::DenseCoeffsBase<Eigen::Matrix<int, -1, 1>, 3>'
C:/Users/biocbuild/bbs-3.14-bioc/R/library/RcppEigen/include/Eigen/src/Core/DenseBase.h:41:34:   required from 'class Eigen::DenseBase<Eigen::Matrix<int, -1, 1> >'
C:/Users/biocbuild/bbs-3.14-bioc/R/library/RcppEigen/include/Eigen/src/Core/MatrixBase.h:48:34:   required from 'class Eigen::MatrixBase<Eigen::Matrix<int, -1, 1> >'
C:/Users/biocbuild/bbs-3.14-bioc/R/library/RcppEigen/include/Eigen/src/Core/PlainObjectBase.h:98:7:   required from 'class Eigen::PlainObjectBase<Eigen::Matrix<int, -1, 1> >'
C:/Users/biocbuild/bbs-3.14-bioc/R/library/RcppEigen/include/Eigen/src/Core/Matrix.h:178:7:   required from 'class Eigen::Matrix<int, -1, 1>'
C:/Users/biocbuild/bbs-3.14-bioc/R/library/RcppEigen/include/unsupported/Eigen/src/KroneckerProduct/KroneckerTensorProduct.h:168:29:   required from here
C:/Users/biocbuild/bbs-3.14-bioc/R/library/RcppEigen/include/Eigen/src/Core/DenseCoeffsBase.h:55:30: warning: ignoring attributes on template argument 'Eigen::internal::packet_traits<int>::type' {aka '__vector(2) long long int'} [-Wignored-attributes]
                      >::type PacketReturnType;
                              ^~~~~~~~~~~~~~~~
C:/Users/biocbuild/bbs-3.14-bioc/R/library/RcppEigen/include/Eigen/src/Core/DenseCoeffsBase.h: In instantiation of 'class Eigen::DenseCoeffsBase<Eigen::Transpose<Eigen::Matrix<int, -1, 1> >, 0>':
C:/Users/biocbuild/bbs-3.14-bioc/R/library/RcppEigen/include/Eigen/src/Core/DenseCoeffsBase.h:300:7:   required from 'class Eigen::DenseCoeffsBase<Eigen::Transpose<Eigen::Matrix<int, -1, 1> >, 1>'
C:/Users/biocbuild/bbs-3.14-bioc/R/library/RcppEigen/include/Eigen/src/Core/DenseCoeffsBase.h:551:7:   required from 'class Eigen::DenseCoeffsBase<Eigen::Transpose<Eigen::Matrix<int, -1, 1> >, 3>'
C:/Users/biocbuild/bbs-3.14-bioc/R/library/RcppEigen/include/Eigen/src/Core/DenseBase.h:41:34:   required from 'class Eigen::DenseBase<Eigen::Transpose<Eigen::Matrix<int, -1, 1> > >'
C:/Users/biocbuild/bbs-3.14-bioc/R/library/RcppEigen/include/Eigen/src/Core/MatrixBase.h:48:34:   required from 'class Eigen::MatrixBase<Eigen::Transpose<Eigen::Matrix<int, -1, 1> > >'
C:/Users/biocbuild/bbs-3.14-bioc/R/library/RcppEigen/include/Eigen/src/Core/Transpose.h:115:37:   required from 'class Eigen::TransposeImpl<Eigen::Matrix<int, -1, 1>, Eigen::Dense>'
C:/Users/biocbuild/bbs-3.14-bioc/R/library/RcppEigen/include/Eigen/src/Core/Transpose.h:52:37:   required from 'class Eigen::Transpose<Eigen::Matrix<int, -1, 1> >'
C:/Users/biocbuild/bbs-3.14-bioc/R/library/RcppEigen/include/unsupported/Eigen/src/KroneckerProduct/KroneckerTensorProduct.h:178:72:   required from here
C:/Users/biocbuild/bbs-3.14-bioc/R/library/RcppEigen/include/Eigen/src/Core/DenseCoeffsBase.h:55:30: warning: ignoring attributes on template argument 'Eigen::internal::packet_traits<int>::type' {aka '__vector(2) long long int'} [-Wignored-attributes]
C:/Users/biocbuild/bbs-3.14-bioc/R/library/RcppEigen/include/Eigen/src/Core/DenseCoeffsBase.h: In instantiation of 'class Eigen::DenseCoeffsBase<Eigen::Matrix<int, -1, -1>, 0>':
C:/Users/biocbuild/bbs-3.14-bioc/R/library/RcppEigen/include/Eigen/src/Core/DenseCoeffsBase.h:300:7:   required from 'class Eigen::DenseCoeffsBase<Eigen::Matrix<int, -1, -1>, 1>'
C:/Users/biocbuild/bbs-3.14-bioc/R/library/RcppEigen/include/Eigen/src/Core/DenseCoeffsBase.h:551:7:   required from 'class Eigen::DenseCoeffsBase<Eigen::Matrix<int, -1, -1>, 3>'
C:/Users/biocbuild/bbs-3.14-bioc/R/library/RcppEigen/include/Eigen/src/Core/DenseBase.h:41:34:   required from 'class Eigen::DenseBase<Eigen::Matrix<int, -1, -1> >'
C:/Users/biocbuild/bbs-3.14-bioc/R/library/RcppEigen/include/Eigen/src/Core/MatrixBase.h:48:34:   required from 'class Eigen::MatrixBase<Eigen::Matrix<int, -1, -1> >'
C:/Users/biocbuild/bbs-3.14-bioc/R/library/RcppEigen/include/Eigen/src/Core/PlainObjectBase.h:98:7:   required from 'class Eigen::PlainObjectBase<Eigen::Matrix<int, -1, -1> >'
C:/Users/biocbuild/bbs-3.14-bioc/R/library/RcppEigen/include/Eigen/src/Core/Matrix.h:178:7:   required from 'class Eigen::Matrix<int, -1, -1>'
C:/Users/biocbuild/bbs-3.14-bioc/R/library/RcppEigen/include/unsupported/Eigen/src/KroneckerProduct/KroneckerTensorProduct.h:179:36:   required from here
C:/Users/biocbuild/bbs-3.14-bioc/R/library/RcppEigen/include/Eigen/src/Core/DenseCoeffsBase.h:55:30: warning: ignoring attributes on template argument 'Eigen::internal::packet_traits<int>::type' {aka '__vector(2) long long int'} [-Wignored-attributes]
C:/Users/biocbuild/bbs-3.14-bioc/R/library/RcppEigen/include/Eigen/src/Core/DenseCoeffsBase.h: In instantiation of 'class Eigen::DenseCoeffsBase<Eigen::Map<const Eigen::Matrix<int, -1, 1>, 0, Eigen::Stride<0, 0> >, 0>':
C:/Users/biocbuild/bbs-3.14-bioc/R/library/RcppEigen/include/Eigen/src/Core/DenseCoeffsBase.h:478:7:   required from 'class Eigen::DenseCoeffsBase<Eigen::Map<const Eigen::Matrix<int, -1, 1>, 0, Eigen::Stride<0, 0> >, 2>'
C:/Users/biocbuild/bbs-3.14-bioc/R/library/RcppEigen/include/Eigen/src/Core/DenseBase.h:41:34:   required from 'class Eigen::DenseBase<Eigen::Map<const Eigen::Matrix<int, -1, 1>, 0, Eigen::Stride<0, 0> > >'
C:/Users/biocbuild/bbs-3.14-bioc/R/library/RcppEigen/include/Eigen/src/Core/MatrixBase.h:48:34:   required from 'class Eigen::MatrixBase<Eigen::Map<const Eigen::Matrix<int, -1, 1>, 0, Eigen::Stride<0, 0> > >'
C:/Users/biocbuild/bbs-3.14-bioc/R/library/RcppEigen/include/Eigen/src/Core/MapBase.h:37:34:   required from 'class Eigen::MapBase<Eigen::Map<const Eigen::Matrix<int, -1, 1>, 0, Eigen::Stride<0, 0> >, 0>'
C:/Users/biocbuild/bbs-3.14-bioc/R/library/RcppEigen/include/Eigen/src/Core/Map.h:94:79:   required from 'class Eigen::Map<const Eigen::Matrix<int, -1, 1>, 0, Eigen::Stride<0, 0> >'
C:/Users/biocbuild/bbs-3.14-bioc/R/library/RcppEigen/include/Eigen/src/SparseCore/SparseCompressedBase.h:65:32:   required from 'Eigen::Index Eigen::SparseCompressedBase<Derived>::nonZeros() const [with Derived = Eigen::SparseMatrix<double, 0, int>; Eigen::Index = int]'
C:/Users/biocbuild/bbs-3.14-bioc/R/library/RcppEigen/include/Eigen/src/SparseCore/SparseCompressedBase.h:163:21:   required from 'Eigen::SparseCompressedBase<Derived>::InnerIterator::InnerIterator(const Eigen::SparseCompressedBase<Derived>&, Eigen::Index) [with Derived = Eigen::SparseMatrix<double, 0, int>; Eigen::Index = int]'
censoring.cpp:116:46:   required from here
C:/Users/biocbuild/bbs-3.14-bioc/R/library/RcppEigen/include/Eigen/src/Core/DenseCoeffsBase.h:55:30: warning: ignoring attributes on template argument 'Eigen::internal::packet_traits<int>::type' {aka '__vector(2) long long int'} [-Wignored-attributes]
C:/Users/biocbuild/bbs-3.14-bioc/R/library/RcppEigen/include/Eigen/src/Core/DenseCoeffsBase.h: In instantiation of 'Eigen::Index Eigen::internal::first_default_aligned(const Eigen::DenseBase<Derived>&) [with Derived = Eigen::Map<const Eigen::Matrix<int, -1, 1>, 0, Eigen::Stride<0, 0> >; Eigen::Index = int]':
C:/Users/biocbuild/bbs-3.14-bioc/R/library/RcppEigen/include/Eigen/src/Core/Redux.h:225:63:   required from 'static Eigen::internal::redux_impl<Func, Derived, 3, 0>::Scalar Eigen::internal::redux_impl<Func, Derived, 3, 0>::run(const Derived&, const Func&) [with Func = Eigen::internal::scalar_sum_op<int, int>; Derived = Eigen::internal::redux_evaluator<Eigen::Map<const Eigen::Matrix<int, -1, 1>, 0, Eigen::Stride<0, 0> > >; Eigen::internal::redux_impl<Func, Derived, 3, 0>::Scalar = int]'
C:/Users/biocbuild/bbs-3.14-bioc/R/library/RcppEigen/include/Eigen/src/Core/Redux.h:418:56:   required from 'typename Eigen::internal::traits<T>::Scalar Eigen::DenseBase<Derived>::redux(const Func&) const [with BinaryOp = Eigen::internal::scalar_sum_op<int, int>; Derived = Eigen::Map<const Eigen::Matrix<int, -1, 1>, 0, Eigen::Stride<0, 0> >; typename Eigen::internal::traits<T>::Scalar = int]'
C:/Users/biocbuild/bbs-3.14-bioc/R/library/RcppEigen/include/Eigen/src/Core/Redux.h:453:73:   required from 'typename Eigen::internal::traits<T>::Scalar Eigen::DenseBase<Derived>::sum() const [with Derived = Eigen::Map<const Eigen::Matrix<int, -1, 1>, 0, Eigen::Stride<0, 0> >; typename Eigen::internal::traits<T>::Scalar = int]'
C:/Users/biocbuild/bbs-3.14-bioc/R/library/RcppEigen/include/Eigen/src/SparseCore/SparseCompressedBase.h:65:36:   required from 'Eigen::Index Eigen::SparseCompressedBase<Derived>::nonZeros() const [with Derived = Eigen::SparseMatrix<double, 0, int>; Eigen::Index = int]'
C:/Users/biocbuild/bbs-3.14-bioc/R/library/RcppEigen/include/Eigen/src/SparseCore/SparseCompressedBase.h:163:21:   required from 'Eigen::SparseCompressedBase<Derived>::InnerIterator::InnerIterator(const Eigen::SparseCompressedBase<Derived>&, Eigen::Index) [with Derived = Eigen::SparseMatrix<double, 0, int>; Eigen::Index = int]'
censoring.cpp:116:46:   required from here
C:/Users/biocbuild/bbs-3.14-bioc/R/library/RcppEigen/include/Eigen/src/Core/DenseCoeffsBase.h:650:34: warning: ignoring attributes on template argument 'Eigen::internal::packet_traits<int>::type' {aka '__vector(2) long long int'} [-Wignored-attributes]
   return internal::first_aligned<int(unpacket_traits<DefaultPacketType>::alignment),Derived>(m);
                                  ^~~~~~~~~~~~~~~~~~~~~~~~~~~~~~~~~~~~~~~~~~~~~~~~~~
C:/Users/biocbuild/bbs-3.14-bioc/R/library/RcppEigen/include/Eigen/src/Core/DenseCoeffsBase.h: In instantiation of 'class Eigen::DenseCoeffsBase<Eigen::SparseMatrix<double, 0, int>, 0>':
C:/Users/biocbuild/bbs-3.14-bioc/R/library/RcppEigen/include/Eigen/src/SparseCore/SparseCompressedBase.h:298:80:   required from 'struct Eigen::internal::evaluator<Eigen::SparseCompressedBase<Eigen::SparseMatrix<double, 0, int> > >'
C:/Users/biocbuild/bbs-3.14-bioc/R/library/RcppEigen/include/Eigen/src/SparseCore/SparseMatrix.h:1391:8:   required from 'struct Eigen::internal::evaluator<Eigen::SparseMatrix<double, 0, int> >'
C:/Users/biocbuild/bbs-3.14-bioc/R/library/RcppEigen/include/Eigen/src/SparseCore/SparseAssign.h:77:20:   required from 'void Eigen::internal::assign_sparse_to_sparse(DstXprType&, const SrcXprType&) [with DstXprType = Eigen::SparseMatrix<double, 0, int>; SrcXprType = Eigen::SparseMatrix<double, 0, int>]'
C:/Users/biocbuild/bbs-3.14-bioc/R/library/RcppEigen/include/Eigen/src/SparseCore/SparseAssign.h:132:28:   required from 'static void Eigen::internal::Assignment<DstXprType, SrcXprType, Functor, Eigen::internal::Sparse2Sparse>::run(DstXprType&, const SrcXprType&, const Eigen::internal::assign_op<typename DstXprType::Scalar, typename SrcXprType::Scalar>&) [with DstXprType = Eigen::SparseMatrix<double, 0, int>; SrcXprType = Eigen::SparseMatrix<double, 0, int>; Functor = Eigen::internal::assign_op<double, double>; typename SrcXprType::Scalar = double; typename DstXprType::Scalar = double]'
C:/Users/biocbuild/bbs-3.14-bioc/R/library/RcppEigen/include/Eigen/src/Core/AssignEvaluator.h:836:49:   required from 'void Eigen::internal::call_assignment_no_alias(Dst&, const Src&, const Func&) [with Dst = Eigen::SparseMatrix<double, 0, int>; Src = Eigen::SparseMatrix<double, 0, int>; Func = Eigen::internal::assign_op<double, double>]'
C:/Users/biocbuild/bbs-3.14-bioc/R/library/RcppEigen/include/Eigen/src/Core/AssignEvaluator.h:842:27:   required from 'void Eigen::internal::call_assignment_no_alias(Dst&, const Src&) [with Dst = Eigen::SparseMatrix<double, 0, int>; Src = Eigen::SparseMatrix<double, 0, int>]'
C:/Users/biocbuild/bbs-3.14-bioc/R/library/RcppEigen/include/Eigen/src/SparseCore/SparseAssign.h:45:37:   required from 'Derived& Eigen::SparseMatrixBase<Derived>::operator=(const Derived&) [with Derived = Eigen::SparseMatrix<double, 0, int>]'
C:/Users/biocbuild/bbs-3.14-bioc/R/library/RcppEigen/include/Eigen/src/SparseCore/SparseMatrix.h:774:26:   required from 'Eigen::SparseMatrix<_Scalar, _Flags, _StorageIndex>& Eigen::SparseMatrix<_Scalar, _Flags, _StorageIndex>::operator=(const Eigen::SparseMatrix<_Scalar, _Flags, _StorageIndex>&) [with _Scalar = double; int _Options = 0; _StorageIndex = int]'
C:/Users/biocbuild/bbs-3.14-bioc/R/library/RcppEigen/include/Eigen/src/SparseCore/SparseMatrix.h:709:13:   required from 'Eigen::SparseMatrix<_Scalar, _Flags, _StorageIndex>::SparseMatrix(const Eigen::SparseMatrix<_Scalar, _Flags, _StorageIndex>&) [with _Scalar = double; int _Options = 0; _StorageIndex = int]'
censoring.cpp:105:17:   required from here
C:/Users/biocbuild/bbs-3.14-bioc/R/library/RcppEigen/include/Eigen/src/Core/DenseCoeffsBase.h:55:30: warning: ignoring attributes on template argument 'Eigen::internal::packet_traits<double>::type' {aka '__vector(2) double'} [-Wignored-attributes]
                      >::type PacketReturnType;
                              ^~~~~~~~~~~~~~~~
"C:/rtools40/mingw32/bin/"g++  -std=gnu++11 -I"C:/Users/BIOCBU~1/BBS-3~1.14-/R/include" -DNDEBUG  -I'C:/Users/biocbuild/bbs-3.14-bioc/R/library/Rcpp/include' -I'C:/Users/biocbuild/bbs-3.14-bioc/R/library/RcppEigen/include' -I'C:/Users/biocbuild/bbs-3.14-bioc/R/library/grDevices/include'   -I"C:/extsoft/include"  -ggdb   -O2 -Wall  -mfpmath=sse -msse2 -mstackrealign  -c utils.cpp -o utils.o
C:/rtools40/mingw32/bin/g++ -shared -s -static-libgcc -o destiny.dll tmp.def RcppExports.o censoring.o utils.o -LC:/extsoft/lib/i386 -LC:/extsoft/lib -LC:/Users/BIOCBU~1/BBS-3~1.14-/R/bin/i386 -lR
installing to C:/Users/biocbuild/bbs-3.14-bioc/meat/destiny.buildbin-libdir/00LOCK-destiny/00new/destiny/libs/i386
** R
** data
** demo
** inst
** byte-compile and prepare package for lazy loading
** help
*** installing help indices
  converting help for package 'destiny'
    finding HTML links ... done
    DPT-matrix-methods                      html  
    DPT-methods                             html  
    DPT                                     html  
    DiffusionMap-accessors                  html  
    DiffusionMap-class                      html  
    DiffusionMap-methods                    html  
    ExpressionSet-helpers                   html  
    Gene-Relevance-methods                  html  
    Gene-Relevance-plotting                 html  
    Gene-Relevance                          html  
    Sigmas-class                            html  
    coercions                               html  
    colorlegend                             html  
    cube_helix                              html  
    destiny-generics                        html  
REDIRECT:topic	 Previous alias or file overwritten by alias: C:/Users/biocbuild/bbs-3.14-bioc/meat/destiny.buildbin-libdir/00LOCK-destiny/00new/destiny/help/sigmas.html
    destiny                                 html  
    dm_predict                              html  
    eig_decomp                              html  
    extractions                             html  
    find_dm_k                               html  
    find_sigmas                             html  
    find_tips                               html  
    guo                                     html  
    knn                                     html  
    l_which                                 html  
    plot.DPT                                html  
    plot.DiffusionMap                       html  
    plot.Sigmas                             html  
    projection_dist                         html  
    random_root                             html  
    updateObject-methods                    html  
** building package indices
** installing vignettes
** testing if installed package can be loaded from temporary location
** testing if installed package can be loaded from final location
** testing if installed package keeps a record of temporary installation path

install for x64

* installing *source* package 'destiny' ...
** libs
"C:/rtools40/mingw64/bin/"g++  -std=gnu++11 -I"C:/Users/BIOCBU~1/BBS-3~1.14-/R/include" -DNDEBUG  -I'C:/Users/biocbuild/bbs-3.14-bioc/R/library/Rcpp/include' -I'C:/Users/biocbuild/bbs-3.14-bioc/R/library/RcppEigen/include' -I'C:/Users/biocbuild/bbs-3.14-bioc/R/library/grDevices/include'   -I"C:/extsoft/include"  -ggdb   -O2 -Wall  -mfpmath=sse -msse2 -mstackrealign  -c RcppExports.cpp -o RcppExports.o
In file included from C:/Users/biocbuild/bbs-3.14-bioc/R/library/RcppEigen/include/Eigen/Core:397,
                 from C:/Users/biocbuild/bbs-3.14-bioc/R/library/RcppEigen/include/Eigen/Dense:1,
                 from C:/Users/biocbuild/bbs-3.14-bioc/R/library/RcppEigen/include/RcppEigenForward.h:30,
                 from C:/Users/biocbuild/bbs-3.14-bioc/R/library/RcppEigen/include/RcppEigen.h:25,
                 from RcppExports.cpp:4:
C:/Users/biocbuild/bbs-3.14-bioc/R/library/RcppEigen/include/Eigen/src/Core/arch/SSE/PacketMath.h:60:39: warning: ignoring attributes on template argument '__m128' {aka '__vector(4) float'} [-Wignored-attributes]
 template<> struct is_arithmetic<__m128>  { enum { value = true }; };
                                       ^
C:/Users/biocbuild/bbs-3.14-bioc/R/library/RcppEigen/include/Eigen/src/Core/arch/SSE/PacketMath.h:61:40: warning: ignoring attributes on template argument '__m128i' {aka '__vector(2) long long int'} [-Wignored-attributes]
 template<> struct is_arithmetic<__m128i> { enum { value = true }; };
                                        ^
C:/Users/biocbuild/bbs-3.14-bioc/R/library/RcppEigen/include/Eigen/src/Core/arch/SSE/PacketMath.h:62:40: warning: ignoring attributes on template argument '__m128d' {aka '__vector(2) double'} [-Wignored-attributes]
 template<> struct is_arithmetic<__m128d> { enum { value = true }; };
                                        ^
C:/Users/biocbuild/bbs-3.14-bioc/R/library/RcppEigen/include/Eigen/src/Core/arch/SSE/PacketMath.h:161:43: warning: ignoring attributes on template argument 'Eigen::internal::Packet4f' {aka '__vector(4) float'} [-Wignored-attributes]
 template<> struct unpacket_traits<Packet4f> { typedef float  type; enum {size=4, alignment=Aligned16}; typedef Packet4f half; };
                                           ^
C:/Users/biocbuild/bbs-3.14-bioc/R/library/RcppEigen/include/Eigen/src/Core/arch/SSE/PacketMath.h:162:43: warning: ignoring attributes on template argument 'Eigen::internal::Packet2d' {aka '__vector(2) double'} [-Wignored-attributes]
 template<> struct unpacket_traits<Packet2d> { typedef double type; enum {size=2, alignment=Aligned16}; typedef Packet2d half; };
                                           ^
C:/Users/biocbuild/bbs-3.14-bioc/R/library/RcppEigen/include/Eigen/src/Core/arch/SSE/PacketMath.h:163:43: warning: ignoring attributes on template argument 'Eigen::internal::Packet4i' {aka '__vector(2) long long int'} [-Wignored-attributes]
 template<> struct unpacket_traits<Packet4i> { typedef int    type; enum {size=4, alignment=Aligned16}; typedef Packet4i half; };
                                           ^
C:/Users/biocbuild/bbs-3.14-bioc/R/library/RcppEigen/include/Eigen/src/Core/arch/SSE/PacketMath.h:718:35: warning: ignoring attributes on template argument 'Eigen::internal::Packet4f' {aka '__vector(4) float'} [-Wignored-attributes]
 struct palign_impl<Offset,Packet4f>
                                   ^
C:/Users/biocbuild/bbs-3.14-bioc/R/library/RcppEigen/include/Eigen/src/Core/arch/SSE/PacketMath.h:741:35: warning: ignoring attributes on template argument 'Eigen::internal::Packet4i' {aka '__vector(2) long long int'} [-Wignored-attributes]
 struct palign_impl<Offset,Packet4i>
                                   ^
C:/Users/biocbuild/bbs-3.14-bioc/R/library/RcppEigen/include/Eigen/src/Core/arch/SSE/PacketMath.h:764:35: warning: ignoring attributes on template argument 'Eigen::internal::Packet2d' {aka '__vector(2) double'} [-Wignored-attributes]
 struct palign_impl<Offset,Packet2d>
                                   ^
C:/Users/biocbuild/bbs-3.14-bioc/R/library/RcppEigen/include/Eigen/src/Core/arch/SSE/PacketMath.h:778:34: warning: ignoring attributes on template argument 'Eigen::internal::Packet4f' {aka '__vector(4) float'} [-Wignored-attributes]
 ptranspose(PacketBlock<Packet4f,4>& kernel) {
                                  ^
C:/Users/biocbuild/bbs-3.14-bioc/R/library/RcppEigen/include/Eigen/src/Core/arch/SSE/PacketMath.h:783:34: warning: ignoring attributes on template argument 'Eigen::internal::Packet2d' {aka '__vector(2) double'} [-Wignored-attributes]
 ptranspose(PacketBlock<Packet2d,2>& kernel) {
                                  ^
C:/Users/biocbuild/bbs-3.14-bioc/R/library/RcppEigen/include/Eigen/src/Core/arch/SSE/PacketMath.h:790:34: warning: ignoring attributes on template argument 'Eigen::internal::Packet4i' {aka '__vector(2) long long int'} [-Wignored-attributes]
 ptranspose(PacketBlock<Packet4i,4>& kernel) {
                                  ^
In file included from C:/Users/biocbuild/bbs-3.14-bioc/R/library/RcppEigen/include/Eigen/Core:377,
                 from C:/Users/biocbuild/bbs-3.14-bioc/R/library/RcppEigen/include/Eigen/Dense:1,
                 from C:/Users/biocbuild/bbs-3.14-bioc/R/library/RcppEigen/include/RcppEigenForward.h:30,
                 from C:/Users/biocbuild/bbs-3.14-bioc/R/library/RcppEigen/include/RcppEigen.h:25,
                 from RcppExports.cpp:4:
C:/Users/biocbuild/bbs-3.14-bioc/R/library/RcppEigen/include/Eigen/src/Core/arch/Default/ConjHelper.h:15:70: warning: ignoring attributes on template argument 'Eigen::internal::Packet4f' {aka '__vector(4) float'} [-Wignored-attributes]
   template<> struct conj_helper<PACKET_REAL, PACKET_CPLX, false,false> {                                          \
                                                                      ^
C:/Users/biocbuild/bbs-3.14-bioc/R/library/RcppEigen/include/Eigen/src/Core/arch/SSE/Complex.h:232:1: note: in expansion of macro 'EIGEN_MAKE_CONJ_HELPER_CPLX_REAL'
 EIGEN_MAKE_CONJ_HELPER_CPLX_REAL(Packet2cf,Packet4f)
 ^~~~~~~~~~~~~~~~~~~~~~~~~~~~~~~~
C:/Users/biocbuild/bbs-3.14-bioc/R/library/RcppEigen/include/Eigen/src/Core/arch/Default/ConjHelper.h:22:70: warning: ignoring attributes on template argument 'Eigen::internal::Packet4f' {aka '__vector(4) float'} [-Wignored-attributes]
   template<> struct conj_helper<PACKET_CPLX, PACKET_REAL, false,false> {                                          \
                                                                      ^
C:/Users/biocbuild/bbs-3.14-bioc/R/library/RcppEigen/include/Eigen/src/Core/arch/SSE/Complex.h:232:1: note: in expansion of macro 'EIGEN_MAKE_CONJ_HELPER_CPLX_REAL'
 EIGEN_MAKE_CONJ_HELPER_CPLX_REAL(Packet2cf,Packet4f)
 ^~~~~~~~~~~~~~~~~~~~~~~~~~~~~~~~
C:/Users/biocbuild/bbs-3.14-bioc/R/library/RcppEigen/include/Eigen/src/Core/arch/Default/ConjHelper.h:15:70: warning: ignoring attributes on template argument 'Eigen::internal::Packet2d' {aka '__vector(2) double'} [-Wignored-attributes]
   template<> struct conj_helper<PACKET_REAL, PACKET_CPLX, false,false> {                                          \
                                                                      ^
C:/Users/biocbuild/bbs-3.14-bioc/R/library/RcppEigen/include/Eigen/src/Core/arch/SSE/Complex.h:417:1: note: in expansion of macro 'EIGEN_MAKE_CONJ_HELPER_CPLX_REAL'
 EIGEN_MAKE_CONJ_HELPER_CPLX_REAL(Packet1cd,Packet2d)
 ^~~~~~~~~~~~~~~~~~~~~~~~~~~~~~~~
C:/Users/biocbuild/bbs-3.14-bioc/R/library/RcppEigen/include/Eigen/src/Core/arch/Default/ConjHelper.h:22:70: warning: ignoring attributes on template argument 'Eigen::internal::Packet2d' {aka '__vector(2) double'} [-Wignored-attributes]
   template<> struct conj_helper<PACKET_CPLX, PACKET_REAL, false,false> {                                          \
                                                                      ^
C:/Users/biocbuild/bbs-3.14-bioc/R/library/RcppEigen/include/Eigen/src/Core/arch/SSE/Complex.h:417:1: note: in expansion of macro 'EIGEN_MAKE_CONJ_HELPER_CPLX_REAL'
 EIGEN_MAKE_CONJ_HELPER_CPLX_REAL(Packet1cd,Packet2d)
 ^~~~~~~~~~~~~~~~~~~~~~~~~~~~~~~~
In file included from C:/Users/biocbuild/bbs-3.14-bioc/R/library/RcppEigen/include/Eigen/Core:370,
                 from C:/Users/biocbuild/bbs-3.14-bioc/R/library/RcppEigen/include/Eigen/Dense:1,
                 from C:/Users/biocbuild/bbs-3.14-bioc/R/library/RcppEigen/include/RcppEigenForward.h:30,
                 from C:/Users/biocbuild/bbs-3.14-bioc/R/library/RcppEigen/include/RcppEigen.h:25,
                 from RcppExports.cpp:4:
C:/Users/biocbuild/bbs-3.14-bioc/R/library/RcppEigen/include/Eigen/src/Core/util/XprHelper.h: In instantiation of 'struct Eigen::internal::find_best_packet<float, 4>':
C:/Users/biocbuild/bbs-3.14-bioc/R/library/RcppEigen/include/Eigen/src/Core/Matrix.h:22:57:   required from 'struct Eigen::internal::traits<Eigen::Matrix<float, 4, 1> >'
C:/Users/biocbuild/bbs-3.14-bioc/R/library/RcppEigen/include/Eigen/src/Geometry/Quaternion.h:242:7:   required from 'struct Eigen::internal::traits<Eigen::Quaternion<float> >'
C:/Users/biocbuild/bbs-3.14-bioc/R/library/RcppEigen/include/Eigen/src/Geometry/arch/Geometry_SSE.h:24:46:   required from here
C:/Users/biocbuild/bbs-3.14-bioc/R/library/RcppEigen/include/Eigen/src/Core/util/XprHelper.h:187:44: warning: ignoring attributes on template argument 'Eigen::internal::packet_traits<float>::type' {aka '__vector(4) float'} [-Wignored-attributes]
          bool Stop = Size==Dynamic || (Size%unpacket_traits<PacketType>::size)==0 || is_same<PacketType,typename unpacket_traits<PacketType>::half>::value>
                                       ~~~~~^~~~~~~~~~~~~~~~~~~~~~~~~~~~~~~~~~~
C:/Users/biocbuild/bbs-3.14-bioc/R/library/RcppEigen/include/Eigen/src/Core/util/XprHelper.h:187:83: warning: ignoring attributes on template argument 'Eigen::internal::packet_traits<float>::type' {aka '__vector(4) float'} [-Wignored-attributes]
          bool Stop = Size==Dynamic || (Size%unpacket_traits<PacketType>::size)==0 || is_same<PacketType,typename unpacket_traits<PacketType>::half>::value>
                      ~~~~~~~~~~~~~~~~~~~~~~~~~~~~~~~~~~~~~~~~~~~~~~~~~~~~~~~~~~~~~^~~~~~~~~~~~~~~~~~~~~~~~~~~~~~~~~~~~~~~~~~~~~~~~~~~~~~~~~~~~~~~~~
C:/Users/biocbuild/bbs-3.14-bioc/R/library/RcppEigen/include/Eigen/src/Core/util/XprHelper.h:187:83: warning: ignoring attributes on template argument 'Eigen::internal::packet_traits<float>::type' {aka '__vector(4) float'} [-Wignored-attributes]
C:/Users/biocbuild/bbs-3.14-bioc/R/library/RcppEigen/include/Eigen/src/Core/util/XprHelper.h:187:83: warning: ignoring attributes on template argument 'Eigen::internal::unpacket_traits<__vector(4) float>::half' {aka '__vector(4) float'} [-Wignored-attributes]
C:/Users/biocbuild/bbs-3.14-bioc/R/library/RcppEigen/include/Eigen/src/Core/util/XprHelper.h:205:88: warning: ignoring attributes on template argument 'Eigen::internal::packet_traits<float>::type' {aka '__vector(4) float'} [-Wignored-attributes]
   typedef typename find_best_packet_helper<Size,typename packet_traits<T>::type>::type type;
                                                                                        ^~~~
In file included from C:/Users/biocbuild/bbs-3.14-bioc/R/library/RcppEigen/include/Eigen/Core:439,
                 from C:/Users/biocbuild/bbs-3.14-bioc/R/library/RcppEigen/include/Eigen/Dense:1,
                 from C:/Users/biocbuild/bbs-3.14-bioc/R/library/RcppEigen/include/RcppEigenForward.h:30,
                 from C:/Users/biocbuild/bbs-3.14-bioc/R/library/RcppEigen/include/RcppEigen.h:25,
                 from RcppExports.cpp:4:
C:/Users/biocbuild/bbs-3.14-bioc/R/library/RcppEigen/include/Eigen/src/Core/DenseCoeffsBase.h: In instantiation of 'class Eigen::DenseCoeffsBase<Eigen::Matrix<float, 4, 1>, 0>':
C:/Users/biocbuild/bbs-3.14-bioc/R/library/RcppEigen/include/Eigen/src/Core/DenseCoeffsBase.h:300:7:   required from 'class Eigen::DenseCoeffsBase<Eigen::Matrix<float, 4, 1>, 1>'
C:/Users/biocbuild/bbs-3.14-bioc/R/library/RcppEigen/include/Eigen/src/Core/DenseCoeffsBase.h:551:7:   required from 'class Eigen::DenseCoeffsBase<Eigen::Matrix<float, 4, 1>, 3>'
C:/Users/biocbuild/bbs-3.14-bioc/R/library/RcppEigen/include/Eigen/src/Core/DenseBase.h:41:34:   required from 'class Eigen::DenseBase<Eigen::Matrix<float, 4, 1> >'
C:/Users/biocbuild/bbs-3.14-bioc/R/library/RcppEigen/include/Eigen/src/Core/MatrixBase.h:48:34:   required from 'class Eigen::MatrixBase<Eigen::Matrix<float, 4, 1> >'
C:/Users/biocbuild/bbs-3.14-bioc/R/library/RcppEigen/include/Eigen/src/Core/PlainObjectBase.h:98:7:   required from 'class Eigen::PlainObjectBase<Eigen::Matrix<float, 4, 1> >'
C:/Users/biocbuild/bbs-3.14-bioc/R/library/RcppEigen/include/Eigen/src/Core/Matrix.h:178:7:   required from 'class Eigen::Matrix<float, 4, 1>'
C:/Users/biocbuild/bbs-3.14-bioc/R/library/RcppEigen/include/Eigen/src/Geometry/Quaternion.h:46:50:   required from 'class Eigen::QuaternionBase<Eigen::Quaternion<float> >'
C:/Users/biocbuild/bbs-3.14-bioc/R/library/RcppEigen/include/Eigen/src/Geometry/Quaternion.h:250:7:   required from 'class Eigen::Quaternion<float>'
C:/Users/biocbuild/bbs-3.14-bioc/R/library/RcppEigen/include/Eigen/src/Geometry/arch/Geometry_SSE.h:27:3:   required from here
C:/Users/biocbuild/bbs-3.14-bioc/R/library/RcppEigen/include/Eigen/src/Core/DenseCoeffsBase.h:55:30: warning: ignoring attributes on template argument 'Eigen::internal::packet_traits<float>::type' {aka '__vector(4) float'} [-Wignored-attributes]
                      >::type PacketReturnType;
                              ^~~~~~~~~~~~~~~~
In file included from C:/Users/biocbuild/bbs-3.14-bioc/R/library/RcppEigen/include/Eigen/Core:370,
                 from C:/Users/biocbuild/bbs-3.14-bioc/R/library/RcppEigen/include/Eigen/Dense:1,
                 from C:/Users/biocbuild/bbs-3.14-bioc/R/library/RcppEigen/include/RcppEigenForward.h:30,
                 from C:/Users/biocbuild/bbs-3.14-bioc/R/library/RcppEigen/include/RcppEigen.h:25,
                 from RcppExports.cpp:4:
C:/Users/biocbuild/bbs-3.14-bioc/R/library/RcppEigen/include/Eigen/src/Core/util/XprHelper.h: In instantiation of 'struct Eigen::internal::find_best_packet<double, 4>':
C:/Users/biocbuild/bbs-3.14-bioc/R/library/RcppEigen/include/Eigen/src/Core/Matrix.h:22:57:   required from 'struct Eigen::internal::traits<Eigen::Matrix<double, 4, 1> >'
C:/Users/biocbuild/bbs-3.14-bioc/R/library/RcppEigen/include/Eigen/src/Geometry/Quaternion.h:242:7:   required from 'struct Eigen::internal::traits<Eigen::Quaternion<double> >'
C:/Users/biocbuild/bbs-3.14-bioc/R/library/RcppEigen/include/Eigen/src/Geometry/arch/Geometry_SSE.h:88:47:   required from here
C:/Users/biocbuild/bbs-3.14-bioc/R/library/RcppEigen/include/Eigen/src/Core/util/XprHelper.h:187:44: warning: ignoring attributes on template argument 'Eigen::internal::packet_traits<double>::type' {aka '__vector(2) double'} [-Wignored-attributes]
          bool Stop = Size==Dynamic || (Size%unpacket_traits<PacketType>::size)==0 || is_same<PacketType,typename unpacket_traits<PacketType>::half>::value>
                                       ~~~~~^~~~~~~~~~~~~~~~~~~~~~~~~~~~~~~~~~~
C:/Users/biocbuild/bbs-3.14-bioc/R/library/RcppEigen/include/Eigen/src/Core/util/XprHelper.h:187:83: warning: ignoring attributes on template argument 'Eigen::internal::packet_traits<double>::type' {aka '__vector(2) double'} [-Wignored-attributes]
          bool Stop = Size==Dynamic || (Size%unpacket_traits<PacketType>::size)==0 || is_same<PacketType,typename unpacket_traits<PacketType>::half>::value>
                      ~~~~~~~~~~~~~~~~~~~~~~~~~~~~~~~~~~~~~~~~~~~~~~~~~~~~~~~~~~~~~^~~~~~~~~~~~~~~~~~~~~~~~~~~~~~~~~~~~~~~~~~~~~~~~~~~~~~~~~~~~~~~~~
C:/Users/biocbuild/bbs-3.14-bioc/R/library/RcppEigen/include/Eigen/src/Core/util/XprHelper.h:187:83: warning: ignoring attributes on template argument 'Eigen::internal::packet_traits<double>::type' {aka '__vector(2) double'} [-Wignored-attributes]
C:/Users/biocbuild/bbs-3.14-bioc/R/library/RcppEigen/include/Eigen/src/Core/util/XprHelper.h:187:83: warning: ignoring attributes on template argument 'Eigen::internal::unpacket_traits<__vector(2) double>::half' {aka '__vector(2) double'} [-Wignored-attributes]
C:/Users/biocbuild/bbs-3.14-bioc/R/library/RcppEigen/include/Eigen/src/Core/util/XprHelper.h:205:88: warning: ignoring attributes on template argument 'Eigen::internal::packet_traits<double>::type' {aka '__vector(2) double'} [-Wignored-attributes]
   typedef typename find_best_packet_helper<Size,typename packet_traits<T>::type>::type type;
                                                                                        ^~~~
In file included from C:/Users/biocbuild/bbs-3.14-bioc/R/library/RcppEigen/include/Eigen/Core:439,
                 from C:/Users/biocbuild/bbs-3.14-bioc/R/library/RcppEigen/include/Eigen/Dense:1,
                 from C:/Users/biocbuild/bbs-3.14-bioc/R/library/RcppEigen/include/RcppEigenForward.h:30,
                 from C:/Users/biocbuild/bbs-3.14-bioc/R/library/RcppEigen/include/RcppEigen.h:25,
                 from RcppExports.cpp:4:
C:/Users/biocbuild/bbs-3.14-bioc/R/library/RcppEigen/include/Eigen/src/Core/DenseCoeffsBase.h: In instantiation of 'class Eigen::DenseCoeffsBase<Eigen::Matrix<double, 4, 1>, 0>':
C:/Users/biocbuild/bbs-3.14-bioc/R/library/RcppEigen/include/Eigen/src/Core/DenseCoeffsBase.h:300:7:   required from 'class Eigen::DenseCoeffsBase<Eigen::Matrix<double, 4, 1>, 1>'
C:/Users/biocbuild/bbs-3.14-bioc/R/library/RcppEigen/include/Eigen/src/Core/DenseCoeffsBase.h:551:7:   required from 'class Eigen::DenseCoeffsBase<Eigen::Matrix<double, 4, 1>, 3>'
C:/Users/biocbuild/bbs-3.14-bioc/R/library/RcppEigen/include/Eigen/src/Core/DenseBase.h:41:34:   required from 'class Eigen::DenseBase<Eigen::Matrix<double, 4, 1> >'
C:/Users/biocbuild/bbs-3.14-bioc/R/library/RcppEigen/include/Eigen/src/Core/MatrixBase.h:48:34:   required from 'class Eigen::MatrixBase<Eigen::Matrix<double, 4, 1> >'
C:/Users/biocbuild/bbs-3.14-bioc/R/library/RcppEigen/include/Eigen/src/Core/PlainObjectBase.h:98:7:   required from 'class Eigen::PlainObjectBase<Eigen::Matrix<double, 4, 1> >'
C:/Users/biocbuild/bbs-3.14-bioc/R/library/RcppEigen/include/Eigen/src/Core/Matrix.h:178:7:   required from 'class Eigen::Matrix<double, 4, 1>'
C:/Users/biocbuild/bbs-3.14-bioc/R/library/RcppEigen/include/Eigen/src/Geometry/Quaternion.h:46:50:   required from 'class Eigen::QuaternionBase<Eigen::Quaternion<double> >'
C:/Users/biocbuild/bbs-3.14-bioc/R/library/RcppEigen/include/Eigen/src/Geometry/Quaternion.h:250:7:   required from 'class Eigen::Quaternion<double>'
C:/Users/biocbuild/bbs-3.14-bioc/R/library/RcppEigen/include/Eigen/src/Geometry/arch/Geometry_SSE.h:92:3:   required from here
C:/Users/biocbuild/bbs-3.14-bioc/R/library/RcppEigen/include/Eigen/src/Core/DenseCoeffsBase.h:55:30: warning: ignoring attributes on template argument 'Eigen::internal::packet_traits<double>::type' {aka '__vector(2) double'} [-Wignored-attributes]
                      >::type PacketReturnType;
                              ^~~~~~~~~~~~~~~~
In file included from C:/Users/biocbuild/bbs-3.14-bioc/R/library/RcppEigen/include/Eigen/SparseCore:37,
                 from C:/Users/biocbuild/bbs-3.14-bioc/R/library/RcppEigen/include/Eigen/Sparse:26,
                 from C:/Users/biocbuild/bbs-3.14-bioc/R/library/RcppEigen/include/RcppEigenForward.h:31,
                 from C:/Users/biocbuild/bbs-3.14-bioc/R/library/RcppEigen/include/RcppEigen.h:25,
                 from RcppExports.cpp:4:
C:/Users/biocbuild/bbs-3.14-bioc/R/library/RcppEigen/include/Eigen/src/SparseCore/SparseMatrixBase.h: In instantiation of 'class Eigen::SparseMatrixBase<Eigen::SparseMatrix<double, 0, int> >':
C:/Users/biocbuild/bbs-3.14-bioc/R/library/RcppEigen/include/Eigen/src/SparseCore/SparseCompressedBase.h:36:7:   required from 'class Eigen::SparseCompressedBase<Eigen::SparseMatrix<double, 0, int> >'
C:/Users/biocbuild/bbs-3.14-bioc/R/library/RcppEigen/include/Eigen/src/SparseCore/SparseMatrix.h:96:7:   required from 'class Eigen::SparseMatrix<double, 0, int>'
C:/Users/biocbuild/bbs-3.14-bioc/R/library/RcppEigen/include/unsupported/Eigen/src/IterativeSolvers/ConstrainedConjGrad.h:61:25:   required from here
C:/Users/biocbuild/bbs-3.14-bioc/R/library/RcppEigen/include/Eigen/src/SparseCore/SparseMatrixBase.h:47:30: warning: ignoring attributes on template argument 'Eigen::internal::packet_traits<double>::type' {aka '__vector(2) double'} [-Wignored-attributes]
                      >::type PacketReturnType;
                              ^~~~~~~~~~~~~~~~
In file included from C:/Users/biocbuild/bbs-3.14-bioc/R/library/RcppEigen/include/Eigen/Core:370,
                 from C:/Users/biocbuild/bbs-3.14-bioc/R/library/RcppEigen/include/Eigen/Dense:1,
                 from C:/Users/biocbuild/bbs-3.14-bioc/R/library/RcppEigen/include/RcppEigenForward.h:30,
                 from C:/Users/biocbuild/bbs-3.14-bioc/R/library/RcppEigen/include/RcppEigen.h:25,
                 from RcppExports.cpp:4:
C:/Users/biocbuild/bbs-3.14-bioc/R/library/RcppEigen/include/Eigen/src/Core/util/XprHelper.h: In instantiation of 'struct Eigen::internal::find_best_packet<int, -1>':
C:/Users/biocbuild/bbs-3.14-bioc/R/library/RcppEigen/include/Eigen/src/Core/Matrix.h:22:57:   required from 'struct Eigen::internal::traits<Eigen::Matrix<int, -1, 1> >'
C:/Users/biocbuild/bbs-3.14-bioc/R/library/RcppEigen/include/Eigen/src/Core/PlainObjectBase.h:98:7:   required from 'class Eigen::PlainObjectBase<Eigen::Matrix<int, -1, 1> >'
C:/Users/biocbuild/bbs-3.14-bioc/R/library/RcppEigen/include/Eigen/src/Core/Matrix.h:178:7:   required from 'class Eigen::Matrix<int, -1, 1>'
C:/Users/biocbuild/bbs-3.14-bioc/R/library/RcppEigen/include/unsupported/Eigen/src/KroneckerProduct/KroneckerTensorProduct.h:168:29:   required from here
C:/Users/biocbuild/bbs-3.14-bioc/R/library/RcppEigen/include/Eigen/src/Core/util/XprHelper.h:187:44: warning: ignoring attributes on template argument 'Eigen::internal::packet_traits<int>::type' {aka '__vector(2) long long int'} [-Wignored-attributes]
          bool Stop = Size==Dynamic || (Size%unpacket_traits<PacketType>::size)==0 || is_same<PacketType,typename unpacket_traits<PacketType>::half>::value>
                                       ~~~~~^~~~~~~~~~~~~~~~~~~~~~~~~~~~~~~~~~~
C:/Users/biocbuild/bbs-3.14-bioc/R/library/RcppEigen/include/Eigen/src/Core/util/XprHelper.h:187:83: warning: ignoring attributes on template argument 'Eigen::internal::packet_traits<int>::type' {aka '__vector(2) long long int'} [-Wignored-attributes]
          bool Stop = Size==Dynamic || (Size%unpacket_traits<PacketType>::size)==0 || is_same<PacketType,typename unpacket_traits<PacketType>::half>::value>
                      ~~~~~~~~~~~~~~~~~~~~~~~~~~~~~~~~~~~~~~~~~~~~~~~~~~~~~~~~~~~~~^~~~~~~~~~~~~~~~~~~~~~~~~~~~~~~~~~~~~~~~~~~~~~~~~~~~~~~~~~~~~~~~~
C:/Users/biocbuild/bbs-3.14-bioc/R/library/RcppEigen/include/Eigen/src/Core/util/XprHelper.h:187:83: warning: ignoring attributes on template argument 'Eigen::internal::packet_traits<int>::type' {aka '__vector(2) long long int'} [-Wignored-attributes]
C:/Users/biocbuild/bbs-3.14-bioc/R/library/RcppEigen/include/Eigen/src/Core/util/XprHelper.h:187:83: warning: ignoring attributes on template argument 'Eigen::internal::unpacket_traits<__vector(2) long long int>::half' {aka '__vector(2) long long int'} [-Wignored-attributes]
C:/Users/biocbuild/bbs-3.14-bioc/R/library/RcppEigen/include/Eigen/src/Core/util/XprHelper.h:205:88: warning: ignoring attributes on template argument 'Eigen::internal::packet_traits<int>::type' {aka '__vector(2) long long int'} [-Wignored-attributes]
   typedef typename find_best_packet_helper<Size,typename packet_traits<T>::type>::type type;
                                                                                        ^~~~
In file included from C:/Users/biocbuild/bbs-3.14-bioc/R/library/RcppEigen/include/Eigen/Core:439,
                 from C:/Users/biocbuild/bbs-3.14-bioc/R/library/RcppEigen/include/Eigen/Dense:1,
                 from C:/Users/biocbuild/bbs-3.14-bioc/R/library/RcppEigen/include/RcppEigenForward.h:30,
                 from C:/Users/biocbuild/bbs-3.14-bioc/R/library/RcppEigen/include/RcppEigen.h:25,
                 from RcppExports.cpp:4:
C:/Users/biocbuild/bbs-3.14-bioc/R/library/RcppEigen/include/Eigen/src/Core/DenseCoeffsBase.h: In instantiation of 'class Eigen::DenseCoeffsBase<Eigen::Matrix<int, -1, 1>, 0>':
C:/Users/biocbuild/bbs-3.14-bioc/R/library/RcppEigen/include/Eigen/src/Core/DenseCoeffsBase.h:300:7:   required from 'class Eigen::DenseCoeffsBase<Eigen::Matrix<int, -1, 1>, 1>'
C:/Users/biocbuild/bbs-3.14-bioc/R/library/RcppEigen/include/Eigen/src/Core/DenseCoeffsBase.h:551:7:   required from 'class Eigen::DenseCoeffsBase<Eigen::Matrix<int, -1, 1>, 3>'
C:/Users/biocbuild/bbs-3.14-bioc/R/library/RcppEigen/include/Eigen/src/Core/DenseBase.h:41:34:   required from 'class Eigen::DenseBase<Eigen::Matrix<int, -1, 1> >'
C:/Users/biocbuild/bbs-3.14-bioc/R/library/RcppEigen/include/Eigen/src/Core/MatrixBase.h:48:34:   required from 'class Eigen::MatrixBase<Eigen::Matrix<int, -1, 1> >'
C:/Users/biocbuild/bbs-3.14-bioc/R/library/RcppEigen/include/Eigen/src/Core/PlainObjectBase.h:98:7:   required from 'class Eigen::PlainObjectBase<Eigen::Matrix<int, -1, 1> >'
C:/Users/biocbuild/bbs-3.14-bioc/R/library/RcppEigen/include/Eigen/src/Core/Matrix.h:178:7:   required from 'class Eigen::Matrix<int, -1, 1>'
C:/Users/biocbuild/bbs-3.14-bioc/R/library/RcppEigen/include/unsupported/Eigen/src/KroneckerProduct/KroneckerTensorProduct.h:168:29:   required from here
C:/Users/biocbuild/bbs-3.14-bioc/R/library/RcppEigen/include/Eigen/src/Core/DenseCoeffsBase.h:55:30: warning: ignoring attributes on template argument 'Eigen::internal::packet_traits<int>::type' {aka '__vector(2) long long int'} [-Wignored-attributes]
                      >::type PacketReturnType;
                              ^~~~~~~~~~~~~~~~
C:/Users/biocbuild/bbs-3.14-bioc/R/library/RcppEigen/include/Eigen/src/Core/DenseCoeffsBase.h: In instantiation of 'class Eigen::DenseCoeffsBase<Eigen::Transpose<Eigen::Matrix<int, -1, 1> >, 0>':
C:/Users/biocbuild/bbs-3.14-bioc/R/library/RcppEigen/include/Eigen/src/Core/DenseCoeffsBase.h:300:7:   required from 'class Eigen::DenseCoeffsBase<Eigen::Transpose<Eigen::Matrix<int, -1, 1> >, 1>'
C:/Users/biocbuild/bbs-3.14-bioc/R/library/RcppEigen/include/Eigen/src/Core/DenseCoeffsBase.h:551:7:   required from 'class Eigen::DenseCoeffsBase<Eigen::Transpose<Eigen::Matrix<int, -1, 1> >, 3>'
C:/Users/biocbuild/bbs-3.14-bioc/R/library/RcppEigen/include/Eigen/src/Core/DenseBase.h:41:34:   required from 'class Eigen::DenseBase<Eigen::Transpose<Eigen::Matrix<int, -1, 1> > >'
C:/Users/biocbuild/bbs-3.14-bioc/R/library/RcppEigen/include/Eigen/src/Core/MatrixBase.h:48:34:   required from 'class Eigen::MatrixBase<Eigen::Transpose<Eigen::Matrix<int, -1, 1> > >'
C:/Users/biocbuild/bbs-3.14-bioc/R/library/RcppEigen/include/Eigen/src/Core/Transpose.h:115:37:   required from 'class Eigen::TransposeImpl<Eigen::Matrix<int, -1, 1>, Eigen::Dense>'
C:/Users/biocbuild/bbs-3.14-bioc/R/library/RcppEigen/include/Eigen/src/Core/Transpose.h:52:37:   required from 'class Eigen::Transpose<Eigen::Matrix<int, -1, 1> >'
C:/Users/biocbuild/bbs-3.14-bioc/R/library/RcppEigen/include/unsupported/Eigen/src/KroneckerProduct/KroneckerTensorProduct.h:178:72:   required from here
C:/Users/biocbuild/bbs-3.14-bioc/R/library/RcppEigen/include/Eigen/src/Core/DenseCoeffsBase.h:55:30: warning: ignoring attributes on template argument 'Eigen::internal::packet_traits<int>::type' {aka '__vector(2) long long int'} [-Wignored-attributes]
C:/Users/biocbuild/bbs-3.14-bioc/R/library/RcppEigen/include/Eigen/src/Core/DenseCoeffsBase.h: In instantiation of 'class Eigen::DenseCoeffsBase<Eigen::Matrix<int, -1, -1>, 0>':
C:/Users/biocbuild/bbs-3.14-bioc/R/library/RcppEigen/include/Eigen/src/Core/DenseCoeffsBase.h:300:7:   required from 'class Eigen::DenseCoeffsBase<Eigen::Matrix<int, -1, -1>, 1>'
C:/Users/biocbuild/bbs-3.14-bioc/R/library/RcppEigen/include/Eigen/src/Core/DenseCoeffsBase.h:551:7:   required from 'class Eigen::DenseCoeffsBase<Eigen::Matrix<int, -1, -1>, 3>'
C:/Users/biocbuild/bbs-3.14-bioc/R/library/RcppEigen/include/Eigen/src/Core/DenseBase.h:41:34:   required from 'class Eigen::DenseBase<Eigen::Matrix<int, -1, -1> >'
C:/Users/biocbuild/bbs-3.14-bioc/R/library/RcppEigen/include/Eigen/src/Core/MatrixBase.h:48:34:   required from 'class Eigen::MatrixBase<Eigen::Matrix<int, -1, -1> >'
C:/Users/biocbuild/bbs-3.14-bioc/R/library/RcppEigen/include/Eigen/src/Core/PlainObjectBase.h:98:7:   required from 'class Eigen::PlainObjectBase<Eigen::Matrix<int, -1, -1> >'
C:/Users/biocbuild/bbs-3.14-bioc/R/library/RcppEigen/include/Eigen/src/Core/Matrix.h:178:7:   required from 'class Eigen::Matrix<int, -1, -1>'
C:/Users/biocbuild/bbs-3.14-bioc/R/library/RcppEigen/include/unsupported/Eigen/src/KroneckerProduct/KroneckerTensorProduct.h:179:36:   required from here
C:/Users/biocbuild/bbs-3.14-bioc/R/library/RcppEigen/include/Eigen/src/Core/DenseCoeffsBase.h:55:30: warning: ignoring attributes on template argument 'Eigen::internal::packet_traits<int>::type' {aka '__vector(2) long long int'} [-Wignored-attributes]
C:/Users/biocbuild/bbs-3.14-bioc/R/library/RcppEigen/include/Eigen/src/Core/DenseCoeffsBase.h: In instantiation of 'class Eigen::DenseCoeffsBase<Eigen::SparseMatrix<double, 0, int>, 0>':
C:/Users/biocbuild/bbs-3.14-bioc/R/library/RcppEigen/include/Eigen/src/SparseCore/SparseCompressedBase.h:298:80:   required from 'struct Eigen::internal::evaluator<Eigen::SparseCompressedBase<Eigen::SparseMatrix<double, 0, int> > >'
C:/Users/biocbuild/bbs-3.14-bioc/R/library/RcppEigen/include/Eigen/src/SparseCore/SparseMatrix.h:1391:8:   required from 'struct Eigen::internal::evaluator<Eigen::SparseMatrix<double, 0, int> >'
C:/Users/biocbuild/bbs-3.14-bioc/R/library/RcppEigen/include/Eigen/src/SparseCore/SparseAssign.h:77:20:   required from 'void Eigen::internal::assign_sparse_to_sparse(DstXprType&, const SrcXprType&) [with DstXprType = Eigen::SparseMatrix<double, 0, int>; SrcXprType = Eigen::SparseMatrix<double, 0, int>]'
C:/Users/biocbuild/bbs-3.14-bioc/R/library/RcppEigen/include/Eigen/src/SparseCore/SparseAssign.h:132:28:   required from 'static void Eigen::internal::Assignment<DstXprType, SrcXprType, Functor, Eigen::internal::Sparse2Sparse>::run(DstXprType&, const SrcXprType&, const Eigen::internal::assign_op<typename DstXprType::Scalar, typename SrcXprType::Scalar>&) [with DstXprType = Eigen::SparseMatrix<double, 0, int>; SrcXprType = Eigen::SparseMatrix<double, 0, int>; Functor = Eigen::internal::assign_op<double, double>; typename SrcXprType::Scalar = double; typename DstXprType::Scalar = double]'
C:/Users/biocbuild/bbs-3.14-bioc/R/library/RcppEigen/include/Eigen/src/Core/AssignEvaluator.h:836:49:   required from 'void Eigen::internal::call_assignment_no_alias(Dst&, const Src&, const Func&) [with Dst = Eigen::SparseMatrix<double, 0, int>; Src = Eigen::SparseMatrix<double, 0, int>; Func = Eigen::internal::assign_op<double, double>]'
C:/Users/biocbuild/bbs-3.14-bioc/R/library/RcppEigen/include/Eigen/src/Core/AssignEvaluator.h:842:27:   required from 'void Eigen::internal::call_assignment_no_alias(Dst&, const Src&) [with Dst = Eigen::SparseMatrix<double, 0, int>; Src = Eigen::SparseMatrix<double, 0, int>]'
C:/Users/biocbuild/bbs-3.14-bioc/R/library/RcppEigen/include/Eigen/src/SparseCore/SparseAssign.h:45:37:   required from 'Derived& Eigen::SparseMatrixBase<Derived>::operator=(const Derived&) [with Derived = Eigen::SparseMatrix<double, 0, int>]'
C:/Users/biocbuild/bbs-3.14-bioc/R/library/RcppEigen/include/Eigen/src/SparseCore/SparseMatrix.h:774:26:   required from 'Eigen::SparseMatrix<_Scalar, _Flags, _StorageIndex>& Eigen::SparseMatrix<_Scalar, _Flags, _StorageIndex>::operator=(const Eigen::SparseMatrix<_Scalar, _Flags, _StorageIndex>&) [with _Scalar = double; int _Options = 0; _StorageIndex = int]'
C:/Users/biocbuild/bbs-3.14-bioc/R/library/RcppEigen/include/Eigen/src/SparseCore/SparseMatrix.h:709:13:   required from 'Eigen::SparseMatrix<_Scalar, _Flags, _StorageIndex>::SparseMatrix(const Eigen::SparseMatrix<_Scalar, _Flags, _StorageIndex>&) [with _Scalar = double; int _Options = 0; _StorageIndex = int]'
RcppExports.cpp:27:127:   required from here
C:/Users/biocbuild/bbs-3.14-bioc/R/library/RcppEigen/include/Eigen/src/Core/DenseCoeffsBase.h:55:30: warning: ignoring attributes on template argument 'Eigen::internal::packet_traits<double>::type' {aka '__vector(2) double'} [-Wignored-attributes]
C:/Users/biocbuild/bbs-3.14-bioc/R/library/RcppEigen/include/Eigen/src/Core/DenseCoeffsBase.h: In instantiation of 'class Eigen::DenseCoeffsBase<Eigen::Map<const Eigen::Matrix<int, -1, 1>, 0, Eigen::Stride<0, 0> >, 0>':
C:/Users/biocbuild/bbs-3.14-bioc/R/library/RcppEigen/include/Eigen/src/Core/DenseCoeffsBase.h:478:7:   required from 'class Eigen::DenseCoeffsBase<Eigen::Map<const Eigen::Matrix<int, -1, 1>, 0, Eigen::Stride<0, 0> >, 2>'
C:/Users/biocbuild/bbs-3.14-bioc/R/library/RcppEigen/include/Eigen/src/Core/DenseBase.h:41:34:   required from 'class Eigen::DenseBase<Eigen::Map<const Eigen::Matrix<int, -1, 1>, 0, Eigen::Stride<0, 0> > >'
C:/Users/biocbuild/bbs-3.14-bioc/R/library/RcppEigen/include/Eigen/src/Core/MatrixBase.h:48:34:   required from 'class Eigen::MatrixBase<Eigen::Map<const Eigen::Matrix<int, -1, 1>, 0, Eigen::Stride<0, 0> > >'
C:/Users/biocbuild/bbs-3.14-bioc/R/library/RcppEigen/include/Eigen/src/Core/MapBase.h:37:34:   required from 'class Eigen::MapBase<Eigen::Map<const Eigen::Matrix<int, -1, 1>, 0, Eigen::Stride<0, 0> >, 0>'
C:/Users/biocbuild/bbs-3.14-bioc/R/library/RcppEigen/include/Eigen/src/Core/Map.h:94:79:   required from 'class Eigen::Map<const Eigen::Matrix<int, -1, 1>, 0, Eigen::Stride<0, 0> >'
C:/Users/biocbuild/bbs-3.14-bioc/R/library/RcppEigen/include/Eigen/src/SparseCore/SparseCompressedBase.h:65:32:   [ skipping 3 instantiation contexts, use -ftemplate-backtrace-limit=0 to disable ]
C:/Users/biocbuild/bbs-3.14-bioc/R/library/RcppEigen/include/RcppEigenWrap.h:149:39:   required from 'SEXPREC* Rcpp::RcppEigen::eigen_wrap(const T&) [with T = Eigen::SparseMatrix<double, 0, int>; SEXP = SEXPREC*]'
C:/Users/biocbuild/bbs-3.14-bioc/R/library/Rcpp/include/Rcpp/internal/wrap.h:776:49:   required from 'SEXPREC* Rcpp::internal::wrap_dispatch_eigen(const T&, Rcpp::traits::true_type) [with T = Eigen::SparseMatrix<double, 0, int>; SEXP = SEXPREC*; Rcpp::traits::true_type = Rcpp::traits::integral_constant<bool, true>]'
C:/Users/biocbuild/bbs-3.14-bioc/R/library/Rcpp/include/Rcpp/internal/wrap.h:787:39:   required from 'SEXPREC* Rcpp::internal::wrap_dispatch_unknown_importable(const T&, Rcpp::traits::false_type) [with T = Eigen::SparseMatrix<double, 0, int>; SEXP = SEXPREC*; Rcpp::traits::false_type = Rcpp::traits::integral_constant<bool, false>]'
C:/Users/biocbuild/bbs-3.14-bioc/R/library/Rcpp/include/Rcpp/internal/wrap.h:807:52:   required from 'SEXPREC* Rcpp::internal::wrap_dispatch(const T&, Rcpp::traits::wrap_type_unknown_tag) [with T = Eigen::SparseMatrix<double, 0, int>; SEXP = SEXPREC*]'
C:/Users/biocbuild/bbs-3.14-bioc/R/library/Rcpp/include/Rcpp/internal/wrap_end.h:30:38:   required from 'SEXPREC* Rcpp::wrap(const T&) [with T = Eigen::SparseMatrix<double, 0, int>; SEXP = SEXPREC*]'
RcppExports.cpp:27:128:   required from here
C:/Users/biocbuild/bbs-3.14-bioc/R/library/RcppEigen/include/Eigen/src/Core/DenseCoeffsBase.h:55:30: warning: ignoring attributes on template argument 'Eigen::internal::packet_traits<int>::type' {aka '__vector(2) long long int'} [-Wignored-attributes]
C:/Users/biocbuild/bbs-3.14-bioc/R/library/RcppEigen/include/Eigen/src/Core/DenseCoeffsBase.h: In instantiation of 'Eigen::Index Eigen::internal::first_default_aligned(const Eigen::DenseBase<Derived>&) [with Derived = Eigen::Map<const Eigen::Matrix<int, -1, 1>, 0, Eigen::Stride<0, 0> >; Eigen::Index = long long int]':
C:/Users/biocbuild/bbs-3.14-bioc/R/library/RcppEigen/include/Eigen/src/Core/Redux.h:225:63:   required from 'static Eigen::internal::redux_impl<Func, Derived, 3, 0>::Scalar Eigen::internal::redux_impl<Func, Derived, 3, 0>::run(const Derived&, const Func&) [with Func = Eigen::internal::scalar_sum_op<int, int>; Derived = Eigen::internal::redux_evaluator<Eigen::Map<const Eigen::Matrix<int, -1, 1>, 0, Eigen::Stride<0, 0> > >; Eigen::internal::redux_impl<Func, Derived, 3, 0>::Scalar = int]'
C:/Users/biocbuild/bbs-3.14-bioc/R/library/RcppEigen/include/Eigen/src/Core/Redux.h:418:56:   required from 'typename Eigen::internal::traits<T>::Scalar Eigen::DenseBase<Derived>::redux(const Func&) const [with BinaryOp = Eigen::internal::scalar_sum_op<int, int>; Derived = Eigen::Map<const Eigen::Matrix<int, -1, 1>, 0, Eigen::Stride<0, 0> >; typename Eigen::internal::traits<T>::Scalar = int]'
C:/Users/biocbuild/bbs-3.14-bioc/R/library/RcppEigen/include/Eigen/src/Core/Redux.h:453:73:   required from 'typename Eigen::internal::traits<T>::Scalar Eigen::DenseBase<Derived>::sum() const [with Derived = Eigen::Map<const Eigen::Matrix<int, -1, 1>, 0, Eigen::Stride<0, 0> >; typename Eigen::internal::traits<T>::Scalar = int]'
C:/Users/biocbuild/bbs-3.14-bioc/R/library/RcppEigen/include/Eigen/src/SparseCore/SparseCompressedBase.h:65:36:   required from 'Eigen::Index Eigen::SparseCompressedBase<Derived>::nonZeros() const [with Derived = Eigen::SparseMatrix<double, 0, int>; Eigen::Index = long long int]'
C:/Users/biocbuild/bbs-3.14-bioc/R/library/RcppEigen/include/RcppEigenWrap.h:119:26:   [ skipping 2 instantiation contexts, use -ftemplate-backtrace-limit=0 to disable ]
C:/Users/biocbuild/bbs-3.14-bioc/R/library/RcppEigen/include/RcppEigenWrap.h:149:39:   required from 'SEXPREC* Rcpp::RcppEigen::eigen_wrap(const T&) [with T = Eigen::SparseMatrix<double, 0, int>; SEXP = SEXPREC*]'
C:/Users/biocbuild/bbs-3.14-bioc/R/library/Rcpp/include/Rcpp/internal/wrap.h:776:49:   required from 'SEXPREC* Rcpp::internal::wrap_dispatch_eigen(const T&, Rcpp::traits::true_type) [with T = Eigen::SparseMatrix<double, 0, int>; SEXP = SEXPREC*; Rcpp::traits::true_type = Rcpp::traits::integral_constant<bool, true>]'
C:/Users/biocbuild/bbs-3.14-bioc/R/library/Rcpp/include/Rcpp/internal/wrap.h:787:39:   required from 'SEXPREC* Rcpp::internal::wrap_dispatch_unknown_importable(const T&, Rcpp::traits::false_type) [with T = Eigen::SparseMatrix<double, 0, int>; SEXP = SEXPREC*; Rcpp::traits::false_type = Rcpp::traits::integral_constant<bool, false>]'
C:/Users/biocbuild/bbs-3.14-bioc/R/library/Rcpp/include/Rcpp/internal/wrap.h:807:52:   required from 'SEXPREC* Rcpp::internal::wrap_dispatch(const T&, Rcpp::traits::wrap_type_unknown_tag) [with T = Eigen::SparseMatrix<double, 0, int>; SEXP = SEXPREC*]'
C:/Users/biocbuild/bbs-3.14-bioc/R/library/Rcpp/include/Rcpp/internal/wrap_end.h:30:38:   required from 'SEXPREC* Rcpp::wrap(const T&) [with T = Eigen::SparseMatrix<double, 0, int>; SEXP = SEXPREC*]'
RcppExports.cpp:27:128:   required from here
C:/Users/biocbuild/bbs-3.14-bioc/R/library/RcppEigen/include/Eigen/src/Core/DenseCoeffsBase.h:650:34: warning: ignoring attributes on template argument 'Eigen::internal::packet_traits<int>::type' {aka '__vector(2) long long int'} [-Wignored-attributes]
   return internal::first_aligned<int(unpacket_traits<DefaultPacketType>::alignment),Derived>(m);
                                  ^~~~~~~~~~~~~~~~~~~~~~~~~~~~~~~~~~~~~~~~~~~~~~~~~~
"C:/rtools40/mingw64/bin/"g++  -std=gnu++11 -I"C:/Users/BIOCBU~1/BBS-3~1.14-/R/include" -DNDEBUG  -I'C:/Users/biocbuild/bbs-3.14-bioc/R/library/Rcpp/include' -I'C:/Users/biocbuild/bbs-3.14-bioc/R/library/RcppEigen/include' -I'C:/Users/biocbuild/bbs-3.14-bioc/R/library/grDevices/include'   -I"C:/extsoft/include"  -ggdb   -O2 -Wall  -mfpmath=sse -msse2 -mstackrealign  -c censoring.cpp -o censoring.o
In file included from C:/Users/biocbuild/bbs-3.14-bioc/R/library/RcppEigen/include/Eigen/Core:397,
                 from C:/Users/biocbuild/bbs-3.14-bioc/R/library/RcppEigen/include/Eigen/Dense:1,
                 from C:/Users/biocbuild/bbs-3.14-bioc/R/library/RcppEigen/include/RcppEigenForward.h:30,
                 from C:/Users/biocbuild/bbs-3.14-bioc/R/library/RcppEigen/include/RcppEigen.h:25,
                 from censoring.cpp:7:
C:/Users/biocbuild/bbs-3.14-bioc/R/library/RcppEigen/include/Eigen/src/Core/arch/SSE/PacketMath.h:60:39: warning: ignoring attributes on template argument '__m128' {aka '__vector(4) float'} [-Wignored-attributes]
 template<> struct is_arithmetic<__m128>  { enum { value = true }; };
                                       ^
C:/Users/biocbuild/bbs-3.14-bioc/R/library/RcppEigen/include/Eigen/src/Core/arch/SSE/PacketMath.h:61:40: warning: ignoring attributes on template argument '__m128i' {aka '__vector(2) long long int'} [-Wignored-attributes]
 template<> struct is_arithmetic<__m128i> { enum { value = true }; };
                                        ^
C:/Users/biocbuild/bbs-3.14-bioc/R/library/RcppEigen/include/Eigen/src/Core/arch/SSE/PacketMath.h:62:40: warning: ignoring attributes on template argument '__m128d' {aka '__vector(2) double'} [-Wignored-attributes]
 template<> struct is_arithmetic<__m128d> { enum { value = true }; };
                                        ^
C:/Users/biocbuild/bbs-3.14-bioc/R/library/RcppEigen/include/Eigen/src/Core/arch/SSE/PacketMath.h:161:43: warning: ignoring attributes on template argument 'Eigen::internal::Packet4f' {aka '__vector(4) float'} [-Wignored-attributes]
 template<> struct unpacket_traits<Packet4f> { typedef float  type; enum {size=4, alignment=Aligned16}; typedef Packet4f half; };
                                           ^
C:/Users/biocbuild/bbs-3.14-bioc/R/library/RcppEigen/include/Eigen/src/Core/arch/SSE/PacketMath.h:162:43: warning: ignoring attributes on template argument 'Eigen::internal::Packet2d' {aka '__vector(2) double'} [-Wignored-attributes]
 template<> struct unpacket_traits<Packet2d> { typedef double type; enum {size=2, alignment=Aligned16}; typedef Packet2d half; };
                                           ^
C:/Users/biocbuild/bbs-3.14-bioc/R/library/RcppEigen/include/Eigen/src/Core/arch/SSE/PacketMath.h:163:43: warning: ignoring attributes on template argument 'Eigen::internal::Packet4i' {aka '__vector(2) long long int'} [-Wignored-attributes]
 template<> struct unpacket_traits<Packet4i> { typedef int    type; enum {size=4, alignment=Aligned16}; typedef Packet4i half; };
                                           ^
C:/Users/biocbuild/bbs-3.14-bioc/R/library/RcppEigen/include/Eigen/src/Core/arch/SSE/PacketMath.h:718:35: warning: ignoring attributes on template argument 'Eigen::internal::Packet4f' {aka '__vector(4) float'} [-Wignored-attributes]
 struct palign_impl<Offset,Packet4f>
                                   ^
C:/Users/biocbuild/bbs-3.14-bioc/R/library/RcppEigen/include/Eigen/src/Core/arch/SSE/PacketMath.h:741:35: warning: ignoring attributes on template argument 'Eigen::internal::Packet4i' {aka '__vector(2) long long int'} [-Wignored-attributes]
 struct palign_impl<Offset,Packet4i>
                                   ^
C:/Users/biocbuild/bbs-3.14-bioc/R/library/RcppEigen/include/Eigen/src/Core/arch/SSE/PacketMath.h:764:35: warning: ignoring attributes on template argument 'Eigen::internal::Packet2d' {aka '__vector(2) double'} [-Wignored-attributes]
 struct palign_impl<Offset,Packet2d>
                                   ^
C:/Users/biocbuild/bbs-3.14-bioc/R/library/RcppEigen/include/Eigen/src/Core/arch/SSE/PacketMath.h:778:34: warning: ignoring attributes on template argument 'Eigen::internal::Packet4f' {aka '__vector(4) float'} [-Wignored-attributes]
 ptranspose(PacketBlock<Packet4f,4>& kernel) {
                                  ^
C:/Users/biocbuild/bbs-3.14-bioc/R/library/RcppEigen/include/Eigen/src/Core/arch/SSE/PacketMath.h:783:34: warning: ignoring attributes on template argument 'Eigen::internal::Packet2d' {aka '__vector(2) double'} [-Wignored-attributes]
 ptranspose(PacketBlock<Packet2d,2>& kernel) {
                                  ^
C:/Users/biocbuild/bbs-3.14-bioc/R/library/RcppEigen/include/Eigen/src/Core/arch/SSE/PacketMath.h:790:34: warning: ignoring attributes on template argument 'Eigen::internal::Packet4i' {aka '__vector(2) long long int'} [-Wignored-attributes]
 ptranspose(PacketBlock<Packet4i,4>& kernel) {
                                  ^
In file included from C:/Users/biocbuild/bbs-3.14-bioc/R/library/RcppEigen/include/Eigen/Core:377,
                 from C:/Users/biocbuild/bbs-3.14-bioc/R/library/RcppEigen/include/Eigen/Dense:1,
                 from C:/Users/biocbuild/bbs-3.14-bioc/R/library/RcppEigen/include/RcppEigenForward.h:30,
                 from C:/Users/biocbuild/bbs-3.14-bioc/R/library/RcppEigen/include/RcppEigen.h:25,
                 from censoring.cpp:7:
C:/Users/biocbuild/bbs-3.14-bioc/R/library/RcppEigen/include/Eigen/src/Core/arch/Default/ConjHelper.h:15:70: warning: ignoring attributes on template argument 'Eigen::internal::Packet4f' {aka '__vector(4) float'} [-Wignored-attributes]
   template<> struct conj_helper<PACKET_REAL, PACKET_CPLX, false,false> {                                          \
                                                                      ^
C:/Users/biocbuild/bbs-3.14-bioc/R/library/RcppEigen/include/Eigen/src/Core/arch/SSE/Complex.h:232:1: note: in expansion of macro 'EIGEN_MAKE_CONJ_HELPER_CPLX_REAL'
 EIGEN_MAKE_CONJ_HELPER_CPLX_REAL(Packet2cf,Packet4f)
 ^~~~~~~~~~~~~~~~~~~~~~~~~~~~~~~~
C:/Users/biocbuild/bbs-3.14-bioc/R/library/RcppEigen/include/Eigen/src/Core/arch/Default/ConjHelper.h:22:70: warning: ignoring attributes on template argument 'Eigen::internal::Packet4f' {aka '__vector(4) float'} [-Wignored-attributes]
   template<> struct conj_helper<PACKET_CPLX, PACKET_REAL, false,false> {                                          \
                                                                      ^
C:/Users/biocbuild/bbs-3.14-bioc/R/library/RcppEigen/include/Eigen/src/Core/arch/SSE/Complex.h:232:1: note: in expansion of macro 'EIGEN_MAKE_CONJ_HELPER_CPLX_REAL'
 EIGEN_MAKE_CONJ_HELPER_CPLX_REAL(Packet2cf,Packet4f)
 ^~~~~~~~~~~~~~~~~~~~~~~~~~~~~~~~
C:/Users/biocbuild/bbs-3.14-bioc/R/library/RcppEigen/include/Eigen/src/Core/arch/Default/ConjHelper.h:15:70: warning: ignoring attributes on template argument 'Eigen::internal::Packet2d' {aka '__vector(2) double'} [-Wignored-attributes]
   template<> struct conj_helper<PACKET_REAL, PACKET_CPLX, false,false> {                                          \
                                                                      ^
C:/Users/biocbuild/bbs-3.14-bioc/R/library/RcppEigen/include/Eigen/src/Core/arch/SSE/Complex.h:417:1: note: in expansion of macro 'EIGEN_MAKE_CONJ_HELPER_CPLX_REAL'
 EIGEN_MAKE_CONJ_HELPER_CPLX_REAL(Packet1cd,Packet2d)
 ^~~~~~~~~~~~~~~~~~~~~~~~~~~~~~~~
C:/Users/biocbuild/bbs-3.14-bioc/R/library/RcppEigen/include/Eigen/src/Core/arch/Default/ConjHelper.h:22:70: warning: ignoring attributes on template argument 'Eigen::internal::Packet2d' {aka '__vector(2) double'} [-Wignored-attributes]
   template<> struct conj_helper<PACKET_CPLX, PACKET_REAL, false,false> {                                          \
                                                                      ^
C:/Users/biocbuild/bbs-3.14-bioc/R/library/RcppEigen/include/Eigen/src/Core/arch/SSE/Complex.h:417:1: note: in expansion of macro 'EIGEN_MAKE_CONJ_HELPER_CPLX_REAL'
 EIGEN_MAKE_CONJ_HELPER_CPLX_REAL(Packet1cd,Packet2d)
 ^~~~~~~~~~~~~~~~~~~~~~~~~~~~~~~~
In file included from C:/Users/biocbuild/bbs-3.14-bioc/R/library/RcppEigen/include/Eigen/Core:370,
                 from C:/Users/biocbuild/bbs-3.14-bioc/R/library/RcppEigen/include/Eigen/Dense:1,
                 from C:/Users/biocbuild/bbs-3.14-bioc/R/library/RcppEigen/include/RcppEigenForward.h:30,
                 from C:/Users/biocbuild/bbs-3.14-bioc/R/library/RcppEigen/include/RcppEigen.h:25,
                 from censoring.cpp:7:
C:/Users/biocbuild/bbs-3.14-bioc/R/library/RcppEigen/include/Eigen/src/Core/util/XprHelper.h: In instantiation of 'struct Eigen::internal::find_best_packet<float, 4>':
C:/Users/biocbuild/bbs-3.14-bioc/R/library/RcppEigen/include/Eigen/src/Core/Matrix.h:22:57:   required from 'struct Eigen::internal::traits<Eigen::Matrix<float, 4, 1> >'
C:/Users/biocbuild/bbs-3.14-bioc/R/library/RcppEigen/include/Eigen/src/Geometry/Quaternion.h:242:7:   required from 'struct Eigen::internal::traits<Eigen::Quaternion<float> >'
C:/Users/biocbuild/bbs-3.14-bioc/R/library/RcppEigen/include/Eigen/src/Geometry/arch/Geometry_SSE.h:24:46:   required from here
C:/Users/biocbuild/bbs-3.14-bioc/R/library/RcppEigen/include/Eigen/src/Core/util/XprHelper.h:187:44: warning: ignoring attributes on template argument 'Eigen::internal::packet_traits<float>::type' {aka '__vector(4) float'} [-Wignored-attributes]
          bool Stop = Size==Dynamic || (Size%unpacket_traits<PacketType>::size)==0 || is_same<PacketType,typename unpacket_traits<PacketType>::half>::value>
                                       ~~~~~^~~~~~~~~~~~~~~~~~~~~~~~~~~~~~~~~~~
C:/Users/biocbuild/bbs-3.14-bioc/R/library/RcppEigen/include/Eigen/src/Core/util/XprHelper.h:187:83: warning: ignoring attributes on template argument 'Eigen::internal::packet_traits<float>::type' {aka '__vector(4) float'} [-Wignored-attributes]
          bool Stop = Size==Dynamic || (Size%unpacket_traits<PacketType>::size)==0 || is_same<PacketType,typename unpacket_traits<PacketType>::half>::value>
                      ~~~~~~~~~~~~~~~~~~~~~~~~~~~~~~~~~~~~~~~~~~~~~~~~~~~~~~~~~~~~~^~~~~~~~~~~~~~~~~~~~~~~~~~~~~~~~~~~~~~~~~~~~~~~~~~~~~~~~~~~~~~~~~
C:/Users/biocbuild/bbs-3.14-bioc/R/library/RcppEigen/include/Eigen/src/Core/util/XprHelper.h:187:83: warning: ignoring attributes on template argument 'Eigen::internal::packet_traits<float>::type' {aka '__vector(4) float'} [-Wignored-attributes]
C:/Users/biocbuild/bbs-3.14-bioc/R/library/RcppEigen/include/Eigen/src/Core/util/XprHelper.h:187:83: warning: ignoring attributes on template argument 'Eigen::internal::unpacket_traits<__vector(4) float>::half' {aka '__vector(4) float'} [-Wignored-attributes]
C:/Users/biocbuild/bbs-3.14-bioc/R/library/RcppEigen/include/Eigen/src/Core/util/XprHelper.h:205:88: warning: ignoring attributes on template argument 'Eigen::internal::packet_traits<float>::type' {aka '__vector(4) float'} [-Wignored-attributes]
   typedef typename find_best_packet_helper<Size,typename packet_traits<T>::type>::type type;
                                                                                        ^~~~
In file included from C:/Users/biocbuild/bbs-3.14-bioc/R/library/RcppEigen/include/Eigen/Core:439,
                 from C:/Users/biocbuild/bbs-3.14-bioc/R/library/RcppEigen/include/Eigen/Dense:1,
                 from C:/Users/biocbuild/bbs-3.14-bioc/R/library/RcppEigen/include/RcppEigenForward.h:30,
                 from C:/Users/biocbuild/bbs-3.14-bioc/R/library/RcppEigen/include/RcppEigen.h:25,
                 from censoring.cpp:7:
C:/Users/biocbuild/bbs-3.14-bioc/R/library/RcppEigen/include/Eigen/src/Core/DenseCoeffsBase.h: In instantiation of 'class Eigen::DenseCoeffsBase<Eigen::Matrix<float, 4, 1>, 0>':
C:/Users/biocbuild/bbs-3.14-bioc/R/library/RcppEigen/include/Eigen/src/Core/DenseCoeffsBase.h:300:7:   required from 'class Eigen::DenseCoeffsBase<Eigen::Matrix<float, 4, 1>, 1>'
C:/Users/biocbuild/bbs-3.14-bioc/R/library/RcppEigen/include/Eigen/src/Core/DenseCoeffsBase.h:551:7:   required from 'class Eigen::DenseCoeffsBase<Eigen::Matrix<float, 4, 1>, 3>'
C:/Users/biocbuild/bbs-3.14-bioc/R/library/RcppEigen/include/Eigen/src/Core/DenseBase.h:41:34:   required from 'class Eigen::DenseBase<Eigen::Matrix<float, 4, 1> >'
C:/Users/biocbuild/bbs-3.14-bioc/R/library/RcppEigen/include/Eigen/src/Core/MatrixBase.h:48:34:   required from 'class Eigen::MatrixBase<Eigen::Matrix<float, 4, 1> >'
C:/Users/biocbuild/bbs-3.14-bioc/R/library/RcppEigen/include/Eigen/src/Core/PlainObjectBase.h:98:7:   required from 'class Eigen::PlainObjectBase<Eigen::Matrix<float, 4, 1> >'
C:/Users/biocbuild/bbs-3.14-bioc/R/library/RcppEigen/include/Eigen/src/Core/Matrix.h:178:7:   required from 'class Eigen::Matrix<float, 4, 1>'
C:/Users/biocbuild/bbs-3.14-bioc/R/library/RcppEigen/include/Eigen/src/Geometry/Quaternion.h:46:50:   required from 'class Eigen::QuaternionBase<Eigen::Quaternion<float> >'
C:/Users/biocbuild/bbs-3.14-bioc/R/library/RcppEigen/include/Eigen/src/Geometry/Quaternion.h:250:7:   required from 'class Eigen::Quaternion<float>'
C:/Users/biocbuild/bbs-3.14-bioc/R/library/RcppEigen/include/Eigen/src/Geometry/arch/Geometry_SSE.h:27:3:   required from here
C:/Users/biocbuild/bbs-3.14-bioc/R/library/RcppEigen/include/Eigen/src/Core/DenseCoeffsBase.h:55:30: warning: ignoring attributes on template argument 'Eigen::internal::packet_traits<float>::type' {aka '__vector(4) float'} [-Wignored-attributes]
                      >::type PacketReturnType;
                              ^~~~~~~~~~~~~~~~
In file included from C:/Users/biocbuild/bbs-3.14-bioc/R/library/RcppEigen/include/Eigen/Core:370,
                 from C:/Users/biocbuild/bbs-3.14-bioc/R/library/RcppEigen/include/Eigen/Dense:1,
                 from C:/Users/biocbuild/bbs-3.14-bioc/R/library/RcppEigen/include/RcppEigenForward.h:30,
                 from C:/Users/biocbuild/bbs-3.14-bioc/R/library/RcppEigen/include/RcppEigen.h:25,
                 from censoring.cpp:7:
C:/Users/biocbuild/bbs-3.14-bioc/R/library/RcppEigen/include/Eigen/src/Core/util/XprHelper.h: In instantiation of 'struct Eigen::internal::find_best_packet<double, 4>':
C:/Users/biocbuild/bbs-3.14-bioc/R/library/RcppEigen/include/Eigen/src/Core/Matrix.h:22:57:   required from 'struct Eigen::internal::traits<Eigen::Matrix<double, 4, 1> >'
C:/Users/biocbuild/bbs-3.14-bioc/R/library/RcppEigen/include/Eigen/src/Geometry/Quaternion.h:242:7:   required from 'struct Eigen::internal::traits<Eigen::Quaternion<double> >'
C:/Users/biocbuild/bbs-3.14-bioc/R/library/RcppEigen/include/Eigen/src/Geometry/arch/Geometry_SSE.h:88:47:   required from here
C:/Users/biocbuild/bbs-3.14-bioc/R/library/RcppEigen/include/Eigen/src/Core/util/XprHelper.h:187:44: warning: ignoring attributes on template argument 'Eigen::internal::packet_traits<double>::type' {aka '__vector(2) double'} [-Wignored-attributes]
          bool Stop = Size==Dynamic || (Size%unpacket_traits<PacketType>::size)==0 || is_same<PacketType,typename unpacket_traits<PacketType>::half>::value>
                                       ~~~~~^~~~~~~~~~~~~~~~~~~~~~~~~~~~~~~~~~~
C:/Users/biocbuild/bbs-3.14-bioc/R/library/RcppEigen/include/Eigen/src/Core/util/XprHelper.h:187:83: warning: ignoring attributes on template argument 'Eigen::internal::packet_traits<double>::type' {aka '__vector(2) double'} [-Wignored-attributes]
          bool Stop = Size==Dynamic || (Size%unpacket_traits<PacketType>::size)==0 || is_same<PacketType,typename unpacket_traits<PacketType>::half>::value>
                      ~~~~~~~~~~~~~~~~~~~~~~~~~~~~~~~~~~~~~~~~~~~~~~~~~~~~~~~~~~~~~^~~~~~~~~~~~~~~~~~~~~~~~~~~~~~~~~~~~~~~~~~~~~~~~~~~~~~~~~~~~~~~~~
C:/Users/biocbuild/bbs-3.14-bioc/R/library/RcppEigen/include/Eigen/src/Core/util/XprHelper.h:187:83: warning: ignoring attributes on template argument 'Eigen::internal::packet_traits<double>::type' {aka '__vector(2) double'} [-Wignored-attributes]
C:/Users/biocbuild/bbs-3.14-bioc/R/library/RcppEigen/include/Eigen/src/Core/util/XprHelper.h:187:83: warning: ignoring attributes on template argument 'Eigen::internal::unpacket_traits<__vector(2) double>::half' {aka '__vector(2) double'} [-Wignored-attributes]
C:/Users/biocbuild/bbs-3.14-bioc/R/library/RcppEigen/include/Eigen/src/Core/util/XprHelper.h:205:88: warning: ignoring attributes on template argument 'Eigen::internal::packet_traits<double>::type' {aka '__vector(2) double'} [-Wignored-attributes]
   typedef typename find_best_packet_helper<Size,typename packet_traits<T>::type>::type type;
                                                                                        ^~~~
In file included from C:/Users/biocbuild/bbs-3.14-bioc/R/library/RcppEigen/include/Eigen/Core:439,
                 from C:/Users/biocbuild/bbs-3.14-bioc/R/library/RcppEigen/include/Eigen/Dense:1,
                 from C:/Users/biocbuild/bbs-3.14-bioc/R/library/RcppEigen/include/RcppEigenForward.h:30,
                 from C:/Users/biocbuild/bbs-3.14-bioc/R/library/RcppEigen/include/RcppEigen.h:25,
                 from censoring.cpp:7:
C:/Users/biocbuild/bbs-3.14-bioc/R/library/RcppEigen/include/Eigen/src/Core/DenseCoeffsBase.h: In instantiation of 'class Eigen::DenseCoeffsBase<Eigen::Matrix<double, 4, 1>, 0>':
C:/Users/biocbuild/bbs-3.14-bioc/R/library/RcppEigen/include/Eigen/src/Core/DenseCoeffsBase.h:300:7:   required from 'class Eigen::DenseCoeffsBase<Eigen::Matrix<double, 4, 1>, 1>'
C:/Users/biocbuild/bbs-3.14-bioc/R/library/RcppEigen/include/Eigen/src/Core/DenseCoeffsBase.h:551:7:   required from 'class Eigen::DenseCoeffsBase<Eigen::Matrix<double, 4, 1>, 3>'
C:/Users/biocbuild/bbs-3.14-bioc/R/library/RcppEigen/include/Eigen/src/Core/DenseBase.h:41:34:   required from 'class Eigen::DenseBase<Eigen::Matrix<double, 4, 1> >'
C:/Users/biocbuild/bbs-3.14-bioc/R/library/RcppEigen/include/Eigen/src/Core/MatrixBase.h:48:34:   required from 'class Eigen::MatrixBase<Eigen::Matrix<double, 4, 1> >'
C:/Users/biocbuild/bbs-3.14-bioc/R/library/RcppEigen/include/Eigen/src/Core/PlainObjectBase.h:98:7:   required from 'class Eigen::PlainObjectBase<Eigen::Matrix<double, 4, 1> >'
C:/Users/biocbuild/bbs-3.14-bioc/R/library/RcppEigen/include/Eigen/src/Core/Matrix.h:178:7:   required from 'class Eigen::Matrix<double, 4, 1>'
C:/Users/biocbuild/bbs-3.14-bioc/R/library/RcppEigen/include/Eigen/src/Geometry/Quaternion.h:46:50:   required from 'class Eigen::QuaternionBase<Eigen::Quaternion<double> >'
C:/Users/biocbuild/bbs-3.14-bioc/R/library/RcppEigen/include/Eigen/src/Geometry/Quaternion.h:250:7:   required from 'class Eigen::Quaternion<double>'
C:/Users/biocbuild/bbs-3.14-bioc/R/library/RcppEigen/include/Eigen/src/Geometry/arch/Geometry_SSE.h:92:3:   required from here
C:/Users/biocbuild/bbs-3.14-bioc/R/library/RcppEigen/include/Eigen/src/Core/DenseCoeffsBase.h:55:30: warning: ignoring attributes on template argument 'Eigen::internal::packet_traits<double>::type' {aka '__vector(2) double'} [-Wignored-attributes]
                      >::type PacketReturnType;
                              ^~~~~~~~~~~~~~~~
In file included from C:/Users/biocbuild/bbs-3.14-bioc/R/library/RcppEigen/include/Eigen/SparseCore:37,
                 from C:/Users/biocbuild/bbs-3.14-bioc/R/library/RcppEigen/include/Eigen/Sparse:26,
                 from C:/Users/biocbuild/bbs-3.14-bioc/R/library/RcppEigen/include/RcppEigenForward.h:31,
                 from C:/Users/biocbuild/bbs-3.14-bioc/R/library/RcppEigen/include/RcppEigen.h:25,
                 from censoring.cpp:7:
C:/Users/biocbuild/bbs-3.14-bioc/R/library/RcppEigen/include/Eigen/src/SparseCore/SparseMatrixBase.h: In instantiation of 'class Eigen::SparseMatrixBase<Eigen::SparseMatrix<double, 0, int> >':
C:/Users/biocbuild/bbs-3.14-bioc/R/library/RcppEigen/include/Eigen/src/SparseCore/SparseCompressedBase.h:36:7:   required from 'class Eigen::SparseCompressedBase<Eigen::SparseMatrix<double, 0, int> >'
C:/Users/biocbuild/bbs-3.14-bioc/R/library/RcppEigen/include/Eigen/src/SparseCore/SparseMatrix.h:96:7:   required from 'class Eigen::SparseMatrix<double, 0, int>'
C:/Users/biocbuild/bbs-3.14-bioc/R/library/RcppEigen/include/unsupported/Eigen/src/IterativeSolvers/ConstrainedConjGrad.h:61:25:   required from here
C:/Users/biocbuild/bbs-3.14-bioc/R/library/RcppEigen/include/Eigen/src/SparseCore/SparseMatrixBase.h:47:30: warning: ignoring attributes on template argument 'Eigen::internal::packet_traits<double>::type' {aka '__vector(2) double'} [-Wignored-attributes]
                      >::type PacketReturnType;
                              ^~~~~~~~~~~~~~~~
In file included from C:/Users/biocbuild/bbs-3.14-bioc/R/library/RcppEigen/include/Eigen/Core:370,
                 from C:/Users/biocbuild/bbs-3.14-bioc/R/library/RcppEigen/include/Eigen/Dense:1,
                 from C:/Users/biocbuild/bbs-3.14-bioc/R/library/RcppEigen/include/RcppEigenForward.h:30,
                 from C:/Users/biocbuild/bbs-3.14-bioc/R/library/RcppEigen/include/RcppEigen.h:25,
                 from censoring.cpp:7:
C:/Users/biocbuild/bbs-3.14-bioc/R/library/RcppEigen/include/Eigen/src/Core/util/XprHelper.h: In instantiation of 'struct Eigen::internal::find_best_packet<int, -1>':
C:/Users/biocbuild/bbs-3.14-bioc/R/library/RcppEigen/include/Eigen/src/Core/Matrix.h:22:57:   required from 'struct Eigen::internal::traits<Eigen::Matrix<int, -1, 1> >'
C:/Users/biocbuild/bbs-3.14-bioc/R/library/RcppEigen/include/Eigen/src/Core/PlainObjectBase.h:98:7:   required from 'class Eigen::PlainObjectBase<Eigen::Matrix<int, -1, 1> >'
C:/Users/biocbuild/bbs-3.14-bioc/R/library/RcppEigen/include/Eigen/src/Core/Matrix.h:178:7:   required from 'class Eigen::Matrix<int, -1, 1>'
C:/Users/biocbuild/bbs-3.14-bioc/R/library/RcppEigen/include/unsupported/Eigen/src/KroneckerProduct/KroneckerTensorProduct.h:168:29:   required from here
C:/Users/biocbuild/bbs-3.14-bioc/R/library/RcppEigen/include/Eigen/src/Core/util/XprHelper.h:187:44: warning: ignoring attributes on template argument 'Eigen::internal::packet_traits<int>::type' {aka '__vector(2) long long int'} [-Wignored-attributes]
          bool Stop = Size==Dynamic || (Size%unpacket_traits<PacketType>::size)==0 || is_same<PacketType,typename unpacket_traits<PacketType>::half>::value>
                                       ~~~~~^~~~~~~~~~~~~~~~~~~~~~~~~~~~~~~~~~~
C:/Users/biocbuild/bbs-3.14-bioc/R/library/RcppEigen/include/Eigen/src/Core/util/XprHelper.h:187:83: warning: ignoring attributes on template argument 'Eigen::internal::packet_traits<int>::type' {aka '__vector(2) long long int'} [-Wignored-attributes]
          bool Stop = Size==Dynamic || (Size%unpacket_traits<PacketType>::size)==0 || is_same<PacketType,typename unpacket_traits<PacketType>::half>::value>
                      ~~~~~~~~~~~~~~~~~~~~~~~~~~~~~~~~~~~~~~~~~~~~~~~~~~~~~~~~~~~~~^~~~~~~~~~~~~~~~~~~~~~~~~~~~~~~~~~~~~~~~~~~~~~~~~~~~~~~~~~~~~~~~~
C:/Users/biocbuild/bbs-3.14-bioc/R/library/RcppEigen/include/Eigen/src/Core/util/XprHelper.h:187:83: warning: ignoring attributes on template argument 'Eigen::internal::packet_traits<int>::type' {aka '__vector(2) long long int'} [-Wignored-attributes]
C:/Users/biocbuild/bbs-3.14-bioc/R/library/RcppEigen/include/Eigen/src/Core/util/XprHelper.h:187:83: warning: ignoring attributes on template argument 'Eigen::internal::unpacket_traits<__vector(2) long long int>::half' {aka '__vector(2) long long int'} [-Wignored-attributes]
C:/Users/biocbuild/bbs-3.14-bioc/R/library/RcppEigen/include/Eigen/src/Core/util/XprHelper.h:205:88: warning: ignoring attributes on template argument 'Eigen::internal::packet_traits<int>::type' {aka '__vector(2) long long int'} [-Wignored-attributes]
   typedef typename find_best_packet_helper<Size,typename packet_traits<T>::type>::type type;
                                                                                        ^~~~
In file included from C:/Users/biocbuild/bbs-3.14-bioc/R/library/RcppEigen/include/Eigen/Core:439,
                 from C:/Users/biocbuild/bbs-3.14-bioc/R/library/RcppEigen/include/Eigen/Dense:1,
                 from C:/Users/biocbuild/bbs-3.14-bioc/R/library/RcppEigen/include/RcppEigenForward.h:30,
                 from C:/Users/biocbuild/bbs-3.14-bioc/R/library/RcppEigen/include/RcppEigen.h:25,
                 from censoring.cpp:7:
C:/Users/biocbuild/bbs-3.14-bioc/R/library/RcppEigen/include/Eigen/src/Core/DenseCoeffsBase.h: In instantiation of 'class Eigen::DenseCoeffsBase<Eigen::Matrix<int, -1, 1>, 0>':
C:/Users/biocbuild/bbs-3.14-bioc/R/library/RcppEigen/include/Eigen/src/Core/DenseCoeffsBase.h:300:7:   required from 'class Eigen::DenseCoeffsBase<Eigen::Matrix<int, -1, 1>, 1>'
C:/Users/biocbuild/bbs-3.14-bioc/R/library/RcppEigen/include/Eigen/src/Core/DenseCoeffsBase.h:551:7:   required from 'class Eigen::DenseCoeffsBase<Eigen::Matrix<int, -1, 1>, 3>'
C:/Users/biocbuild/bbs-3.14-bioc/R/library/RcppEigen/include/Eigen/src/Core/DenseBase.h:41:34:   required from 'class Eigen::DenseBase<Eigen::Matrix<int, -1, 1> >'
C:/Users/biocbuild/bbs-3.14-bioc/R/library/RcppEigen/include/Eigen/src/Core/MatrixBase.h:48:34:   required from 'class Eigen::MatrixBase<Eigen::Matrix<int, -1, 1> >'
C:/Users/biocbuild/bbs-3.14-bioc/R/library/RcppEigen/include/Eigen/src/Core/PlainObjectBase.h:98:7:   required from 'class Eigen::PlainObjectBase<Eigen::Matrix<int, -1, 1> >'
C:/Users/biocbuild/bbs-3.14-bioc/R/library/RcppEigen/include/Eigen/src/Core/Matrix.h:178:7:   required from 'class Eigen::Matrix<int, -1, 1>'
C:/Users/biocbuild/bbs-3.14-bioc/R/library/RcppEigen/include/unsupported/Eigen/src/KroneckerProduct/KroneckerTensorProduct.h:168:29:   required from here
C:/Users/biocbuild/bbs-3.14-bioc/R/library/RcppEigen/include/Eigen/src/Core/DenseCoeffsBase.h:55:30: warning: ignoring attributes on template argument 'Eigen::internal::packet_traits<int>::type' {aka '__vector(2) long long int'} [-Wignored-attributes]
                      >::type PacketReturnType;
                              ^~~~~~~~~~~~~~~~
C:/Users/biocbuild/bbs-3.14-bioc/R/library/RcppEigen/include/Eigen/src/Core/DenseCoeffsBase.h: In instantiation of 'class Eigen::DenseCoeffsBase<Eigen::Transpose<Eigen::Matrix<int, -1, 1> >, 0>':
C:/Users/biocbuild/bbs-3.14-bioc/R/library/RcppEigen/include/Eigen/src/Core/DenseCoeffsBase.h:300:7:   required from 'class Eigen::DenseCoeffsBase<Eigen::Transpose<Eigen::Matrix<int, -1, 1> >, 1>'
C:/Users/biocbuild/bbs-3.14-bioc/R/library/RcppEigen/include/Eigen/src/Core/DenseCoeffsBase.h:551:7:   required from 'class Eigen::DenseCoeffsBase<Eigen::Transpose<Eigen::Matrix<int, -1, 1> >, 3>'
C:/Users/biocbuild/bbs-3.14-bioc/R/library/RcppEigen/include/Eigen/src/Core/DenseBase.h:41:34:   required from 'class Eigen::DenseBase<Eigen::Transpose<Eigen::Matrix<int, -1, 1> > >'
C:/Users/biocbuild/bbs-3.14-bioc/R/library/RcppEigen/include/Eigen/src/Core/MatrixBase.h:48:34:   required from 'class Eigen::MatrixBase<Eigen::Transpose<Eigen::Matrix<int, -1, 1> > >'
C:/Users/biocbuild/bbs-3.14-bioc/R/library/RcppEigen/include/Eigen/src/Core/Transpose.h:115:37:   required from 'class Eigen::TransposeImpl<Eigen::Matrix<int, -1, 1>, Eigen::Dense>'
C:/Users/biocbuild/bbs-3.14-bioc/R/library/RcppEigen/include/Eigen/src/Core/Transpose.h:52:37:   required from 'class Eigen::Transpose<Eigen::Matrix<int, -1, 1> >'
C:/Users/biocbuild/bbs-3.14-bioc/R/library/RcppEigen/include/unsupported/Eigen/src/KroneckerProduct/KroneckerTensorProduct.h:178:72:   required from here
C:/Users/biocbuild/bbs-3.14-bioc/R/library/RcppEigen/include/Eigen/src/Core/DenseCoeffsBase.h:55:30: warning: ignoring attributes on template argument 'Eigen::internal::packet_traits<int>::type' {aka '__vector(2) long long int'} [-Wignored-attributes]
C:/Users/biocbuild/bbs-3.14-bioc/R/library/RcppEigen/include/Eigen/src/Core/DenseCoeffsBase.h: In instantiation of 'class Eigen::DenseCoeffsBase<Eigen::Matrix<int, -1, -1>, 0>':
C:/Users/biocbuild/bbs-3.14-bioc/R/library/RcppEigen/include/Eigen/src/Core/DenseCoeffsBase.h:300:7:   required from 'class Eigen::DenseCoeffsBase<Eigen::Matrix<int, -1, -1>, 1>'
C:/Users/biocbuild/bbs-3.14-bioc/R/library/RcppEigen/include/Eigen/src/Core/DenseCoeffsBase.h:551:7:   required from 'class Eigen::DenseCoeffsBase<Eigen::Matrix<int, -1, -1>, 3>'
C:/Users/biocbuild/bbs-3.14-bioc/R/library/RcppEigen/include/Eigen/src/Core/DenseBase.h:41:34:   required from 'class Eigen::DenseBase<Eigen::Matrix<int, -1, -1> >'
C:/Users/biocbuild/bbs-3.14-bioc/R/library/RcppEigen/include/Eigen/src/Core/MatrixBase.h:48:34:   required from 'class Eigen::MatrixBase<Eigen::Matrix<int, -1, -1> >'
C:/Users/biocbuild/bbs-3.14-bioc/R/library/RcppEigen/include/Eigen/src/Core/PlainObjectBase.h:98:7:   required from 'class Eigen::PlainObjectBase<Eigen::Matrix<int, -1, -1> >'
C:/Users/biocbuild/bbs-3.14-bioc/R/library/RcppEigen/include/Eigen/src/Core/Matrix.h:178:7:   required from 'class Eigen::Matrix<int, -1, -1>'
C:/Users/biocbuild/bbs-3.14-bioc/R/library/RcppEigen/include/unsupported/Eigen/src/KroneckerProduct/KroneckerTensorProduct.h:179:36:   required from here
C:/Users/biocbuild/bbs-3.14-bioc/R/library/RcppEigen/include/Eigen/src/Core/DenseCoeffsBase.h:55:30: warning: ignoring attributes on template argument 'Eigen::internal::packet_traits<int>::type' {aka '__vector(2) long long int'} [-Wignored-attributes]
C:/Users/biocbuild/bbs-3.14-bioc/R/library/RcppEigen/include/Eigen/src/Core/DenseCoeffsBase.h: In instantiation of 'class Eigen::DenseCoeffsBase<Eigen::Map<const Eigen::Matrix<int, -1, 1>, 0, Eigen::Stride<0, 0> >, 0>':
C:/Users/biocbuild/bbs-3.14-bioc/R/library/RcppEigen/include/Eigen/src/Core/DenseCoeffsBase.h:478:7:   required from 'class Eigen::DenseCoeffsBase<Eigen::Map<const Eigen::Matrix<int, -1, 1>, 0, Eigen::Stride<0, 0> >, 2>'
C:/Users/biocbuild/bbs-3.14-bioc/R/library/RcppEigen/include/Eigen/src/Core/DenseBase.h:41:34:   required from 'class Eigen::DenseBase<Eigen::Map<const Eigen::Matrix<int, -1, 1>, 0, Eigen::Stride<0, 0> > >'
C:/Users/biocbuild/bbs-3.14-bioc/R/library/RcppEigen/include/Eigen/src/Core/MatrixBase.h:48:34:   required from 'class Eigen::MatrixBase<Eigen::Map<const Eigen::Matrix<int, -1, 1>, 0, Eigen::Stride<0, 0> > >'
C:/Users/biocbuild/bbs-3.14-bioc/R/library/RcppEigen/include/Eigen/src/Core/MapBase.h:37:34:   required from 'class Eigen::MapBase<Eigen::Map<const Eigen::Matrix<int, -1, 1>, 0, Eigen::Stride<0, 0> >, 0>'
C:/Users/biocbuild/bbs-3.14-bioc/R/library/RcppEigen/include/Eigen/src/Core/Map.h:94:79:   required from 'class Eigen::Map<const Eigen::Matrix<int, -1, 1>, 0, Eigen::Stride<0, 0> >'
C:/Users/biocbuild/bbs-3.14-bioc/R/library/RcppEigen/include/Eigen/src/SparseCore/SparseCompressedBase.h:65:32:   required from 'Eigen::Index Eigen::SparseCompressedBase<Derived>::nonZeros() const [with Derived = Eigen::SparseMatrix<double, 0, int>; Eigen::Index = long long int]'
C:/Users/biocbuild/bbs-3.14-bioc/R/library/RcppEigen/include/Eigen/src/SparseCore/SparseCompressedBase.h:163:21:   required from 'Eigen::SparseCompressedBase<Derived>::InnerIterator::InnerIterator(const Eigen::SparseCompressedBase<Derived>&, Eigen::Index) [with Derived = Eigen::SparseMatrix<double, 0, int>; Eigen::Index = long long int]'
censoring.cpp:116:46:   required from here
C:/Users/biocbuild/bbs-3.14-bioc/R/library/RcppEigen/include/Eigen/src/Core/DenseCoeffsBase.h:55:30: warning: ignoring attributes on template argument 'Eigen::internal::packet_traits<int>::type' {aka '__vector(2) long long int'} [-Wignored-attributes]
C:/Users/biocbuild/bbs-3.14-bioc/R/library/RcppEigen/include/Eigen/src/Core/DenseCoeffsBase.h: In instantiation of 'Eigen::Index Eigen::internal::first_default_aligned(const Eigen::DenseBase<Derived>&) [with Derived = Eigen::Map<const Eigen::Matrix<int, -1, 1>, 0, Eigen::Stride<0, 0> >; Eigen::Index = long long int]':
C:/Users/biocbuild/bbs-3.14-bioc/R/library/RcppEigen/include/Eigen/src/Core/Redux.h:225:63:   required from 'static Eigen::internal::redux_impl<Func, Derived, 3, 0>::Scalar Eigen::internal::redux_impl<Func, Derived, 3, 0>::run(const Derived&, const Func&) [with Func = Eigen::internal::scalar_sum_op<int, int>; Derived = Eigen::internal::redux_evaluator<Eigen::Map<const Eigen::Matrix<int, -1, 1>, 0, Eigen::Stride<0, 0> > >; Eigen::internal::redux_impl<Func, Derived, 3, 0>::Scalar = int]'
C:/Users/biocbuild/bbs-3.14-bioc/R/library/RcppEigen/include/Eigen/src/Core/Redux.h:418:56:   required from 'typename Eigen::internal::traits<T>::Scalar Eigen::DenseBase<Derived>::redux(const Func&) const [with BinaryOp = Eigen::internal::scalar_sum_op<int, int>; Derived = Eigen::Map<const Eigen::Matrix<int, -1, 1>, 0, Eigen::Stride<0, 0> >; typename Eigen::internal::traits<T>::Scalar = int]'
C:/Users/biocbuild/bbs-3.14-bioc/R/library/RcppEigen/include/Eigen/src/Core/Redux.h:453:73:   required from 'typename Eigen::internal::traits<T>::Scalar Eigen::DenseBase<Derived>::sum() const [with Derived = Eigen::Map<const Eigen::Matrix<int, -1, 1>, 0, Eigen::Stride<0, 0> >; typename Eigen::internal::traits<T>::Scalar = int]'
C:/Users/biocbuild/bbs-3.14-bioc/R/library/RcppEigen/include/Eigen/src/SparseCore/SparseCompressedBase.h:65:36:   required from 'Eigen::Index Eigen::SparseCompressedBase<Derived>::nonZeros() const [with Derived = Eigen::SparseMatrix<double, 0, int>; Eigen::Index = long long int]'
C:/Users/biocbuild/bbs-3.14-bioc/R/library/RcppEigen/include/Eigen/src/SparseCore/SparseCompressedBase.h:163:21:   required from 'Eigen::SparseCompressedBase<Derived>::InnerIterator::InnerIterator(const Eigen::SparseCompressedBase<Derived>&, Eigen::Index) [with Derived = Eigen::SparseMatrix<double, 0, int>; Eigen::Index = long long int]'
censoring.cpp:116:46:   required from here
C:/Users/biocbuild/bbs-3.14-bioc/R/library/RcppEigen/include/Eigen/src/Core/DenseCoeffsBase.h:650:34: warning: ignoring attributes on template argument 'Eigen::internal::packet_traits<int>::type' {aka '__vector(2) long long int'} [-Wignored-attributes]
   return internal::first_aligned<int(unpacket_traits<DefaultPacketType>::alignment),Derived>(m);
                                  ^~~~~~~~~~~~~~~~~~~~~~~~~~~~~~~~~~~~~~~~~~~~~~~~~~
C:/Users/biocbuild/bbs-3.14-bioc/R/library/RcppEigen/include/Eigen/src/Core/DenseCoeffsBase.h: In instantiation of 'class Eigen::DenseCoeffsBase<Eigen::SparseMatrix<double, 0, int>, 0>':
C:/Users/biocbuild/bbs-3.14-bioc/R/library/RcppEigen/include/Eigen/src/SparseCore/SparseCompressedBase.h:298:80:   required from 'struct Eigen::internal::evaluator<Eigen::SparseCompressedBase<Eigen::SparseMatrix<double, 0, int> > >'
C:/Users/biocbuild/bbs-3.14-bioc/R/library/RcppEigen/include/Eigen/src/SparseCore/SparseMatrix.h:1391:8:   required from 'struct Eigen::internal::evaluator<Eigen::SparseMatrix<double, 0, int> >'
C:/Users/biocbuild/bbs-3.14-bioc/R/library/RcppEigen/include/Eigen/src/SparseCore/SparseAssign.h:77:20:   required from 'void Eigen::internal::assign_sparse_to_sparse(DstXprType&, const SrcXprType&) [with DstXprType = Eigen::SparseMatrix<double, 0, int>; SrcXprType = Eigen::SparseMatrix<double, 0, int>]'
C:/Users/biocbuild/bbs-3.14-bioc/R/library/RcppEigen/include/Eigen/src/SparseCore/SparseAssign.h:132:28:   required from 'static void Eigen::internal::Assignment<DstXprType, SrcXprType, Functor, Eigen::internal::Sparse2Sparse>::run(DstXprType&, const SrcXprType&, const Eigen::internal::assign_op<typename DstXprType::Scalar, typename SrcXprType::Scalar>&) [with DstXprType = Eigen::SparseMatrix<double, 0, int>; SrcXprType = Eigen::SparseMatrix<double, 0, int>; Functor = Eigen::internal::assign_op<double, double>; typename SrcXprType::Scalar = double; typename DstXprType::Scalar = double]'
C:/Users/biocbuild/bbs-3.14-bioc/R/library/RcppEigen/include/Eigen/src/Core/AssignEvaluator.h:836:49:   required from 'void Eigen::internal::call_assignment_no_alias(Dst&, const Src&, const Func&) [with Dst = Eigen::SparseMatrix<double, 0, int>; Src = Eigen::SparseMatrix<double, 0, int>; Func = Eigen::internal::assign_op<double, double>]'
C:/Users/biocbuild/bbs-3.14-bioc/R/library/RcppEigen/include/Eigen/src/Core/AssignEvaluator.h:842:27:   required from 'void Eigen::internal::call_assignment_no_alias(Dst&, const Src&) [with Dst = Eigen::SparseMatrix<double, 0, int>; Src = Eigen::SparseMatrix<double, 0, int>]'
C:/Users/biocbuild/bbs-3.14-bioc/R/library/RcppEigen/include/Eigen/src/SparseCore/SparseAssign.h:45:37:   required from 'Derived& Eigen::SparseMatrixBase<Derived>::operator=(const Derived&) [with Derived = Eigen::SparseMatrix<double, 0, int>]'
C:/Users/biocbuild/bbs-3.14-bioc/R/library/RcppEigen/include/Eigen/src/SparseCore/SparseMatrix.h:774:26:   required from 'Eigen::SparseMatrix<_Scalar, _Flags, _StorageIndex>& Eigen::SparseMatrix<_Scalar, _Flags, _StorageIndex>::operator=(const Eigen::SparseMatrix<_Scalar, _Flags, _StorageIndex>&) [with _Scalar = double; int _Options = 0; _StorageIndex = int]'
C:/Users/biocbuild/bbs-3.14-bioc/R/library/RcppEigen/include/Eigen/src/SparseCore/SparseMatrix.h:709:13:   required from 'Eigen::SparseMatrix<_Scalar, _Flags, _StorageIndex>::SparseMatrix(const Eigen::SparseMatrix<_Scalar, _Flags, _StorageIndex>&) [with _Scalar = double; int _Options = 0; _StorageIndex = int]'
censoring.cpp:105:17:   required from here
C:/Users/biocbuild/bbs-3.14-bioc/R/library/RcppEigen/include/Eigen/src/Core/DenseCoeffsBase.h:55:30: warning: ignoring attributes on template argument 'Eigen::internal::packet_traits<double>::type' {aka '__vector(2) double'} [-Wignored-attributes]
                      >::type PacketReturnType;
                              ^~~~~~~~~~~~~~~~
"C:/rtools40/mingw64/bin/"g++  -std=gnu++11 -I"C:/Users/BIOCBU~1/BBS-3~1.14-/R/include" -DNDEBUG  -I'C:/Users/biocbuild/bbs-3.14-bioc/R/library/Rcpp/include' -I'C:/Users/biocbuild/bbs-3.14-bioc/R/library/RcppEigen/include' -I'C:/Users/biocbuild/bbs-3.14-bioc/R/library/grDevices/include'   -I"C:/extsoft/include"  -ggdb   -O2 -Wall  -mfpmath=sse -msse2 -mstackrealign  -c utils.cpp -o utils.o
C:/rtools40/mingw64/bin/g++ -shared -s -static-libgcc -o destiny.dll tmp.def RcppExports.o censoring.o utils.o -LC:/extsoft/lib/x64 -LC:/extsoft/lib -LC:/Users/BIOCBU~1/BBS-3~1.14-/R/bin/x64 -lR
installing to C:/Users/biocbuild/bbs-3.14-bioc/meat/destiny.buildbin-libdir/destiny/libs/x64
** testing if installed package can be loaded
* MD5 sums
packaged installation of 'destiny' as destiny_3.8.0.zip
* DONE (destiny)
* installing to library 'C:/Users/biocbuild/bbs-3.14-bioc/R/library'
package 'destiny' successfully unpacked and MD5 sums checked

Tests output

destiny.Rcheck/tests_i386/testthat.Rout


R version 4.1.2 (2021-11-01) -- "Bird Hippie"
Copyright (C) 2021 The R Foundation for Statistical Computing
Platform: i386-w64-mingw32/i386 (32-bit)

R is free software and comes with ABSOLUTELY NO WARRANTY.
You are welcome to redistribute it under certain conditions.
Type 'license()' or 'licence()' for distribution details.

R is a collaborative project with many contributors.
Type 'contributors()' for more information and
'citation()' on how to cite R or R packages in publications.

Type 'demo()' for some demos, 'help()' for on-line help, or
'help.start()' for an HTML browser interface to help.
Type 'q()' to quit R.

> library(testthat)
> library(destiny)
> 
> test_check('destiny')
[ FAIL 0 | WARN 0 | SKIP 1 | PASS 67 ]

== Skipped tests ===============================================================
* Not yet stable (1)

[ FAIL 0 | WARN 0 | SKIP 1 | PASS 67 ]
> 
> proc.time()
   user  system elapsed 
  13.23    1.84   15.07 

destiny.Rcheck/tests_x64/testthat.Rout


R version 4.1.2 (2021-11-01) -- "Bird Hippie"
Copyright (C) 2021 The R Foundation for Statistical Computing
Platform: x86_64-w64-mingw32/x64 (64-bit)

R is free software and comes with ABSOLUTELY NO WARRANTY.
You are welcome to redistribute it under certain conditions.
Type 'license()' or 'licence()' for distribution details.

R is a collaborative project with many contributors.
Type 'contributors()' for more information and
'citation()' on how to cite R or R packages in publications.

Type 'demo()' for some demos, 'help()' for on-line help, or
'help.start()' for an HTML browser interface to help.
Type 'q()' to quit R.

> library(testthat)
> library(destiny)
> 
> test_check('destiny')
[ FAIL 0 | WARN 0 | SKIP 1 | PASS 67 ]

== Skipped tests ===============================================================
* Not yet stable (1)

[ FAIL 0 | WARN 0 | SKIP 1 | PASS 67 ]
> 
> proc.time()
   user  system elapsed 
  17.28    2.25   19.53 

Example timings

destiny.Rcheck/examples_i386/destiny-Ex.timings

nameusersystemelapsed
DPT-matrix-methods2.090.272.36
DPT-methods1.240.081.31
DPT1.500.181.69
DiffusionMap-accessors0.550.100.64
DiffusionMap-class2.860.122.98
DiffusionMap-methods0.500.050.55
ExpressionSet-helpers0.080.000.08
Gene-Relevance-methods1.390.041.44
Gene-Relevance-plotting5.090.175.26
Gene-Relevance2.770.212.97
Sigmas-class0.210.010.24
coercions0.500.080.58
colorlegend0.020.000.01
cube_helix0.000.020.02
destiny-generics0.540.060.61
destiny12.10 0.3612.53
dm_predict0.510.050.57
eig_decomp000
extractions0.830.110.93
find_dm_k0.020.000.02
find_sigmas0.680.140.83
find_tips1.020.091.11
l_which000
plot.DPT1.640.121.76
plot.DiffusionMap0.500.210.71
plot.Sigmas0.230.030.26
projection_dist0.280.010.29
random_root0.490.110.60

destiny.Rcheck/examples_x64/destiny-Ex.timings

nameusersystemelapsed
DPT-matrix-methods1.780.121.90
DPT-methods1.850.101.94
DPT1.610.101.70
DiffusionMap-accessors0.570.010.59
DiffusionMap-class3.190.103.29
DiffusionMap-methods0.450.040.50
ExpressionSet-helpers0.110.000.10
Gene-Relevance-methods1.440.031.47
Gene-Relevance-plotting7.250.057.30
Gene-Relevance2.440.132.56
Sigmas-class0.220.040.27
coercions0.420.140.56
colorlegend0.010.000.02
cube_helix000
destiny-generics0.580.080.66
destiny11.86 0.3412.20
dm_predict0.500.040.53
eig_decomp000
extractions1.510.091.61
find_dm_k0.000.020.02
find_sigmas0.690.090.78
find_tips0.470.110.58
l_which000
plot.DPT1.710.061.78
plot.DiffusionMap0.750.140.89
plot.Sigmas0.350.030.38
projection_dist0.250.050.30
random_root1.120.061.18