Back to Multiple platform build/check report for BioC 3.14
ABC[D]EFGHIJKLMNOPQRSTUVWXYZ

This page was generated on 2021-11-26 15:05:47 -0500 (Fri, 26 Nov 2021).

CHECK results for deco on machv2

To the developers/maintainers of the deco package:
- Please allow up to 24 hours (and sometimes 48 hours) for your latest push to git@git.bioconductor.org:packages/deco.git to
reflect on this report. See How and When does the builder pull? When will my changes propagate? here for more information.
- Make sure to use the following settings in order to reproduce any error or warning you see on this page.

raw results

Package 462/2083HostnameOS / ArchINSTALLBUILDCHECKBUILD BIN
deco 1.10.0  (landing page)
Francisco Jose Campos Laborie
Snapshot Date: 2021-11-25 04:15:05 -0500 (Thu, 25 Nov 2021)
git_url: https://git.bioconductor.org/packages/deco
git_branch: RELEASE_3_14
git_last_commit: d18f24e
git_last_commit_date: 2021-10-26 12:48:44 -0500 (Tue, 26 Oct 2021)
nebbiolo2Linux (Ubuntu 20.04.3 LTS) / x86_64  OK    OK    OK  UNNEEDED, same version is already published
tokay2Windows Server 2012 R2 Standard / x64  OK    OK    OK    OK  UNNEEDED, same version is already published
machv2macOS 10.14.6 Mojave / x86_64  OK    OK    OK    OK  UNNEEDED, same version is already published

Summary

Package: deco
Version: 1.10.0
Command: /Library/Frameworks/R.framework/Resources/bin/R CMD check --install=check:deco.install-out.txt --library=/Library/Frameworks/R.framework/Resources/library --no-vignettes --timings deco_1.10.0.tar.gz
StartedAt: 2021-11-25 15:40:27 -0500 (Thu, 25 Nov 2021)
EndedAt: 2021-11-25 15:45:30 -0500 (Thu, 25 Nov 2021)
EllapsedTime: 303.1 seconds
RetCode: 0
Status:   OK  
CheckDir: deco.Rcheck
Warnings: 0

Command output

##############################################################################
##############################################################################
###
### Running command:
###
###   /Library/Frameworks/R.framework/Resources/bin/R CMD check --install=check:deco.install-out.txt --library=/Library/Frameworks/R.framework/Resources/library --no-vignettes --timings deco_1.10.0.tar.gz
###
##############################################################################
##############################################################################


* using log directory ‘/Users/biocbuild/bbs-3.14-bioc/meat/deco.Rcheck’
* using R version 4.1.2 (2021-11-01)
* using platform: x86_64-apple-darwin17.0 (64-bit)
* using session charset: UTF-8
* using option ‘--no-vignettes’
* checking for file ‘deco/DESCRIPTION’ ... OK
* checking extension type ... Package
* this is package ‘deco’ version ‘1.10.0’
* checking package namespace information ... OK
* checking package dependencies ... OK
* checking if this is a source package ... OK
* checking if there is a namespace ... OK
* checking for hidden files and directories ... OK
* checking for portable file names ... OK
* checking for sufficient/correct file permissions ... OK
* checking whether package ‘deco’ can be installed ... OK
* checking installed package size ... OK
* checking package directory ... OK
* checking ‘build’ directory ... OK
* checking DESCRIPTION meta-information ... OK
* checking top-level files ... OK
* checking for left-over files ... OK
* checking index information ... OK
* checking package subdirectories ... OK
* checking R files for non-ASCII characters ... OK
* checking R files for syntax errors ... OK
* checking whether the package can be loaded ... OK
* checking whether the package can be loaded with stated dependencies ... OK
* checking whether the package can be unloaded cleanly ... OK
* checking whether the namespace can be loaded with stated dependencies ... OK
* checking whether the namespace can be unloaded cleanly ... OK
* checking dependencies in R code ... NOTE
There are ::: calls to the package's namespace in its code. A package
  almost never needs to use ::: for its own objects:
  ‘.analysisType’ ‘.heatplot.2’
* checking S3 generic/method consistency ... OK
* checking replacement functions ... OK
* checking foreign function calls ... OK
* checking R code for possible problems ... NOTE
plotAssociationH: no visible binding for global variable ‘Subclasses’
plotAssociationH: no visible binding for global variable ‘h.statistic’
plotAssociationH: no visible binding for global variable ‘input.info’
plotAssociationH: no visible binding for global variable
  ‘DECO.subclasses’
plotAssociationH: no visible binding for global variable ‘Samples’
plotAssociationH: no visible binding for global variable ‘Features’
plotGainingH: no visible binding for global variable ‘omic.data’
plotGainingH: no visible binding for global variable ‘h.statistic’
plotGainingH: no visible binding for global variable ‘ranking’
Undefined global functions or variables:
  DECO.subclasses Features Samples Subclasses h.statistic input.info
  omic.data ranking
* checking Rd files ... OK
* checking Rd metadata ... OK
* checking Rd cross-references ... OK
* checking for missing documentation entries ... OK
* checking for code/documentation mismatches ... OK
* checking Rd \usage sections ... OK
* checking Rd contents ... OK
* checking for unstated dependencies in examples ... OK
* checking contents of ‘data’ directory ... OK
* checking data for non-ASCII characters ... OK
* checking data for ASCII and uncompressed saves ... OK
* checking files in ‘vignettes’ ... OK
* checking examples ... OK
* checking for unstated dependencies in vignettes ... OK
* checking package vignettes in ‘inst/doc’ ... OK
* checking running R code from vignettes ... SKIPPED
* checking re-building of vignette outputs ... SKIPPED
* checking PDF version of manual ... OK
* DONE

Status: 2 NOTEs
See
  ‘/Users/biocbuild/bbs-3.14-bioc/meat/deco.Rcheck/00check.log’
for details.



Installation output

deco.Rcheck/00install.out

##############################################################################
##############################################################################
###
### Running command:
###
###   /Library/Frameworks/R.framework/Resources/bin/R CMD INSTALL deco
###
##############################################################################
##############################################################################


* installing to library ‘/Library/Frameworks/R.framework/Versions/4.1/Resources/library’
* installing *source* package ‘deco’ ...
** using staged installation
** R
** data
** inst
** byte-compile and prepare package for lazy loading
** help
*** installing help indices
** building package indices
** installing vignettes
** testing if installed package can be loaded from temporary location
** testing if installed package can be loaded from final location
** testing if installed package keeps a record of temporary installation path
* DONE (deco)

Tests output


Example timings

deco.Rcheck/deco-Ex.timings

nameusersystemelapsed
ALCLdata0.4070.0160.423
AnnotateDECO0.2130.0060.219
NSCAcluster1.4001.8073.274
deco-class0.0020.0010.003
deco-package1.0080.0161.025
decoNSCA0.8380.0160.853
decoRDA0.2400.0070.246
decoReport0.2010.0070.208
featureTable0.2090.0070.217
plotAssociationH3.7730.1143.890
plotDECOProfile0.1920.0050.198
plotGainingH1.9380.1132.131
plotHeatmapH0.2330.0070.241