Back to Multiple platform build/check report for BioC 3.14
ABC[D]EFGHIJKLMNOPQRSTUVWXYZ

This page was generated on 2021-12-01 17:18:15 -0500 (Wed, 01 Dec 2021).

BUILD results for debCAM on machv2

To the developers/maintainers of the debCAM package:
- Please allow up to 24 hours (and sometimes 48 hours) for your latest push to git@git.bioconductor.org:packages/debCAM.git to
reflect on this report. See How and When does the builder pull? When will my changes propagate? here for more information.
- Make sure to use the following settings in order to reproduce any error or warning you see on this page.

raw results

Package 459/2083HostnameOS / ArchINSTALLBUILDCHECKBUILD BIN
debCAM 1.12.0  (landing page)
Lulu Chen
Snapshot Date: 2021-11-30 04:15:05 -0500 (Tue, 30 Nov 2021)
git_url: https://git.bioconductor.org/packages/debCAM
git_branch: RELEASE_3_14
git_last_commit: 66667aa
git_last_commit_date: 2021-10-26 12:54:13 -0500 (Tue, 26 Oct 2021)
nebbiolo2Linux (Ubuntu 20.04.3 LTS) / x86_64  OK    OK    OK  UNNEEDED, same version is already published
tokay2Windows Server 2012 R2 Standard / x64  OK    OK    OK    OK  UNNEEDED, same version is already published
machv2macOS 10.14.6 Mojave / x86_64  OK    OK    OK    OK  UNNEEDED, same version is already published

Summary

Package: debCAM
Version: 1.12.0
Command: /Library/Frameworks/R.framework/Resources/bin/R CMD build --keep-empty-dirs --no-resave-data debCAM
StartedAt: 2021-11-30 08:41:12 -0500 (Tue, 30 Nov 2021)
EndedAt: 2021-11-30 08:50:22 -0500 (Tue, 30 Nov 2021)
EllapsedTime: 550.3 seconds
RetCode: 0
Status:   OK  
PackageFile: debCAM_1.12.0.tar.gz
PackageFileSize: 3.679 MiB

Command output

##############################################################################
##############################################################################
###
### Running command:
###
###   /Library/Frameworks/R.framework/Resources/bin/R CMD build --keep-empty-dirs --no-resave-data debCAM
###
##############################################################################
##############################################################################


* checking for file ‘debCAM/DESCRIPTION’ ... OK
* preparing ‘debCAM’:
* checking DESCRIPTION meta-information ... OK
* installing the package to build vignettes
* creating vignettes ... OK
* checking for LF line-endings in source and make files and shell scripts
* checking for empty or unneeded directories
* looking to see if a ‘data/datalist’ file should be added
* building ‘debCAM_1.12.0.tar.gz’