Back to Multiple platform build/check report for BioC 3.14
ABC[D]EFGHIJKLMNOPQRSTUVWXYZ

This page was generated on 2021-12-01 17:17:23 -0500 (Wed, 01 Dec 2021).

INSTALL results for ddCt on nebbiolo2

To the developers/maintainers of the ddCt package:
- Please allow up to 24 hours (and sometimes 48 hours) for your latest push to git@git.bioconductor.org:packages/ddCt.git to
reflect on this report. See How and When does the builder pull? When will my changes propagate? here for more information.
- Make sure to use the following settings in order to reproduce any error or warning you see on this page.

raw results

Package 456/2083HostnameOS / ArchINSTALLBUILDCHECKBUILD BIN
ddCt 1.50.0  (landing page)
Jitao David Zhang
Snapshot Date: 2021-11-30 04:15:05 -0500 (Tue, 30 Nov 2021)
git_url: https://git.bioconductor.org/packages/ddCt
git_branch: RELEASE_3_14
git_last_commit: 5bd9712
git_last_commit_date: 2021-10-26 11:54:15 -0500 (Tue, 26 Oct 2021)
nebbiolo2Linux (Ubuntu 20.04.3 LTS) / x86_64  OK    OK    OK  UNNEEDED, same version is already published
tokay2Windows Server 2012 R2 Standard / x64  OK    OK    OK    OK  UNNEEDED, same version is already published
machv2macOS 10.14.6 Mojave / x86_64  OK    OK    OK    OK  UNNEEDED, same version is already published

Summary

Package: ddCt
Version: 1.50.0
Command: /home/biocbuild/bbs-3.14-bioc/R/bin/R CMD INSTALL ddCt
StartedAt: 2021-11-30 05:07:39 -0500 (Tue, 30 Nov 2021)
EndedAt: 2021-11-30 05:07:44 -0500 (Tue, 30 Nov 2021)
EllapsedTime: 5.2 seconds
RetCode: 0
Status:   OK  

Command output

##############################################################################
##############################################################################
###
### Running command:
###
###   /home/biocbuild/bbs-3.14-bioc/R/bin/R CMD INSTALL ddCt
###
##############################################################################
##############################################################################


* installing to library ‘/home/biocbuild/bbs-3.14-bioc/R/library’
* installing *source* package ‘ddCt’ ...
** using staged installation
** R
** inst
** byte-compile and prepare package for lazy loading
** help
*** installing help indices
** building package indices
** installing vignettes
** testing if installed package can be loaded from temporary location
** testing if installed package can be loaded from final location
** testing if installed package keeps a record of temporary installation path
* DONE (ddCt)