Back to Multiple platform build/check report for BioC 3.14
ABC[D]EFGHIJKLMNOPQRSTUVWXYZ

This page was generated on 2022-01-26 13:06:26 -0500 (Wed, 26 Jan 2022).

HostnameOSArch (*)R versionInstalled pkgs
nebbiolo2Linux (Ubuntu 20.04.4 LTS)x86_644.1.2 (2021-11-01) -- "Bird Hippie" 4329
tokay2Windows Server 2012 R2 Standardx644.1.2 (2021-11-01) -- "Bird Hippie" 4080
machv2macOS 10.14.6 Mojavex86_644.1.2 (2021-11-01) -- "Bird Hippie" 4141
Click on any hostname to see more info about the system (e.g. compilers)      (*) as reported by 'uname -p', except on Windows and Mac OS X

INSTALL results for dasper on tokay2


To the developers/maintainers of the dasper package:
- Please allow up to 24 hours (and sometimes 48 hours) for your latest push to git@git.bioconductor.org:packages/dasper.git to
reflect on this report. See How and When does the builder pull? When will my changes propagate? here for more information.
- Make sure to use the following settings in order to reproduce any error or warning you see on this page.

raw results

Package 452/2083HostnameOS / ArchINSTALLBUILDCHECKBUILD BIN
dasper 1.4.1  (landing page)
David Zhang
Snapshot Date: 2022-01-25 01:55:07 -0500 (Tue, 25 Jan 2022)
git_url: https://git.bioconductor.org/packages/dasper
git_branch: RELEASE_3_14
git_last_commit: b012447
git_last_commit_date: 2022-01-10 17:32:01 -0500 (Mon, 10 Jan 2022)
nebbiolo2Linux (Ubuntu 20.04.4 LTS) / x86_64  OK    OK    OK  UNNEEDED, same version is already published
tokay2Windows Server 2012 R2 Standard / x64  OK    OK    ERROR    OK  
machv2macOS 10.14.6 Mojave / x86_64  OK    OK    OK    OK  UNNEEDED, same version is already published

Summary

Package: dasper
Version: 1.4.1
Command: C:\cygwin\bin\curl.exe -O http://155.52.207.166/BBS/3.14/bioc/src/contrib/dasper_1.4.1.tar.gz && rm -rf dasper.buildbin-libdir && mkdir dasper.buildbin-libdir && C:\Users\biocbuild\bbs-3.14-bioc\R\bin\R.exe CMD INSTALL --merge-multiarch --build --library=dasper.buildbin-libdir dasper_1.4.1.tar.gz && C:\Users\biocbuild\bbs-3.14-bioc\R\bin\R.exe CMD INSTALL dasper_1.4.1.zip && rm dasper_1.4.1.tar.gz dasper_1.4.1.zip
StartedAt: 2022-01-25 07:33:46 -0500 (Tue, 25 Jan 2022)
EndedAt: 2022-01-25 07:34:45 -0500 (Tue, 25 Jan 2022)
EllapsedTime: 58.8 seconds
RetCode: 0
Status:   OK  

Command output

##############################################################################
##############################################################################
###
### Running command:
###
###   C:\cygwin\bin\curl.exe -O http://155.52.207.166/BBS/3.14/bioc/src/contrib/dasper_1.4.1.tar.gz && rm -rf dasper.buildbin-libdir && mkdir dasper.buildbin-libdir && C:\Users\biocbuild\bbs-3.14-bioc\R\bin\R.exe CMD INSTALL --merge-multiarch --build --library=dasper.buildbin-libdir dasper_1.4.1.tar.gz && C:\Users\biocbuild\bbs-3.14-bioc\R\bin\R.exe CMD INSTALL dasper_1.4.1.zip && rm dasper_1.4.1.tar.gz dasper_1.4.1.zip
###
##############################################################################
##############################################################################


  % Total    % Received % Xferd  Average Speed   Time    Time     Time  Current
                                 Dload  Upload   Total   Spent    Left  Speed

  0     0    0     0    0     0      0      0 --:--:-- --:--:-- --:--:--     0
100 1023k  100 1023k    0     0  2483k      0 --:--:-- --:--:-- --:--:-- 2491k

install for i386

* installing *source* package 'dasper' ...
** using non-staged installation via StagedInstall field
** R
** data
*** moving datasets to lazyload DB
** inst
** byte-compile and prepare package for lazy loading
** help
*** installing help indices
  converting help for package 'dasper'
    finding HTML links ... done
    coverage_process                        html  
    dasper                                  html  
    deprecated                              html  
    junction_load                           html  
    junction_process                        html  
    junctions_example                       html  
    finding level-2 HTML links ... done

    outlier_process                         html  
    plot_sashimi                            html  
    ref_load                                html  
** building package indices
** installing vignettes
** testing if installed package can be loaded

install for x64

* installing *source* package 'dasper' ...
** using non-staged installation via StagedInstall field
** testing if installed package can be loaded
* MD5 sums
packaged installation of 'dasper' as dasper_1.4.1.zip
* DONE (dasper)
* installing to library 'C:/Users/biocbuild/bbs-3.14-bioc/R/library'
package 'dasper' successfully unpacked and MD5 sums checked