Back to Multiple platform build/check report for BioC 3.14
ABC[D]EFGHIJKLMNOPQRSTUVWXYZ

This page was generated on 2021-11-26 15:04:49 -0500 (Fri, 26 Nov 2021).

BUILD results for dasper on nebbiolo2

To the developers/maintainers of the dasper package:
- Please allow up to 24 hours (and sometimes 48 hours) for your latest push to git@git.bioconductor.org:packages/dasper.git to
reflect on this report. See How and When does the builder pull? When will my changes propagate? here for more information.
- Make sure to use the following settings in order to reproduce any error or warning you see on this page.

raw results

Package 452/2083HostnameOS / ArchINSTALLBUILDCHECKBUILD BIN
dasper 1.4.0  (landing page)
David Zhang
Snapshot Date: 2021-11-25 04:15:05 -0500 (Thu, 25 Nov 2021)
git_url: https://git.bioconductor.org/packages/dasper
git_branch: RELEASE_3_14
git_last_commit: 0ef46a4
git_last_commit_date: 2021-10-26 13:04:45 -0500 (Tue, 26 Oct 2021)
nebbiolo2Linux (Ubuntu 20.04.3 LTS) / x86_64  OK    OK    ERROR  
tokay2Windows Server 2012 R2 Standard / x64  OK    OK    ERROR    OK  
machv2macOS 10.14.6 Mojave / x86_64  OK    OK    ERROR    OK  

Summary

Package: dasper
Version: 1.4.0
Command: /home/biocbuild/bbs-3.14-bioc/R/bin/R CMD build --keep-empty-dirs --no-resave-data dasper
StartedAt: 2021-11-25 06:21:02 -0500 (Thu, 25 Nov 2021)
EndedAt: 2021-11-25 06:23:39 -0500 (Thu, 25 Nov 2021)
EllapsedTime: 156.2 seconds
RetCode: 0
Status:   OK  
PackageFile: dasper_1.4.0.tar.gz
PackageFileSize: 1.838 MiB

Command output

##############################################################################
##############################################################################
###
### Running command:
###
###   /home/biocbuild/bbs-3.14-bioc/R/bin/R CMD build --keep-empty-dirs --no-resave-data dasper
###
##############################################################################
##############################################################################


* checking for file ‘dasper/DESCRIPTION’ ... OK
* preparing ‘dasper’:
* checking DESCRIPTION meta-information ... OK
* installing the package to build vignettes
* creating vignettes ... OK
* checking for LF line-endings in source and make files and shell scripts
* checking for empty or unneeded directories
* building ‘dasper_1.4.0.tar.gz’