Back to Multiple platform build/check report for BioC 3.14
ABC[D]EFGHIJKLMNOPQRSTUVWXYZ

This page was generated on 2021-11-29 15:05:51 -0500 (Mon, 29 Nov 2021).

BUILD BIN results for dasper on machv2

To the developers/maintainers of the dasper package:
- Please allow up to 24 hours (and sometimes 48 hours) for your latest push to git@git.bioconductor.org:packages/dasper.git to
reflect on this report. See How and When does the builder pull? When will my changes propagate? here for more information.
- Make sure to use the following settings in order to reproduce any error or warning you see on this page.

raw results

Package 452/2083HostnameOS / ArchINSTALLBUILDCHECKBUILD BIN
dasper 1.4.0  (landing page)
David Zhang
Snapshot Date: 2021-11-28 04:15:06 -0500 (Sun, 28 Nov 2021)
git_url: https://git.bioconductor.org/packages/dasper
git_branch: RELEASE_3_14
git_last_commit: 0ef46a4
git_last_commit_date: 2021-10-26 13:04:45 -0500 (Tue, 26 Oct 2021)
nebbiolo2Linux (Ubuntu 20.04.3 LTS) / x86_64  OK    OK    ERROR  
tokay2Windows Server 2012 R2 Standard / x64  OK    OK    ERROR    OK  
machv2macOS 10.14.6 Mojave / x86_64  OK    OK    ERROR    OK  

Summary

Package: dasper
Version: 1.4.0
Command: rm -rf dasper.buildbin-libdir && mkdir dasper.buildbin-libdir && /Users/biocbuild/BBS/utils/build-universal.sh dasper_1.4.0.tar.gz /Library/Frameworks/R.framework/Resources/bin/R dasper.buildbin-libdir
StartedAt: 2021-11-28 23:39:35 -0500 (Sun, 28 Nov 2021)
EndedAt: 2021-11-28 23:40:27 -0500 (Sun, 28 Nov 2021)
EllapsedTime: 52.2 seconds
RetCode: 0
Status:   OK  
PackageFile: dasper_1.4.0.tgz
PackageFileSize: 1.694 MiB

Command output

##############################################################################
##############################################################################
###
### Running command:
###
###   rm -rf dasper.buildbin-libdir && mkdir dasper.buildbin-libdir && /Users/biocbuild/BBS/utils/build-universal.sh dasper_1.4.0.tar.gz /Library/Frameworks/R.framework/Resources/bin/R dasper.buildbin-libdir
###
##############################################################################
##############################################################################


>>>>>>> 
>>>>>>> INSTALLATION WITH 'R CMD INSTALL --preclean --no-multiarch --library=dasper.buildbin-libdir dasper_1.4.0.tar.gz'
>>>>>>> 

* installing *source* package ‘dasper’ ...
** using non-staged installation via StagedInstall field
** R
** data
*** moving datasets to lazyload DB
** inst
** byte-compile and prepare package for lazy loading
** help
*** installing help indices
** building package indices
** installing vignettes
** testing if installed package can be loaded
* DONE (dasper)