Back to Multiple platform build/check report for BioC 3.14
AB[C]DEFGHIJKLMNOPQRSTUVWXYZ

This page was generated on 2021-11-24 15:04:30 -0500 (Wed, 24 Nov 2021).

All results for package cytomapper

To the developers/maintainers of the cytomapper package:
- Please allow up to 24 hours (and sometimes 48 hours) for your latest push to git@git.bioconductor.org:packages/cytomapper.git to
reflect on this report. See How and When does the builder pull? When will my changes propagate? here for more information.
- Make sure to use the following settings in order to reproduce any error or warning you see on this page.

raw results

Package 442/2083HostnameOS / ArchINSTALLBUILDCHECKBUILD BIN
cytomapper 1.6.0  (landing page)
Nils Eling
Snapshot Date: 2021-11-23 04:15:06 -0500 (Tue, 23 Nov 2021)
git_url: https://git.bioconductor.org/packages/cytomapper
git_branch: RELEASE_3_14
git_last_commit: 72e006f
git_last_commit_date: 2021-10-26 12:58:24 -0500 (Tue, 26 Oct 2021)
nebbiolo2Linux (Ubuntu 20.04.3 LTS) / x86_64  OK    OK    ERROR  
tokay2Windows Server 2012 R2 Standard / x64  OK    OK    ERROR    OK  
machv2macOS 10.14.6 Mojave / x86_64  OK    OK    ERROR    OK  

Results for Bioconductor software packages that depend directly on package cytomapper

QUICK STATSOS / ArchINSTALLBUILDCHECKBUILD BIN
nebbiolo2Linux (Ubuntu 20.04.3 LTS) / x86_64
001
001
0100
tokay2Windows Server 2012 R2 Standard / x64
001
001
0100
001
machv2macOS 10.14.6 Mojave / x86_64
001
001
0100
001
Package 1/1HostnameOS / ArchINSTALLBUILDCHECKBUILD BIN
imcRtools 1.0.0  (landing page)
Nils Eling
git_last_commit: 18662ff
git_last_commit_date: 2021-10-26 13:12:45 -0500
nebbiolo2Linux (Ubuntu 20.04.3 LTS) / x86_64  OK    OK    ERROR  
tokay2Windows Server 2012 R2 Standard / x64  OK    OK    ERROR    OK  
machv2macOS 10.14.6 Mojave / x86_64  OK    OK    ERROR    OK