Back to Multiple platform build/check report for BioC 3.14
AB[C]DEFGHIJKLMNOPQRSTUVWXYZ

This page was generated on 2022-01-26 13:06:26 -0500 (Wed, 26 Jan 2022).

HostnameOSArch (*)R versionInstalled pkgs
nebbiolo2Linux (Ubuntu 20.04.4 LTS)x86_644.1.2 (2021-11-01) -- "Bird Hippie" 4329
tokay2Windows Server 2012 R2 Standardx644.1.2 (2021-11-01) -- "Bird Hippie" 4080
machv2macOS 10.14.6 Mojavex86_644.1.2 (2021-11-01) -- "Bird Hippie" 4141
Click on any hostname to see more info about the system (e.g. compilers)      (*) as reported by 'uname -p', except on Windows and Mac OS X

BUILD BIN results for cytoKernel on tokay2


To the developers/maintainers of the cytoKernel package:
- Please allow up to 24 hours (and sometimes 48 hours) for your latest push to git@git.bioconductor.org:packages/cytoKernel.git to
reflect on this report. See How and When does the builder pull? When will my changes propagate? here for more information.
- Make sure to use the following settings in order to reproduce any error or warning you see on this page.

raw results

Package 440/2083HostnameOS / ArchINSTALLBUILDCHECKBUILD BIN
cytoKernel 1.0.0  (landing page)
Tusharkanti Ghosh
Snapshot Date: 2022-01-25 01:55:07 -0500 (Tue, 25 Jan 2022)
git_url: https://git.bioconductor.org/packages/cytoKernel
git_branch: RELEASE_3_14
git_last_commit: 44dfcc3
git_last_commit_date: 2021-10-26 13:12:39 -0500 (Tue, 26 Oct 2021)
nebbiolo2Linux (Ubuntu 20.04.4 LTS) / x86_64  OK    OK    OK  UNNEEDED, same version is already published
tokay2Windows Server 2012 R2 Standard / x64  OK    OK    OK    OK  UNNEEDED, same version is already published
machv2macOS 10.14.6 Mojave / x86_64  OK    OK    OK    OK  UNNEEDED, same version is already published

Summary

Package: cytoKernel
Version: 1.0.0
Command: rm -rf cytoKernel.buildbin-libdir && mkdir cytoKernel.buildbin-libdir && C:\Users\biocbuild\bbs-3.14-bioc\R\bin\R.exe CMD INSTALL --merge-multiarch --build --library=cytoKernel.buildbin-libdir cytoKernel_1.0.0.tar.gz
StartedAt: 2022-01-26 05:53:40 -0500 (Wed, 26 Jan 2022)
EndedAt: 2022-01-26 05:54:55 -0500 (Wed, 26 Jan 2022)
EllapsedTime: 75.3 seconds
RetCode: 0
Status:   OK  
PackageFile: cytoKernel_1.0.0.zip
PackageFileSize: 1.414 MiB

Command output

##############################################################################
##############################################################################
###
### Running command:
###
###   rm -rf cytoKernel.buildbin-libdir && mkdir cytoKernel.buildbin-libdir && C:\Users\biocbuild\bbs-3.14-bioc\R\bin\R.exe CMD INSTALL --merge-multiarch --build --library=cytoKernel.buildbin-libdir cytoKernel_1.0.0.tar.gz
###
##############################################################################
##############################################################################



install for i386

* installing *source* package 'cytoKernel' ...
** using staged installation
** libs
"C:/rtools40/mingw32/bin/"g++ -std=gnu++11  -I"C:/Users/BIOCBU~1/BBS-3~1.14-/R/include" -DNDEBUG  -I'C:/Users/biocbuild/bbs-3.14-bioc/R/library/Rcpp/include'   -I"C:/extsoft/include"     -O2 -Wall  -mfpmath=sse -msse2 -mstackrealign  -c RcppExports.cpp -o RcppExports.o
"C:/rtools40/mingw32/bin/"g++ -std=gnu++11  -I"C:/Users/BIOCBU~1/BBS-3~1.14-/R/include" -DNDEBUG  -I'C:/Users/biocbuild/bbs-3.14-bioc/R/library/Rcpp/include'   -I"C:/extsoft/include"     -O2 -Wall  -mfpmath=sse -msse2 -mstackrealign  -c cytoKernelUtility.cpp -o cytoKernelUtility.o
C:/rtools40/mingw32/bin/g++ -std=gnu++11 -shared -s -static-libgcc -o cytoKernel.dll tmp.def RcppExports.o cytoKernelUtility.o -LC:/extsoft/lib/i386 -LC:/extsoft/lib -LC:/Users/BIOCBU~1/BBS-3~1.14-/R/bin/i386 -lR
installing to C:/Users/biocbuild/bbs-3.14-bioc/meat/cytoKernel.buildbin-libdir/00LOCK-cytoKernel/00new/cytoKernel/libs/i386
** R
** data
** inst
** byte-compile and prepare package for lazy loading
** help
*** installing help indices
  converting help for package 'cytoKernel'
    finding HTML links ... done
    CytoK-class                             html  
    CytoK                                   html  
    CytoKDEData                             html  
    CytoKDEfeatures                         html  
    CytoKData                               html  
    CytoKFeatureVars                        html  
    CytoKFeatures                           html  
    CytoKFeaturesOrdered                    html  
    CytoKProc                               html  
    CytoKalpha                              html  
    cytoHDBMW                               html  
    data.frameORSummarizedExperiment-class
                                            html  
    plotCytoK                               html  
    vectorORNull-class                      html  
** building package indices
** installing vignettes
** testing if installed package can be loaded from temporary location
** testing if installed package can be loaded from final location
** testing if installed package keeps a record of temporary installation path

install for x64

* installing *source* package 'cytoKernel' ...
** libs
"C:/rtools40/mingw64/bin/"g++ -std=gnu++11  -I"C:/Users/BIOCBU~1/BBS-3~1.14-/R/include" -DNDEBUG  -I'C:/Users/biocbuild/bbs-3.14-bioc/R/library/Rcpp/include'   -I"C:/extsoft/include"     -O2 -Wall  -mfpmath=sse -msse2 -mstackrealign  -c RcppExports.cpp -o RcppExports.o
"C:/rtools40/mingw64/bin/"g++ -std=gnu++11  -I"C:/Users/BIOCBU~1/BBS-3~1.14-/R/include" -DNDEBUG  -I'C:/Users/biocbuild/bbs-3.14-bioc/R/library/Rcpp/include'   -I"C:/extsoft/include"     -O2 -Wall  -mfpmath=sse -msse2 -mstackrealign  -c cytoKernelUtility.cpp -o cytoKernelUtility.o
C:/rtools40/mingw64/bin/g++ -std=gnu++11 -shared -s -static-libgcc -o cytoKernel.dll tmp.def RcppExports.o cytoKernelUtility.o -LC:/extsoft/lib/x64 -LC:/extsoft/lib -LC:/Users/BIOCBU~1/BBS-3~1.14-/R/bin/x64 -lR
installing to C:/Users/biocbuild/bbs-3.14-bioc/meat/cytoKernel.buildbin-libdir/cytoKernel/libs/x64
** testing if installed package can be loaded
* MD5 sums
packaged installation of 'cytoKernel' as cytoKernel_1.0.0.zip
* DONE (cytoKernel)