Back to Multiple platform build/check report for BioC 3.14
AB[C]DEFGHIJKLMNOPQRSTUVWXYZ

This page was generated on 2021-12-01 17:18:15 -0500 (Wed, 01 Dec 2021).

INSTALL results for cycle on machv2

To the developers/maintainers of the cycle package:
- Please allow up to 24 hours (and sometimes 48 hours) for your latest push to git@git.bioconductor.org:packages/cycle.git to
reflect on this report. See How and When does the builder pull? When will my changes propagate? here for more information.
- Make sure to use the following settings in order to reproduce any error or warning you see on this page.

raw results

Package 435/2083HostnameOS / ArchINSTALLBUILDCHECKBUILD BIN
cycle 1.48.0  (landing page)
Matthias Futschik
Snapshot Date: 2021-11-30 04:15:05 -0500 (Tue, 30 Nov 2021)
git_url: https://git.bioconductor.org/packages/cycle
git_branch: RELEASE_3_14
git_last_commit: 4d654cf
git_last_commit_date: 2021-10-26 11:54:44 -0500 (Tue, 26 Oct 2021)
nebbiolo2Linux (Ubuntu 20.04.3 LTS) / x86_64  OK    OK    OK  UNNEEDED, same version is already published
tokay2Windows Server 2012 R2 Standard / x64  OK    OK    OK    OK  UNNEEDED, same version is already published
machv2macOS 10.14.6 Mojave / x86_64  OK    OK    OK    OK  UNNEEDED, same version is already published

Summary

Package: cycle
Version: 1.48.0
Command: /Library/Frameworks/R.framework/Resources/bin/R CMD INSTALL cycle
StartedAt: 2021-11-30 05:36:43 -0500 (Tue, 30 Nov 2021)
EndedAt: 2021-11-30 05:37:31 -0500 (Tue, 30 Nov 2021)
EllapsedTime: 48.5 seconds
RetCode: 0
Status:   OK  

Command output

##############################################################################
##############################################################################
###
### Running command:
###
###   /Library/Frameworks/R.framework/Resources/bin/R CMD INSTALL cycle
###
##############################################################################
##############################################################################


* installing to library ‘/Library/Frameworks/R.framework/Versions/4.1/Resources/library’
* installing *source* package ‘cycle’ ...
** using staged installation
** R
** inst
** byte-compile and prepare package for lazy loading
** help
*** installing help indices
** building package indices
** installing vignettes
** testing if installed package can be loaded from temporary location
** testing if installed package can be loaded from final location
** testing if installed package keeps a record of temporary installation path
* DONE (cycle)