Back to Multiple platform build/check report for BioC 3.14
AB[C]DEFGHIJKLMNOPQRSTUVWXYZ

This page was generated on 2022-01-19 13:06:26 -0500 (Wed, 19 Jan 2022).

HostnameOSArch (*)R versionInstalled pkgs
nebbiolo2Linux (Ubuntu 20.04.4 LTS)x86_644.1.2 (2021-11-01) -- "Bird Hippie" 4328
tokay2Windows Server 2012 R2 Standardx644.1.2 (2021-11-01) -- "Bird Hippie" 4077
machv2macOS 10.14.6 Mojavex86_644.1.2 (2021-11-01) -- "Bird Hippie" 4138
Click on any hostname to see more info about the system (e.g. compilers)      (*) as reported by 'uname -p', except on Windows and Mac OS X

BUILD BIN results for cyanoFilter on tokay2


To the developers/maintainers of the cyanoFilter package:
- Please allow up to 24 hours (and sometimes 48 hours) for your latest push to git@git.bioconductor.org:packages/cyanoFilter.git to
reflect on this report. See How and When does the builder pull? When will my changes propagate? here for more information.
- Make sure to use the following settings in order to reproduce any error or warning you see on this page.

raw results

Package 434/2083HostnameOS / ArchINSTALLBUILDCHECKBUILD BIN
cyanoFilter 1.2.0  (landing page)
Oluwafemi Olusoji
Snapshot Date: 2022-01-18 01:55:07 -0500 (Tue, 18 Jan 2022)
git_url: https://git.bioconductor.org/packages/cyanoFilter
git_branch: RELEASE_3_14
git_last_commit: f126547
git_last_commit_date: 2021-10-26 13:08:29 -0500 (Tue, 26 Oct 2021)
nebbiolo2Linux (Ubuntu 20.04.4 LTS) / x86_64  OK    OK    OK  UNNEEDED, same version is already published
tokay2Windows Server 2012 R2 Standard / x64  OK    OK    OK    OK  UNNEEDED, same version is already published
machv2macOS 10.14.6 Mojave / x86_64  OK    OK    OK    OK  UNNEEDED, same version is already published

Summary

Package: cyanoFilter
Version: 1.2.0
Command: rm -rf cyanoFilter.buildbin-libdir && mkdir cyanoFilter.buildbin-libdir && C:\Users\biocbuild\bbs-3.14-bioc\R\bin\R.exe CMD INSTALL --merge-multiarch --build --library=cyanoFilter.buildbin-libdir cyanoFilter_1.2.0.tar.gz
StartedAt: 2022-01-19 05:37:29 -0500 (Wed, 19 Jan 2022)
EndedAt: 2022-01-19 05:37:50 -0500 (Wed, 19 Jan 2022)
EllapsedTime: 20.1 seconds
RetCode: 0
Status:   OK  
PackageFile: cyanoFilter_1.2.0.zip
PackageFileSize: 1.881 MiB

Command output

##############################################################################
##############################################################################
###
### Running command:
###
###   rm -rf cyanoFilter.buildbin-libdir && mkdir cyanoFilter.buildbin-libdir && C:\Users\biocbuild\bbs-3.14-bioc\R\bin\R.exe CMD INSTALL --merge-multiarch --build --library=cyanoFilter.buildbin-libdir cyanoFilter_1.2.0.tar.gz
###
##############################################################################
##############################################################################



install for i386

* installing *source* package 'cyanoFilter' ...
** using staged installation
** R
** inst
** byte-compile and prepare package for lazy loading
** help
*** installing help indices
  converting help for package 'cyanoFilter'
    finding HTML links ... done
    DebrisFilter                            html  
    MarginEvents                            html  
    PhytoFilter                             html  
    PhytopFilter                            html  
    accTest                                 html  
    accuracy                                html  
    cellmargin                              html  
    clusterExtract                          html  
    clusterExtractp                         html  
    cyanoFilter                             html  
    debrisNc                                html  
    fullFlowframe-DebrisFilter-method       html  
    fullFlowframe-MarginEvents-method       html  
    fullFlowframe-PhytopFilter-method       html  
    fullFlowframe                           html  
    gateFunc                                html  
    getChannel                              html  
    ggpairsDens                             html  
    ggplotDens                              html  
    ggplotDens2                             html  
    goodfcs                                 html  
    is.DebrisFilter                         html  
    is.MarginEvents                         html  
    is.PhytopFilter                         html  
    is.flowFrame                            html  
    is.flowSet                              html  
    lnTrans                                 html  
    newFlowframe                            html  
    nona                                    html  
    noneg                                   html  
    oneDgate                                html  
    pairsPlot                               html  
    pigmentGate                             html  
    plot-DebrisFilter-ANY-method            html  
    plot-MarginEvents-ANY-method            html  
    plot-PhytopFilter-ANY-method            html  
    reducedFlowframe-DebrisFilter-method    html  
    reducedFlowframe-MarginEvents-method    html  
    reducedFlowframe-PhytopFilter-method    html  
    reducedFlowframe                        html  
    retain                                  html  
    rowNumbers                              html  
    summaries-DebrisFilter-method           html  
    summaries-MarginEvents-method           html  
    summaries-PhytopFilter-method           html  
    summaries                               html  
** building package indices
** installing vignettes
** testing if installed package can be loaded from temporary location
** testing if installed package can be loaded from final location
** testing if installed package keeps a record of temporary installation path

install for x64

* installing *source* package 'cyanoFilter' ...
** testing if installed package can be loaded
* MD5 sums
packaged installation of 'cyanoFilter' as cyanoFilter_1.2.0.zip
* DONE (cyanoFilter)