Back to Multiple platform build/check report for BioC 3.14
AB[C]DEFGHIJKLMNOPQRSTUVWXYZ

This page was generated on 2022-01-21 13:06:11 -0500 (Fri, 21 Jan 2022).

HostnameOSArch (*)R versionInstalled pkgs
nebbiolo2Linux (Ubuntu 20.04.4 LTS)x86_644.1.2 (2021-11-01) -- "Bird Hippie" 4329
tokay2Windows Server 2012 R2 Standardx644.1.2 (2021-11-01) -- "Bird Hippie" 4079
machv2macOS 10.14.6 Mojavex86_644.1.2 (2021-11-01) -- "Bird Hippie" 4140
Click on any hostname to see more info about the system (e.g. compilers)      (*) as reported by 'uname -p', except on Windows and Mac OS X

INSTALL results for customProDB on tokay2


To the developers/maintainers of the customProDB package:
- Please allow up to 24 hours (and sometimes 48 hours) for your latest push to git@git.bioconductor.org:packages/customProDB.git to
reflect on this report. See How and When does the builder pull? When will my changes propagate? here for more information.
- Make sure to use the following settings in order to reproduce any error or warning you see on this page.

raw results

Package 433/2083HostnameOS / ArchINSTALLBUILDCHECKBUILD BIN
customProDB 1.34.0  (landing page)
Xiaojing Wang
Snapshot Date: 2022-01-20 01:55:04 -0500 (Thu, 20 Jan 2022)
git_url: https://git.bioconductor.org/packages/customProDB
git_branch: RELEASE_3_14
git_last_commit: cb59382
git_last_commit_date: 2021-12-02 17:48:00 -0500 (Thu, 02 Dec 2021)
nebbiolo2Linux (Ubuntu 20.04.4 LTS) / x86_64  OK    OK    OK  UNNEEDED, same version is already published
tokay2Windows Server 2012 R2 Standard / x64  OK    OK    OK    OK  UNNEEDED, same version is already published
machv2macOS 10.14.6 Mojave / x86_64  OK    OK    OK    OK  UNNEEDED, same version is already published

Summary

Package: customProDB
Version: 1.34.0
Command: C:\cygwin\bin\curl.exe -O http://155.52.207.166/BBS/3.14/bioc/src/contrib/customProDB_1.34.0.tar.gz && rm -rf customProDB.buildbin-libdir && mkdir customProDB.buildbin-libdir && C:\Users\biocbuild\bbs-3.14-bioc\R\bin\R.exe CMD INSTALL --merge-multiarch --build --library=customProDB.buildbin-libdir customProDB_1.34.0.tar.gz && C:\Users\biocbuild\bbs-3.14-bioc\R\bin\R.exe CMD INSTALL customProDB_1.34.0.zip && rm customProDB_1.34.0.tar.gz customProDB_1.34.0.zip
StartedAt: 2022-01-20 06:49:42 -0500 (Thu, 20 Jan 2022)
EndedAt: 2022-01-20 06:51:46 -0500 (Thu, 20 Jan 2022)
EllapsedTime: 124.6 seconds
RetCode: 0
Status:   OK  

Command output

##############################################################################
##############################################################################
###
### Running command:
###
###   C:\cygwin\bin\curl.exe -O http://155.52.207.166/BBS/3.14/bioc/src/contrib/customProDB_1.34.0.tar.gz && rm -rf customProDB.buildbin-libdir && mkdir customProDB.buildbin-libdir && C:\Users\biocbuild\bbs-3.14-bioc\R\bin\R.exe CMD INSTALL --merge-multiarch --build --library=customProDB.buildbin-libdir customProDB_1.34.0.tar.gz && C:\Users\biocbuild\bbs-3.14-bioc\R\bin\R.exe CMD INSTALL customProDB_1.34.0.zip && rm customProDB_1.34.0.tar.gz customProDB_1.34.0.zip
###
##############################################################################
##############################################################################


  % Total    % Received % Xferd  Average Speed   Time    Time     Time  Current
                                 Dload  Upload   Total   Spent    Left  Speed

  0     0    0     0    0     0      0      0 --:--:-- --:--:-- --:--:--     0
  0     0    0     0    0     0      0      0 --:--:-- --:--:-- --:--:--     0
100  436k  100  436k    0     0  1457k      0 --:--:-- --:--:-- --:--:-- 1458k

install for i386

* installing *source* package 'customProDB' ...
** using staged installation
** R
** inst
** byte-compile and prepare package for lazy loading
** help
*** installing help indices
  converting help for package 'customProDB'
    finding HTML links ... done
    Bed2Range                               html  
    InputVcf                                html  
    JunctionType                            html  
    Multiple_VCF                            html  
    OutputNovelJun                          html  
    OutputVarprocodingseq                   html  
    OutputVarproseq                         html  
    OutputVarproseq_single                  html  
    Outputaberrant                          html  
    Outputproseq                            html  
    OutputsharedPro                         html  
    Positionincoding                        html  
    PrepareAnnotationEnsembl                html  
    PrepareAnnotationRefseq                 html  
    SharedJunc                              html  
    Varlocation                             html  
    aaVariation                             html  
    calculateRPKM                           html  
    easyRun                                 html  
    easyRun_mul                             html  
** building package indices
** installing vignettes
** testing if installed package can be loaded from temporary location
** testing if installed package can be loaded from final location
** testing if installed package keeps a record of temporary installation path

install for x64

* installing *source* package 'customProDB' ...
** testing if installed package can be loaded
* MD5 sums
packaged installation of 'customProDB' as customProDB_1.34.0.zip
* DONE (customProDB)
* installing to library 'C:/Users/biocbuild/bbs-3.14-bioc/R/library'
package 'customProDB' successfully unpacked and MD5 sums checked