Back to Multiple platform build/check report for BioC 3.14
AB[C]DEFGHIJKLMNOPQRSTUVWXYZ

This page was generated on 2021-12-01 17:18:15 -0500 (Wed, 01 Dec 2021).

BUILD BIN results for ctgGEM on machv2

To the developers/maintainers of the ctgGEM package:
- Please allow up to 24 hours (and sometimes 48 hours) for your latest push to git@git.bioconductor.org:packages/ctgGEM.git to
reflect on this report. See How and When does the builder pull? When will my changes propagate? here for more information.
- Make sure to use the following settings in order to reproduce any error or warning you see on this page.

raw results

Package 428/2083HostnameOS / ArchINSTALLBUILDCHECKBUILD BIN
ctgGEM 1.6.0  (landing page)
USD Biomedical Engineering
Snapshot Date: 2021-11-30 04:15:05 -0500 (Tue, 30 Nov 2021)
git_url: https://git.bioconductor.org/packages/ctgGEM
git_branch: RELEASE_3_14
git_last_commit: 619fedc
git_last_commit_date: 2021-10-26 12:57:27 -0500 (Tue, 26 Oct 2021)
nebbiolo2Linux (Ubuntu 20.04.3 LTS) / x86_64  OK    OK    OK  UNNEEDED, same version is already published
tokay2Windows Server 2012 R2 Standard / x64  OK    OK    OK    OK  UNNEEDED, same version is already published
machv2macOS 10.14.6 Mojave / x86_64  OK    OK    OK    OK  UNNEEDED, same version is already published

Summary

Package: ctgGEM
Version: 1.6.0
Command: rm -rf ctgGEM.buildbin-libdir && mkdir ctgGEM.buildbin-libdir && /Users/biocbuild/BBS/utils/build-universal.sh ctgGEM_1.6.0.tar.gz /Library/Frameworks/R.framework/Resources/bin/R ctgGEM.buildbin-libdir
StartedAt: 2021-11-30 23:48:41 -0500 (Tue, 30 Nov 2021)
EndedAt: 2021-11-30 23:49:49 -0500 (Tue, 30 Nov 2021)
EllapsedTime: 68.6 seconds
RetCode: 0
Status:   OK  
PackageFile: ctgGEM_1.6.0.tgz
PackageFileSize: 1.752 MiB

Command output

##############################################################################
##############################################################################
###
### Running command:
###
###   rm -rf ctgGEM.buildbin-libdir && mkdir ctgGEM.buildbin-libdir && /Users/biocbuild/BBS/utils/build-universal.sh ctgGEM_1.6.0.tar.gz /Library/Frameworks/R.framework/Resources/bin/R ctgGEM.buildbin-libdir
###
##############################################################################
##############################################################################


>>>>>>> 
>>>>>>> INSTALLATION WITH 'R CMD INSTALL --preclean --no-multiarch --library=ctgGEM.buildbin-libdir ctgGEM_1.6.0.tar.gz'
>>>>>>> 

* installing *source* package ‘ctgGEM’ ...
** using staged installation
** R
** inst
** byte-compile and prepare package for lazy loading
** help
*** installing help indices
** building package indices
** installing vignettes
** testing if installed package can be loaded from temporary location
** testing if installed package can be loaded from final location
** testing if installed package keeps a record of temporary installation path
* DONE (ctgGEM)