Back to Multiple platform build/check report for BioC 3.14
AB[C]DEFGHIJKLMNOPQRSTUVWXYZ

This page was generated on 2021-12-03 13:04:46 -0500 (Fri, 03 Dec 2021).

CHECK results for cpvSNP on nebbiolo2

To the developers/maintainers of the cpvSNP package:
- Please allow up to 24 hours (and sometimes 48 hours) for your latest push to git@git.bioconductor.org:packages/cpvSNP.git to
reflect on this report. See How and When does the builder pull? When will my changes propagate? here for more information.
- Make sure to use the following settings in order to reproduce any error or warning you see on this page.

raw results

Package 413/2083HostnameOS / ArchINSTALLBUILDCHECKBUILD BIN
cpvSNP 1.26.0  (landing page)
Caitlin McHugh
Snapshot Date: 2021-12-02 01:55:06 -0500 (Thu, 02 Dec 2021)
git_url: https://git.bioconductor.org/packages/cpvSNP
git_branch: RELEASE_3_14
git_last_commit: 1f6411f
git_last_commit_date: 2021-10-26 12:18:00 -0500 (Tue, 26 Oct 2021)
nebbiolo2Linux (Ubuntu 20.04.3 LTS) / x86_64  OK    OK    OK  UNNEEDED, same version is already published
tokay2Windows Server 2012 R2 Standard / x64  OK    OK    OK    OK  UNNEEDED, same version is already published
machv2macOS 10.14.6 Mojave / x86_64  OK    OK    OK    OK  UNNEEDED, same version is already published

Summary

Package: cpvSNP
Version: 1.26.0
Command: /home/biocbuild/bbs-3.14-bioc/R/bin/R CMD check --install=check:cpvSNP.install-out.txt --library=/home/biocbuild/bbs-3.14-bioc/R/library --no-vignettes --timings cpvSNP_1.26.0.tar.gz
StartedAt: 2021-12-02 06:46:02 -0500 (Thu, 02 Dec 2021)
EndedAt: 2021-12-02 06:50:20 -0500 (Thu, 02 Dec 2021)
EllapsedTime: 258.4 seconds
RetCode: 0
Status:   OK  
CheckDir: cpvSNP.Rcheck
Warnings: 0

Command output

##############################################################################
##############################################################################
###
### Running command:
###
###   /home/biocbuild/bbs-3.14-bioc/R/bin/R CMD check --install=check:cpvSNP.install-out.txt --library=/home/biocbuild/bbs-3.14-bioc/R/library --no-vignettes --timings cpvSNP_1.26.0.tar.gz
###
##############################################################################
##############################################################################


* using log directory ‘/home/biocbuild/bbs-3.14-bioc/meat/cpvSNP.Rcheck’
* using R version 4.1.2 (2021-11-01)
* using platform: x86_64-pc-linux-gnu (64-bit)
* using session charset: UTF-8
* using option ‘--no-vignettes’
* checking for file ‘cpvSNP/DESCRIPTION’ ... OK
* checking extension type ... Package
* this is package ‘cpvSNP’ version ‘1.26.0’
* checking package namespace information ... OK
* checking package dependencies ... OK
* checking if this is a source package ... OK
* checking if there is a namespace ... OK
* checking for hidden files and directories ... OK
* checking for portable file names ... OK
* checking for sufficient/correct file permissions ... OK
* checking whether package ‘cpvSNP’ can be installed ... OK
* checking installed package size ... OK
* checking package directory ... OK
* checking ‘build’ directory ... OK
* checking DESCRIPTION meta-information ... OK
* checking top-level files ... OK
* checking for left-over files ... OK
* checking index information ... OK
* checking package subdirectories ... OK
* checking R files for non-ASCII characters ... OK
* checking R files for syntax errors ... OK
* checking whether the package can be loaded ... OK
* checking whether the package can be loaded with stated dependencies ... OK
* checking whether the package can be unloaded cleanly ... OK
* checking whether the namespace can be loaded with stated dependencies ... OK
* checking whether the namespace can be unloaded cleanly ... OK
* checking dependencies in R code ... NOTE
'library' or 'require' call to ‘GSEABase’ which was already attached by Depends.
  Please remove these calls from your code.
* checking S3 generic/method consistency ... OK
* checking replacement functions ... OK
* checking foreign function calls ... OK
* checking R code for possible problems ... NOTE
assocPvalBySetPlot: no visible global function definition for ‘rgb’
assocPvalBySetPlot: no visible global function definition for ‘col2rgb’
assocPvalBySetPlot : <anonymous>: no visible global function definition
  for ‘density’
assocPvalBySetPlot: no visible global function definition for ‘legend’
assocPvalBySetPlot: no visible global function definition for ‘polygon’
assocPvalBySetPlot: no visible global function definition for ‘lines’
assocPvalBySetPlot: no visible global function definition for ‘points’
createArrayData: no visible global function definition for ‘GRanges’
createArrayData: no visible global function definition for ‘Rle’
createArrayData: no visible global function definition for ‘IRanges’
createArrayData: no visible global function definition for
  ‘elementMetadata<-’
geneToSNPList: no visible global function definition for ‘findOverlaps’
glossiMarginal: no visible global function definition for ‘pgamma’
plotPvals: no visible binding for global variable ‘df’
plotPvals: no visible binding for global variable ‘pval’
simulate_chisq: no visible global function definition for ‘rnorm’
vegasMarginal: no visible global function definition for ‘rbinom’
vegasMarginal: no visible global function definition for ‘qchisq’
vegasPrep: no visible global function definition for ‘elementMetadata’
show,VEGASResult: no visible global function definition for ‘var’
Undefined global functions or variables:
  GRanges IRanges Rle col2rgb density df elementMetadata
  elementMetadata<- findOverlaps legend lines pgamma points polygon
  pval qchisq rbinom rgb rnorm var
Consider adding
  importFrom("grDevices", "col2rgb", "rgb")
  importFrom("graphics", "legend", "lines", "points", "polygon")
  importFrom("stats", "density", "df", "pgamma", "qchisq", "rbinom",
             "rnorm", "var")
to your NAMESPACE file.
* checking Rd files ... OK
* checking Rd metadata ... OK
* checking Rd cross-references ... OK
* checking for missing documentation entries ... OK
* checking for code/documentation mismatches ... OK
* checking Rd \usage sections ... OK
* checking Rd contents ... OK
* checking for unstated dependencies in examples ... OK
* checking contents of ‘data’ directory ... OK
* checking data for non-ASCII characters ... OK
* checking data for ASCII and uncompressed saves ... OK
* checking files in ‘vignettes’ ... OK
* checking examples ... OK
Examples with CPU (user + system) or elapsed time > 5s
               user system elapsed
geneToSNPList 6.419  0.949    6.13
* checking for unstated dependencies in ‘tests’ ... OK
* checking tests ...
  Running ‘runTests.R’
 OK
* checking for unstated dependencies in vignettes ... OK
* checking package vignettes in ‘inst/doc’ ... OK
* checking running R code from vignettes ... SKIPPED
* checking re-building of vignette outputs ... SKIPPED
* checking PDF version of manual ... OK
* DONE

Status: 2 NOTEs
See
  ‘/home/biocbuild/bbs-3.14-bioc/meat/cpvSNP.Rcheck/00check.log’
for details.



Installation output

cpvSNP.Rcheck/00install.out

##############################################################################
##############################################################################
###
### Running command:
###
###   /home/biocbuild/bbs-3.14-bioc/R/bin/R CMD INSTALL cpvSNP
###
##############################################################################
##############################################################################


* installing to library ‘/home/biocbuild/bbs-3.14-bioc/R/library’
* installing *source* package ‘cpvSNP’ ...
** using staged installation
** R
** data
** inst
** byte-compile and prepare package for lazy loading
** help
*** installing help indices
** building package indices
** installing vignettes
** testing if installed package can be loaded from temporary location
** testing if installed package can be loaded from final location
** testing if installed package keeps a record of temporary installation path
* DONE (cpvSNP)

Tests output

cpvSNP.Rcheck/tests/runTests.Rout


R version 4.1.2 (2021-11-01) -- "Bird Hippie"
Copyright (C) 2021 The R Foundation for Statistical Computing
Platform: x86_64-pc-linux-gnu (64-bit)

R is free software and comes with ABSOLUTELY NO WARRANTY.
You are welcome to redistribute it under certain conditions.
Type 'license()' or 'licence()' for distribution details.

R is a collaborative project with many contributors.
Type 'contributors()' for more information and
'citation()' on how to cite R or R packages in publications.

Type 'demo()' for some demos, 'help()' for on-line help, or
'help.start()' for an HTML browser interface to help.
Type 'q()' to quit R.

> BiocGenerics:::testPackage("cpvSNP")

Attaching package: 'BiocGenerics'

The following objects are masked from 'package:stats':

    IQR, mad, sd, var, xtabs

The following objects are masked from 'package:base':

    Filter, Find, Map, Position, Reduce, anyDuplicated, append,
    as.data.frame, basename, cbind, colnames, dirname, do.call,
    duplicated, eval, evalq, get, grep, grepl, intersect, is.unsorted,
    lapply, mapply, match, mget, order, paste, pmax, pmax.int, pmin,
    pmin.int, rank, rbind, rownames, sapply, setdiff, sort, table,
    tapply, union, unique, unsplit, which.max, which.min


Attaching package: 'S4Vectors'

The following objects are masked from 'package:base':

    I, expand.grid, unname

Welcome to Bioconductor

    Vignettes contain introductory material; view with
    'browseVignettes()'. To cite Bioconductor, see
    'citation("Biobase")', and for packages 'citation("pkgname")'.


Attaching package: 'graph'

The following object is masked from 'package:XML':

    addNode

making GRanges object
Warning: coercing ldMatrix from data.frame to matrix.
Warning: coercing ldMatrix from data.frame to matrix.
Warning: coercing ldMatrix from data.frame to matrix.
Warning: coercing ldMatrix from data.frame to matrix.
Warning: coercing ldMatrix from data.frame to matrix.
Warning: coercing ldMatrix from data.frame to matrix.
Warning: coercing ldMatrix from data.frame to matrix.
Warning: coercing ldMatrix from data.frame to matrix.
Warning: coercing ldMatrix from data.frame to matrix.
Warning: coercing ldMatrix from data.frame to matrix.
Warning: coercing ldMatrix from data.frame to matrix.
Warning: coercing ldMatrix from data.frame to matrix.
Warning: coercing ldMatrix from data.frame to matrix.
Warning: coercing ldMatrix from data.frame to matrix.
Warning: coercing ldMatrix from data.frame to matrix.
Warning: coercing ldMatrix from data.frame to matrix.


RUNIT TEST PROTOCOL -- Thu Dec  2 06:50:18 2021 
*********************************************** 
Number of test functions: 4 
Number of errors: 0 
Number of failures: 0 

 
1 Test Suite : 
cpvSNP RUnit Tests - 4 test functions, 0 errors, 0 failures
Number of test functions: 4 
Number of errors: 0 
Number of failures: 0 
Warning message:
In mode(current) : NAs introduced by coercion
> 
> proc.time()
   user  system elapsed 
 16.641   0.822  17.059 

Example timings

cpvSNP.Rcheck/cpvSNP-Ex.timings

nameusersystemelapsed
GLOSSIResult-class0.0010.0000.002
GLOSSIResultCollection-class0.0010.0000.001
GeneSetResult-class0.0010.0000.000
GeneSetResultCollection-class0.0000.0010.000
VEGASResult-class0.0000.0010.000
VEGASResultCollection-class0.0000.0010.000
createArrayData0.2180.0450.263
degreesOfFreedom-method000
geneSetAnalysis0.1530.0040.157
geneSetName-methods000
geneToSNPList6.4190.9496.130
glossi0.0360.0760.008
glossiMarginal0.0020.0000.002
pValue-method000
simulatedStats-method000
statistic-methods0.0000.0000.001