Back to Multiple platform build/check report for BioC 3.14
AB[C]DEFGHIJKLMNOPQRSTUVWXYZ

This page was generated on 2021-11-29 15:05:51 -0500 (Mon, 29 Nov 2021).

BUILD results for covRNA on machv2

To the developers/maintainers of the covRNA package:
- Please allow up to 24 hours (and sometimes 48 hours) for your latest push to git@git.bioconductor.org:packages/covRNA.git to
reflect on this report. See How and When does the builder pull? When will my changes propagate? here for more information.
- Make sure to use the following settings in order to reproduce any error or warning you see on this page.

raw results

Package 412/2083HostnameOS / ArchINSTALLBUILDCHECKBUILD BIN
covRNA 1.20.0  (landing page)
Lara Urban
Snapshot Date: 2021-11-28 04:15:06 -0500 (Sun, 28 Nov 2021)
git_url: https://git.bioconductor.org/packages/covRNA
git_branch: RELEASE_3_14
git_last_commit: 6e2cebd
git_last_commit_date: 2021-10-26 12:27:58 -0500 (Tue, 26 Oct 2021)
nebbiolo2Linux (Ubuntu 20.04.3 LTS) / x86_64  OK    OK    OK  UNNEEDED, same version is already published
tokay2Windows Server 2012 R2 Standard / x64  OK    OK    OK    OK  UNNEEDED, same version is already published
machv2macOS 10.14.6 Mojave / x86_64  OK    OK    OK    OK  UNNEEDED, same version is already published

Summary

Package: covRNA
Version: 1.20.0
Command: /Library/Frameworks/R.framework/Resources/bin/R CMD build --keep-empty-dirs --no-resave-data covRNA
StartedAt: 2021-11-28 08:28:13 -0500 (Sun, 28 Nov 2021)
EndedAt: 2021-11-28 08:29:57 -0500 (Sun, 28 Nov 2021)
EllapsedTime: 104.8 seconds
RetCode: 0
Status:   OK  
PackageFile: covRNA_1.20.0.tar.gz
PackageFileSize: 543 KiB

Command output

##############################################################################
##############################################################################
###
### Running command:
###
###   /Library/Frameworks/R.framework/Resources/bin/R CMD build --keep-empty-dirs --no-resave-data covRNA
###
##############################################################################
##############################################################################


* checking for file ‘covRNA/DESCRIPTION’ ... OK
* preparing ‘covRNA’:
* checking DESCRIPTION meta-information ... OK
* installing the package to build vignettes
* creating vignettes ... OK
* checking for LF line-endings in source and make files and shell scripts
* checking for empty or unneeded directories
* building ‘covRNA_1.20.0.tar.gz’