Back to Multiple platform build/check report for BioC 3.14
AB[C]DEFGHIJKLMNOPQRSTUVWXYZ

This page was generated on 2022-01-17 13:06:06 -0500 (Mon, 17 Jan 2022).

HostnameOSArch (*)R versionInstalled pkgs
nebbiolo2Linux (Ubuntu 20.04.4 LTS)x86_644.1.2 (2021-11-01) -- "Bird Hippie" 4328
tokay2Windows Server 2012 R2 Standardx644.1.2 (2021-11-01) -- "Bird Hippie" 4077
machv2macOS 10.14.6 Mojavex86_644.1.2 (2021-11-01) -- "Bird Hippie" 4138
Click on any hostname to see more info about the system (e.g. compilers)      (*) as reported by 'uname -p', except on Windows and Mac OS X

BUILD BIN results for cosmosR on tokay2


To the developers/maintainers of the cosmosR package:
- Please allow up to 24 hours (and sometimes 48 hours) for your latest push to git@git.bioconductor.org:packages/cosmosR.git to
reflect on this report. See How and When does the builder pull? When will my changes propagate? here for more information.
- Make sure to use the following settings in order to reproduce any error or warning you see on this page.

raw results

Package 406/2083HostnameOS / ArchINSTALLBUILDCHECKBUILD BIN
cosmosR 1.2.0  (landing page)
Katharina Zirngibl
Snapshot Date: 2022-01-16 01:55:05 -0500 (Sun, 16 Jan 2022)
git_url: https://git.bioconductor.org/packages/cosmosR
git_branch: RELEASE_3_14
git_last_commit: dcb4b9c
git_last_commit_date: 2021-10-26 13:09:43 -0500 (Tue, 26 Oct 2021)
nebbiolo2Linux (Ubuntu 20.04.4 LTS) / x86_64  OK    OK    OK  UNNEEDED, same version is already published
tokay2Windows Server 2012 R2 Standard / x64  OK    OK    OK    OK  UNNEEDED, same version is already published
machv2macOS 10.14.6 Mojave / x86_64  OK    OK    OK    OK  UNNEEDED, same version is already published

Summary

Package: cosmosR
Version: 1.2.0
Command: rm -rf cosmosR.buildbin-libdir && mkdir cosmosR.buildbin-libdir && C:\Users\biocbuild\bbs-3.14-bioc\R\bin\R.exe CMD INSTALL --merge-multiarch --build --library=cosmosR.buildbin-libdir cosmosR_1.2.0.tar.gz
StartedAt: 2022-01-17 06:51:25 -0500 (Mon, 17 Jan 2022)
EndedAt: 2022-01-17 06:51:41 -0500 (Mon, 17 Jan 2022)
EllapsedTime: 16.0 seconds
RetCode: 0
Status:   OK  
PackageFile: cosmosR_1.2.0.zip
PackageFileSize: 3.528 MiB

Command output

##############################################################################
##############################################################################
###
### Running command:
###
###   rm -rf cosmosR.buildbin-libdir && mkdir cosmosR.buildbin-libdir && C:\Users\biocbuild\bbs-3.14-bioc\R\bin\R.exe CMD INSTALL --merge-multiarch --build --library=cosmosR.buildbin-libdir cosmosR_1.2.0.tar.gz
###
##############################################################################
##############################################################################



install for i386

* installing *source* package 'cosmosR' ...
** using staged installation
** R
** data
** inst
** byte-compile and prepare package for lazy loading
** help
*** installing help indices
  converting help for package 'cosmosR'
    finding HTML links ... done
    convert_ensembl_to_entrezid             html  
    convert_genesymbols_to_entrezid         html  
    cosmos_data                             html  
    default_CARNIVAL_options                html  
    display_node_neighboorhood              html  
    extract_nodes_for_ORA                   html  
    format_COSMOS_res                       html  
    gmt_to_dataframe                        html  
    load_tf_regulon_dorothea                html  
    load_tf_regulon_dorothea_omnipath       html  
    meta_network                            html  
    metabolite_to_pubchem                   html  
    omnipath_ptm                            html  
    prepare_metabolomics_data               html  
    preprocess_COSMOS_metabolism_to_signaling
                                            html  
    preprocess_COSMOS_signaling_to_metabolism
                                            html  
    print.cosmos_data                       html  
    run_COSMOS_metabolism_to_signaling      html  
    run_COSMOS_signaling_to_metabolism      html  
    toy_RNA                                 html  
    toy_metabolic_input                     html  
    toy_network                             html  
    toy_signaling_input                     html  
*** copying figures
** building package indices
** installing vignettes
** testing if installed package can be loaded from temporary location
** testing if installed package can be loaded from final location
** testing if installed package keeps a record of temporary installation path

install for x64

* installing *source* package 'cosmosR' ...
** testing if installed package can be loaded
* MD5 sums
packaged installation of 'cosmosR' as cosmosR_1.2.0.zip
* DONE (cosmosR)