Back to Multiple platform build/check report for BioC 3.14
AB[C]DEFGHIJKLMNOPQRSTUVWXYZ

This page was generated on 2022-01-24 13:04:57 -0500 (Mon, 24 Jan 2022).

HostnameOSArch (*)R versionInstalled pkgs
nebbiolo2Linux (Ubuntu 20.04.4 LTS)x86_644.1.2 (2021-11-01) -- "Bird Hippie" 4329
tokay2Windows Server 2012 R2 Standardx644.1.2 (2021-11-01) -- "Bird Hippie" 4080
machv2macOS 10.14.6 Mojavex86_644.1.2 (2021-11-01) -- "Bird Hippie" 4141
Click on any hostname to see more info about the system (e.g. compilers)      (*) as reported by 'uname -p', except on Windows and Mac OS X

CHECK results for cosmosR on nebbiolo2


To the developers/maintainers of the cosmosR package:
- Please allow up to 24 hours (and sometimes 48 hours) for your latest push to git@git.bioconductor.org:packages/cosmosR.git to
reflect on this report. See How and When does the builder pull? When will my changes propagate? here for more information.
- Make sure to use the following settings in order to reproduce any error or warning you see on this page.

raw results

Package 406/2083HostnameOS / ArchINSTALLBUILDCHECKBUILD BIN
cosmosR 1.2.0  (landing page)
Katharina Zirngibl
Snapshot Date: 2022-01-23 01:55:04 -0500 (Sun, 23 Jan 2022)
git_url: https://git.bioconductor.org/packages/cosmosR
git_branch: RELEASE_3_14
git_last_commit: dcb4b9c
git_last_commit_date: 2021-10-26 13:09:43 -0500 (Tue, 26 Oct 2021)
nebbiolo2Linux (Ubuntu 20.04.4 LTS) / x86_64  OK    OK    OK  UNNEEDED, same version is already published
tokay2Windows Server 2012 R2 Standard / x64  OK    OK    OK    OK  UNNEEDED, same version is already published
machv2macOS 10.14.6 Mojave / x86_64  OK    OK    OK    OK  UNNEEDED, same version is already published

Summary

Package: cosmosR
Version: 1.2.0
Command: /home/biocbuild/bbs-3.14-bioc/R/bin/R CMD check --install=check:cosmosR.install-out.txt --library=/home/biocbuild/bbs-3.14-bioc/R/library --no-vignettes --timings cosmosR_1.2.0.tar.gz
StartedAt: 2022-01-23 07:06:48 -0500 (Sun, 23 Jan 2022)
EndedAt: 2022-01-23 07:08:12 -0500 (Sun, 23 Jan 2022)
EllapsedTime: 84.6 seconds
RetCode: 0
Status:   OK  
CheckDir: cosmosR.Rcheck
Warnings: 0

Command output

##############################################################################
##############################################################################
###
### Running command:
###
###   /home/biocbuild/bbs-3.14-bioc/R/bin/R CMD check --install=check:cosmosR.install-out.txt --library=/home/biocbuild/bbs-3.14-bioc/R/library --no-vignettes --timings cosmosR_1.2.0.tar.gz
###
##############################################################################
##############################################################################


* using log directory ‘/home/biocbuild/bbs-3.14-bioc/meat/cosmosR.Rcheck’
* using R version 4.1.2 (2021-11-01)
* using platform: x86_64-pc-linux-gnu (64-bit)
* using session charset: UTF-8
* using option ‘--no-vignettes’
* checking for file ‘cosmosR/DESCRIPTION’ ... OK
* checking extension type ... Package
* this is package ‘cosmosR’ version ‘1.2.0’
* package encoding: UTF-8
* checking package namespace information ... OK
* checking package dependencies ... OK
* checking if this is a source package ... OK
* checking if there is a namespace ... OK
* checking for hidden files and directories ... OK
* checking for portable file names ... OK
* checking for sufficient/correct file permissions ... OK
* checking whether package ‘cosmosR’ can be installed ... OK
* checking installed package size ... OK
* checking package directory ... OK
* checking ‘build’ directory ... OK
* checking DESCRIPTION meta-information ... OK
* checking top-level files ... OK
* checking for left-over files ... OK
* checking index information ... OK
* checking package subdirectories ... OK
* checking R files for non-ASCII characters ... OK
* checking R files for syntax errors ... OK
* checking whether the package can be loaded ... OK
* checking whether the package can be loaded with stated dependencies ... OK
* checking whether the package can be unloaded cleanly ... OK
* checking whether the namespace can be loaded with stated dependencies ... OK
* checking whether the namespace can be unloaded cleanly ... OK
* checking dependencies in R code ... NOTE
Namespaces in Imports field not imported from:
  ‘ggplot2’ ‘scales’
  All declared Imports should be used.
* checking S3 generic/method consistency ... OK
* checking replacement functions ... OK
* checking foreign function calls ... OK
* checking R code for possible problems ... OK
* checking Rd files ... OK
* checking Rd metadata ... OK
* checking Rd cross-references ... OK
* checking for missing documentation entries ... OK
* checking for code/documentation mismatches ... OK
* checking Rd \usage sections ... OK
* checking Rd contents ... OK
* checking for unstated dependencies in examples ... OK
* checking contents of ‘data’ directory ... OK
* checking data for non-ASCII characters ... OK
* checking data for ASCII and uncompressed saves ... OK
* checking R/sysdata.rda ... OK
* checking files in ‘vignettes’ ... OK
* checking examples ... OK
Examples with CPU (user + system) or elapsed time > 5s
                                   user system elapsed
load_tf_regulon_dorothea_omnipath 5.846   0.46  17.295
* checking for unstated dependencies in ‘tests’ ... OK
* checking tests ...
  Running ‘testthat.R’
 OK
* checking for unstated dependencies in vignettes ... OK
* checking package vignettes in ‘inst/doc’ ... OK
* checking running R code from vignettes ... SKIPPED
* checking re-building of vignette outputs ... SKIPPED
* checking PDF version of manual ... OK
* DONE

Status: 1 NOTE
See
  ‘/home/biocbuild/bbs-3.14-bioc/meat/cosmosR.Rcheck/00check.log’
for details.



Installation output

cosmosR.Rcheck/00install.out

##############################################################################
##############################################################################
###
### Running command:
###
###   /home/biocbuild/bbs-3.14-bioc/R/bin/R CMD INSTALL cosmosR
###
##############################################################################
##############################################################################


* installing to library ‘/home/biocbuild/bbs-3.14-bioc/R/library’
* installing *source* package ‘cosmosR’ ...
** using staged installation
** R
** data
** inst
** byte-compile and prepare package for lazy loading
** help
*** installing help indices
*** copying figures
** building package indices
** installing vignettes
** testing if installed package can be loaded from temporary location
** testing if installed package can be loaded from final location
** testing if installed package keeps a record of temporary installation path
* DONE (cosmosR)

Tests output

cosmosR.Rcheck/tests/testthat.Rout


R version 4.1.2 (2021-11-01) -- "Bird Hippie"
Copyright (C) 2021 The R Foundation for Statistical Computing
Platform: x86_64-pc-linux-gnu (64-bit)

R is free software and comes with ABSOLUTELY NO WARRANTY.
You are welcome to redistribute it under certain conditions.
Type 'license()' or 'licence()' for distribution details.

R is a collaborative project with many contributors.
Type 'contributors()' for more information and
'citation()' on how to cite R or R packages in publications.

Type 'demo()' for some demos, 'help()' for on-line help, or
'help.start()' for an HTML browser interface to help.
Type 'q()' to quit R.

> library(testthat)
> library(cosmosR)
> 
> test_check("cosmosR")
[1] "COSMOS: all 98 signaling nodes from data were found in the meta PKN"
[1] "COSMOS: all 25 metabolic nodes from data were found in the meta PKN"
[1] "COSMOS: 4660 of the 15919 genes in expression data were found as transcription factor target"
[1] "COSMOS: 4660 of the 5312 transcription factor targets were found in expression data"
[1] "COSMOS: removing unexpressed nodes from PKN..."
[1] "COSMOS: 0 interactions removed"
[1] "COSMOS: removing nodes that are not reachable from inputs within 8 steps"
[1] "COSMOS: 197 from  720 interactions are removed from the PKN"
[1] "COSMOS: 3 input/measured nodes are not in PKN any more: X8317, X2101, X5629 and 0 more."
[1] "COSMOS: removing nodes that are not observable by measurements within 8 steps"
[1] "COSMOS: 186 from  523 interactions are removed from the PKN"
[1] "COSMOS: 62 input/measured nodes are not in PKN any more: X2931, X1025, X891, X9134, X4137, X196 and 56 more."
[1] "COSMOS:  3 interactions are removed from the PKN based on consistency check between TF activity and gene expression"
[1] "COSMOS: all 33 signaling nodes from data were found in the meta PKN"
[1] "COSMOS: all 25 metabolic nodes from data were found in the meta PKN"
[1] "COSMOS: 4660 of the 15919 genes in expression data were found as transcription factor target"
[1] "COSMOS: 4660 of the 5312 transcription factor targets were found in expression data"
[1] "COSMOS: all 98 signaling nodes from data were found in the meta PKN"
[1] "COSMOS: all 25 metabolic nodes from data were found in the meta PKN"
[1] "COSMOS: 4660 of the 15919 genes in expression data were found as transcription factor target"
[1] "COSMOS: 4660 of the 5312 transcription factor targets were found in expression data"
[1] "COSMOS: removing unexpressed nodes from PKN..."
[1] "COSMOS: 0 interactions removed"
[1] "COSMOS: removing nodes that are not reachable from inputs within 8 steps"
[1] "COSMOS: 401 from  720 interactions are removed from the PKN"
[1] "COSMOS: 25 input/measured nodes are not in PKN any more: X1457, X1022, X983, X8317, X1459, X9134 and 19 more."
[1] "COSMOS: 18 input/measured nodes are not in PKN any more: XMetab__6132___n____, XMetab__6132___m____, XMetab__6132___c____, XMetab__6132___e____, XMetab__9750___c____, XMetab__700___c____ and 12 more."
[1] "COSMOS: removing nodes that are not observable by measurements within 8 steps"
[1] "COSMOS: 62 from  319 interactions are removed from the PKN"
[1] "COSMOS: 5 input/measured nodes are not in PKN any more: XMetab__790___c____, XMetab__6021___c____, XMetab__6426851___c____, XMetab__107738___c____, XMetab__6029___c____ and 0 more."
[1] "COSMOS:  0 interactions are removed from the PKN based on consistency check between TF activity and gene expression"
[1] "COSMOS: all 73 signaling nodes from data were found in the meta PKN"
[1] "COSMOS: all 2 metabolic nodes from data were found in the meta PKN"
[1] "COSMOS: 4660 of the 15919 genes in expression data were found as transcription factor target"
[1] "COSMOS: 4660 of the 5312 transcription factor targets were found in expression data"
[1] "COSMOS: all 98 signaling nodes from data were found in the meta PKN"
[1] "COSMOS: all 25 metabolic nodes from data were found in the meta PKN"
[1] "COSMOS: 4660 of the 15919 genes in expression data were found as transcription factor target"
[1] "COSMOS: 4660 of the 5312 transcription factor targets were found in expression data"
[1] "COSMOS: removing nodes that are not reachable from inputs within 15 steps"
[1] "COSMOS: 184 from  720 interactions are removed from the PKN"
[1] "COSMOS: 4 input/measured nodes are not in PKN any more: X1457, X983, X6667, X6772 and 0 more."
[1] "COSMOS: 1 input/measured nodes are not in PKN any more: XMetab__6132___e____ and 0 more."
[1] "COSMOS: removing nodes that are not observable by measurements within 15 steps"
[1] "COSMOS: 202 from  536 interactions are removed from the PKN"
[1] "COSMOS: 22 input/measured nodes are not in PKN any more: XMetab__6132___n____, XMetab__6132___m____, XMetab__6132___c____, XMetab__9750___c____, XMetab__700___c____, XMetab__5961___c____ and 16 more."
[1] "COSMOS:  3 interactions are removed from the PKN based on consistency check between TF activity and gene expression"
[1] "COSMOS: all 94 signaling nodes from data were found in the meta PKN"
[1] "COSMOS: all 2 metabolic nodes from data were found in the meta PKN"
[1] "COSMOS: 4660 of the 15919 genes in expression data were found as transcription factor target"
[1] "COSMOS: 4660 of the 5312 transcription factor targets were found in expression data"
[1] "COSMOS: all 98 signaling nodes from data were found in the meta PKN"
[1] "COSMOS: all 25 metabolic nodes from data were found in the meta PKN"
[1] "COSMOS: 4660 of the 15919 genes in expression data were found as transcription factor target"
[1] "COSMOS: 4660 of the 5312 transcription factor targets were found in expression data"
[1] "COSMOS: removing nodes that are not reachable from inputs within 15 steps"
[1] "COSMOS: 175 from  720 interactions are removed from the PKN"
[1] "COSMOS: removing nodes that are not observable by measurements within 15 steps"
[1] "COSMOS: 197 from  545 interactions are removed from the PKN"
[1] "COSMOS: 65 input/measured nodes are not in PKN any more: X8317, X2931, X1025, X891, X9134, X4137 and 59 more."
[1] "COSMOS:  3 interactions are removed from the PKN based on consistency check between TF activity and gene expression"
[1] "COSMOS: all 33 signaling nodes from data were found in the meta PKN"
[1] "COSMOS: all 25 metabolic nodes from data were found in the meta PKN"
[1] "COSMOS: 4660 of the 15919 genes in expression data were found as transcription factor target"
[1] "COSMOS: 4660 of the 5312 transcription factor targets were found in expression data"
[ FAIL 0 | WARN 0 | SKIP 2 | PASS 30 ]

══ Skipped tests ═══════════════════════════════════════════════════════════════
• CPLEX optimization based test skipped. (2)

[ FAIL 0 | WARN 0 | SKIP 2 | PASS 30 ]
> 
> proc.time()
   user  system elapsed 
 12.092   0.861  12.938 

Example timings

cosmosR.Rcheck/cosmosR-Ex.timings

nameusersystemelapsed
convert_ensembl_to_entrezid4.5660.2004.766
convert_genesymbols_to_entrezid0.2620.0130.274
default_CARNIVAL_options000
display_node_neighboorhood3.8940.1604.073
extract_nodes_for_ORA1.6150.0401.656
format_COSMOS_res1.6170.0521.669
load_tf_regulon_dorothea0.6220.0040.626
load_tf_regulon_dorothea_omnipath 5.846 0.46017.295
meta_network0.0720.0000.071
metabolite_to_pubchem0.0040.0000.004
omnipath_ptm0.1840.0080.192
prepare_metabolomics_data0.1280.0000.129
preprocess_COSMOS_metabolism_to_signaling0.8700.0240.894
preprocess_COSMOS_signaling_to_metabolism0.9440.0200.964
run_COSMOS_metabolism_to_signaling0.9920.0121.004
run_COSMOS_signaling_to_metabolism1.0780.0161.094
toy_RNA0.0240.0000.025
toy_metabolic_input0.0010.0000.001
toy_network0.0010.0000.001
toy_signaling_input000