Back to Multiple platform build/check report for BioC 3.14
AB[C]DEFGHIJKLMNOPQRSTUVWXYZ

This page was generated on 2021-12-01 17:17:22 -0500 (Wed, 01 Dec 2021).

BUILD results for coseq on nebbiolo2

To the developers/maintainers of the coseq package:
- Please allow up to 24 hours (and sometimes 48 hours) for your latest push to git@git.bioconductor.org:packages/coseq.git to
reflect on this report. See How and When does the builder pull? When will my changes propagate? here for more information.
- Make sure to use the following settings in order to reproduce any error or warning you see on this page.

raw results

Package 404/2083HostnameOS / ArchINSTALLBUILDCHECKBUILD BIN
coseq 1.18.0  (landing page)
Andrea Rau
Snapshot Date: 2021-11-30 04:15:05 -0500 (Tue, 30 Nov 2021)
git_url: https://git.bioconductor.org/packages/coseq
git_branch: RELEASE_3_14
git_last_commit: 6db558b
git_last_commit_date: 2021-10-26 12:32:24 -0500 (Tue, 26 Oct 2021)
nebbiolo2Linux (Ubuntu 20.04.3 LTS) / x86_64  OK    OK    OK  UNNEEDED, same version is already published
tokay2Windows Server 2012 R2 Standard / x64  OK    OK    OK    OK  UNNEEDED, same version is already published
machv2macOS 10.14.6 Mojave / x86_64  OK    OK    OK    OK  UNNEEDED, same version is already published

Summary

Package: coseq
Version: 1.18.0
Command: /home/biocbuild/bbs-3.14-bioc/R/bin/R CMD build --keep-empty-dirs --no-resave-data coseq
StartedAt: 2021-11-30 06:05:28 -0500 (Tue, 30 Nov 2021)
EndedAt: 2021-11-30 06:09:34 -0500 (Tue, 30 Nov 2021)
EllapsedTime: 246.4 seconds
RetCode: 0
Status:   OK  
PackageFile: coseq_1.18.0.tar.gz
PackageFileSize: 1.613 MiB

Command output

##############################################################################
##############################################################################
###
### Running command:
###
###   /home/biocbuild/bbs-3.14-bioc/R/bin/R CMD build --keep-empty-dirs --no-resave-data coseq
###
##############################################################################
##############################################################################


* checking for file ‘coseq/DESCRIPTION’ ... OK
* preparing ‘coseq’:
* checking DESCRIPTION meta-information ... OK
* installing the package to build vignettes
* creating vignettes ... OK
* checking for LF line-endings in source and make files and shell scripts
* checking for empty or unneeded directories
* looking to see if a ‘data/datalist’ file should be added
* building ‘coseq_1.18.0.tar.gz’