Index of /checkResults/3.14/bioc-LATEST/copa/raw-results

[ICO]NameLast modifiedSizeDescription

[DIR]Parent Directory  -  
[   ]info.dcf18-Jan-2022 03:07 275  
[DIR]machv2/18-Jan-2022 03:07 -  
[DIR]nebbiolo2/18-Jan-2022 03:04 -  
[DIR]tokay2/18-Jan-2022 03:06 -