Back to Multiple platform build/check report for BioC 3.14
AB[C]DEFGHIJKLMNOPQRSTUVWXYZ

This page was generated on 2021-12-03 13:05:43 -0500 (Fri, 03 Dec 2021).

CHECK results for copa on machv2

To the developers/maintainers of the copa package:
- Please allow up to 24 hours (and sometimes 48 hours) for your latest push to git@git.bioconductor.org:packages/copa.git to
reflect on this report. See How and When does the builder pull? When will my changes propagate? here for more information.
- Make sure to use the following settings in order to reproduce any error or warning you see on this page.

raw results

Package 394/2083HostnameOS / ArchINSTALLBUILDCHECKBUILD BIN
copa 1.62.0  (landing page)
James W. MacDonald
Snapshot Date: 2021-12-02 01:55:06 -0500 (Thu, 02 Dec 2021)
git_url: https://git.bioconductor.org/packages/copa
git_branch: RELEASE_3_14
git_last_commit: f6926db
git_last_commit_date: 2021-10-26 11:49:22 -0500 (Tue, 26 Oct 2021)
nebbiolo2Linux (Ubuntu 20.04.3 LTS) / x86_64  OK    OK    OK  UNNEEDED, same version is already published
tokay2Windows Server 2012 R2 Standard / x64  OK    OK    OK    OK  UNNEEDED, same version is already published
machv2macOS 10.14.6 Mojave / x86_64  OK    OK    OK    OK  UNNEEDED, same version is already published

Summary

Package: copa
Version: 1.62.0
Command: /Library/Frameworks/R.framework/Resources/bin/R CMD check --install=check:copa.install-out.txt --library=/Library/Frameworks/R.framework/Resources/library --no-vignettes --timings copa_1.62.0.tar.gz
StartedAt: 2021-12-02 13:09:52 -0500 (Thu, 02 Dec 2021)
EndedAt: 2021-12-02 13:10:30 -0500 (Thu, 02 Dec 2021)
EllapsedTime: 38.5 seconds
RetCode: 0
Status:   OK  
CheckDir: copa.Rcheck
Warnings: 0

Command output

##############################################################################
##############################################################################
###
### Running command:
###
###   /Library/Frameworks/R.framework/Resources/bin/R CMD check --install=check:copa.install-out.txt --library=/Library/Frameworks/R.framework/Resources/library --no-vignettes --timings copa_1.62.0.tar.gz
###
##############################################################################
##############################################################################


* using log directory ‘/Users/biocbuild/bbs-3.14-bioc/meat/copa.Rcheck’
* using R version 4.1.2 (2021-11-01)
* using platform: x86_64-apple-darwin17.0 (64-bit)
* using session charset: UTF-8
* using option ‘--no-vignettes’
* checking for file ‘copa/DESCRIPTION’ ... OK
* this is package ‘copa’ version ‘1.62.0’
* checking package namespace information ... OK
* checking package dependencies ... OK
* checking if this is a source package ... OK
* checking if there is a namespace ... OK
* checking for hidden files and directories ... OK
* checking for portable file names ... OK
* checking for sufficient/correct file permissions ... OK
* checking whether package ‘copa’ can be installed ... OK
* checking installed package size ... OK
* checking package directory ... OK
* checking ‘build’ directory ... OK
* checking DESCRIPTION meta-information ... NOTE
Malformed Title field: should not end in a period.
* checking top-level files ... OK
* checking for left-over files ... OK
* checking index information ... OK
* checking package subdirectories ... OK
* checking R files for non-ASCII characters ... OK
* checking R files for syntax errors ... OK
* checking whether the package can be loaded ... OK
* checking whether the package can be loaded with stated dependencies ... OK
* checking whether the package can be unloaded cleanly ... OK
* checking whether the namespace can be loaded with stated dependencies ... OK
* checking whether the namespace can be unloaded cleanly ... OK
* checking dependencies in R code ... NOTE
Packages in Depends field not imported from:
  ‘Biobase’ ‘methods’
  These packages need to be imported from (in the NAMESPACE file)
  for when this namespace is loaded but not attached.
* checking S3 generic/method consistency ... OK
* checking replacement functions ... OK
* checking foreign function calls ... OK
* checking R code for possible problems ... NOTE
copa: warning in matrix(1:dim(mat)[1], nc = dim(mat)[1], nr =
  dim(mat)[1]): partial argument match of 'nr' to 'nrow'
copa: warning in matrix(1:dim(mat)[1], nc = dim(mat)[1], nr =
  dim(mat)[1]): partial argument match of 'nc' to 'ncol'
pSum: warning in matrix(out, nc = length(a), nr = length(a)): partial
  argument match of 'nr' to 'nrow'
pSum: warning in matrix(out, nc = length(a), nr = length(a)): partial
  argument match of 'nc' to 'ncol'
plotCopa: warning in matrix(1:2, nc = 1): partial argument match of
  'nc' to 'ncol'
copa: no visible binding for global variable ‘quantile’
do.copaFilter: no visible binding for global variable ‘median’
do.copaFilter: no visible binding for global variable ‘mad’
do.copaFilter: no visible global function definition for ‘quantile’
pSum: no visible binding for global variable ‘mat’
plotCopa: no visible global function definition for ‘par’
plotCopa: no visible global function definition for ‘layout’
plotCopa: no visible global function definition for ‘barplot’
copaFilter,ExpressionSet: no visible global function definition for
  ‘exprs’
Undefined global functions or variables:
  barplot exprs layout mad mat median par quantile
Consider adding
  importFrom("graphics", "barplot", "layout", "par")
  importFrom("stats", "mad", "median", "quantile")
to your NAMESPACE file.
* checking Rd files ... OK
* checking Rd metadata ... OK
* checking Rd cross-references ... OK
* checking for missing documentation entries ... OK
* checking for code/documentation mismatches ... OK
* checking Rd \usage sections ... OK
* checking Rd contents ... OK
* checking for unstated dependencies in examples ... OK
* checking line endings in C/C++/Fortran sources/headers ... OK
* checking compiled code ... NOTE
Note: information on .o files is not available
* checking sizes of PDF files under ‘inst/doc’ ... OK
* checking files in ‘vignettes’ ... OK
* checking examples ... OK
* checking for unstated dependencies in vignettes ... OK
* checking package vignettes in ‘inst/doc’ ... OK
* checking running R code from vignettes ... SKIPPED
* checking re-building of vignette outputs ... SKIPPED
* checking PDF version of manual ... OK
* DONE

Status: 4 NOTEs
See
  ‘/Users/biocbuild/bbs-3.14-bioc/meat/copa.Rcheck/00check.log’
for details.



Installation output

copa.Rcheck/00install.out

##############################################################################
##############################################################################
###
### Running command:
###
###   /Library/Frameworks/R.framework/Resources/bin/R CMD INSTALL copa
###
##############################################################################
##############################################################################


* installing to library ‘/Library/Frameworks/R.framework/Versions/4.1/Resources/library’
* installing *source* package ‘copa’ ...
** using staged installation
** libs
clang -mmacosx-version-min=10.13 -I"/Library/Frameworks/R.framework/Resources/include" -DNDEBUG   -I/usr/local/include   -fPIC  -Wall -g -O2  -c copa.c -o copa.o
clang -mmacosx-version-min=10.13 -dynamiclib -Wl,-headerpad_max_install_names -undefined dynamic_lookup -single_module -multiply_defined suppress -L/Library/Frameworks/R.framework/Resources/lib -L/usr/local/lib -o copa.so copa.o -F/Library/Frameworks/R.framework/.. -framework R -Wl,-framework -Wl,CoreFoundation
installing to /Library/Frameworks/R.framework/Versions/4.1/Resources/library/00LOCK-copa/00new/copa/libs
** R
** inst
** byte-compile and prepare package for lazy loading
** help
*** installing help indices
** building package indices
** installing vignettes
** testing if installed package can be loaded from temporary location
** checking absolute paths in shared objects and dynamic libraries
** testing if installed package can be loaded from final location
** testing if installed package keeps a record of temporary installation path
* DONE (copa)

Tests output


Example timings

copa.Rcheck/copa-Ex.timings

nameusersystemelapsed
copa0.2440.0200.264
copaTable0.2260.0110.237
plotCopa0.0010.0000.002
scatterPlotCopa0.0000.0000.001
summaryCopa0.0010.0000.000