Back to Multiple platform build/check report for BioC 3.14
AB[C]DEFGHIJKLMNOPQRSTUVWXYZ

This page was generated on 2021-11-24 15:05:58 -0500 (Wed, 24 Nov 2021).

BUILD BIN results for copa on machv2

To the developers/maintainers of the copa package:
- Please allow up to 24 hours (and sometimes 48 hours) for your latest push to git@git.bioconductor.org:packages/copa.git to
reflect on this report. See How and When does the builder pull? When will my changes propagate? here for more information.
- Make sure to use the following settings in order to reproduce any error or warning you see on this page.

raw results

Package 394/2083HostnameOS / ArchINSTALLBUILDCHECKBUILD BIN
copa 1.62.0  (landing page)
James W. MacDonald
Snapshot Date: 2021-11-23 04:15:06 -0500 (Tue, 23 Nov 2021)
git_url: https://git.bioconductor.org/packages/copa
git_branch: RELEASE_3_14
git_last_commit: f6926db
git_last_commit_date: 2021-10-26 11:49:22 -0500 (Tue, 26 Oct 2021)
nebbiolo2Linux (Ubuntu 20.04.3 LTS) / x86_64  OK    OK    OK  UNNEEDED, same version is already published
tokay2Windows Server 2012 R2 Standard / x64  OK    OK    OK    OK  UNNEEDED, same version is already published
machv2macOS 10.14.6 Mojave / x86_64  OK    OK    OK    OK  UNNEEDED, same version is already published

Summary

Package: copa
Version: 1.62.0
Command: rm -rf copa.buildbin-libdir && mkdir copa.buildbin-libdir && /Users/biocbuild/BBS/utils/build-universal.sh copa_1.62.0.tar.gz /Library/Frameworks/R.framework/Resources/bin/R copa.buildbin-libdir
StartedAt: 2021-11-24 00:01:39 -0500 (Wed, 24 Nov 2021)
EndedAt: 2021-11-24 00:02:42 -0500 (Wed, 24 Nov 2021)
EllapsedTime: 63.4 seconds
RetCode: 0
Status:   OK  
PackageFile: copa_1.62.0.tgz
PackageFileSize: 171.8 KiB

Command output

##############################################################################
##############################################################################
###
### Running command:
###
###   rm -rf copa.buildbin-libdir && mkdir copa.buildbin-libdir && /Users/biocbuild/BBS/utils/build-universal.sh copa_1.62.0.tar.gz /Library/Frameworks/R.framework/Resources/bin/R copa.buildbin-libdir
###
##############################################################################
##############################################################################


>>>>>>> 
>>>>>>> INSTALLATION WITH 'R CMD INSTALL --preclean --no-multiarch --library=copa.buildbin-libdir copa_1.62.0.tar.gz'
>>>>>>> 

* installing *source* package ‘copa’ ...
** using staged installation
** libs
clang -mmacosx-version-min=10.13 -I"/Library/Frameworks/R.framework/Resources/include" -DNDEBUG   -I/usr/local/include   -fPIC  -Wall -g -O2  -c copa.c -o copa.o
clang -mmacosx-version-min=10.13 -dynamiclib -Wl,-headerpad_max_install_names -undefined dynamic_lookup -single_module -multiply_defined suppress -L/Library/Frameworks/R.framework/Resources/lib -L/usr/local/lib -o copa.so copa.o -F/Library/Frameworks/R.framework/.. -framework R -Wl,-framework -Wl,CoreFoundation
installing to /Users/biocbuild/bbs-3.14-bioc/meat/copa.buildbin-libdir/00LOCK-copa/00new/copa/libs
** R
** inst
** byte-compile and prepare package for lazy loading
** help
*** installing help indices
** building package indices
** installing vignettes
** testing if installed package can be loaded from temporary location
** checking absolute paths in shared objects and dynamic libraries
** testing if installed package can be loaded from final location
** testing if installed package keeps a record of temporary installation path
* DONE (copa)


>>>>>>> 
>>>>>>> FIXING LINKS FOR copa.buildbin-libdir/copa/libs/copa.so
>>>>>>> 

install_name_tool -change "/usr/local/lib/libgcc_s.1.dylib" "/Library/Frameworks/R.framework/Versions/4.1/Resources/lib/libgcc_s.1.dylib" "copa.buildbin-libdir/copa/libs/copa.so"
install_name_tool -change "/usr/local/lib/libgfortran.5.dylib" "/Library/Frameworks/R.framework/Versions/4.1/Resources/lib/libgfortran.5.dylib" "copa.buildbin-libdir/copa/libs/copa.so"
install_name_tool -change "/usr/local/lib/libquadmath.0.dylib" "/Library/Frameworks/R.framework/Versions/4.1/Resources/lib/libquadmath.0.dylib" "copa.buildbin-libdir/copa/libs/copa.so"