Back to Multiple platform build/check report for BioC 3.14
AB[C]DEFGHIJKLMNOPQRSTUVWXYZ

This page was generated on 2021-11-26 15:05:46 -0500 (Fri, 26 Nov 2021).

INSTALL results for convert on machv2

To the developers/maintainers of the convert package:
- Please allow up to 24 hours (and sometimes 48 hours) for your latest push to git@git.bioconductor.org:packages/convert.git to
reflect on this report. See How and When does the builder pull? When will my changes propagate? here for more information.
- Make sure to use the following settings in order to reproduce any error or warning you see on this page.

raw results

Package 393/2083HostnameOS / ArchINSTALLBUILDCHECKBUILD BIN
convert 1.70.0  (landing page)
Yee Hwa (Jean) Yang
Snapshot Date: 2021-11-25 04:15:05 -0500 (Thu, 25 Nov 2021)
git_url: https://git.bioconductor.org/packages/convert
git_branch: RELEASE_3_14
git_last_commit: 42fef35
git_last_commit_date: 2021-10-26 11:46:57 -0500 (Tue, 26 Oct 2021)
nebbiolo2Linux (Ubuntu 20.04.3 LTS) / x86_64  OK    OK    OK  UNNEEDED, same version is already published
tokay2Windows Server 2012 R2 Standard / x64  OK    OK    OK    OK  UNNEEDED, same version is already published
machv2macOS 10.14.6 Mojave / x86_64  OK    OK    OK    OK  UNNEEDED, same version is already published

Summary

Package: convert
Version: 1.70.0
Command: /Library/Frameworks/R.framework/Resources/bin/R CMD INSTALL convert
StartedAt: 2021-11-25 05:39:03 -0500 (Thu, 25 Nov 2021)
EndedAt: 2021-11-25 05:39:47 -0500 (Thu, 25 Nov 2021)
EllapsedTime: 44.8 seconds
RetCode: 0
Status:   OK  

Command output

##############################################################################
##############################################################################
###
### Running command:
###
###   /Library/Frameworks/R.framework/Resources/bin/R CMD INSTALL convert
###
##############################################################################
##############################################################################


* installing to library ‘/Library/Frameworks/R.framework/Versions/4.1/Resources/library’
* installing *source* package ‘convert’ ...
** using staged installation
** R
** byte-compile and prepare package for lazy loading
** help
*** installing help indices
** building package indices
** installing vignettes
** testing if installed package can be loaded from temporary location
** testing if installed package can be loaded from final location
** testing if installed package keeps a record of temporary installation path
* DONE (convert)