Back to Multiple platform build/check report for BioC 3.14
AB[C]DEFGHIJKLMNOPQRSTUVWXYZ

This page was generated on 2021-11-26 15:04:48 -0500 (Fri, 26 Nov 2021).

BUILD results for consensusSeekeR on nebbiolo2

To the developers/maintainers of the consensusSeekeR package:
- Please allow up to 24 hours (and sometimes 48 hours) for your latest push to git@git.bioconductor.org:packages/consensusSeekeR.git to
reflect on this report. See How and When does the builder pull? When will my changes propagate? here for more information.
- Make sure to use the following settings in order to reproduce any error or warning you see on this page.

raw results

Package 389/2083HostnameOS / ArchINSTALLBUILDCHECKBUILD BIN
consensusSeekeR 1.22.0  (landing page)
Astrid Deschenes
Snapshot Date: 2021-11-25 04:15:05 -0500 (Thu, 25 Nov 2021)
git_url: https://git.bioconductor.org/packages/consensusSeekeR
git_branch: RELEASE_3_14
git_last_commit: d88164a
git_last_commit_date: 2021-10-26 12:23:47 -0500 (Tue, 26 Oct 2021)
nebbiolo2Linux (Ubuntu 20.04.3 LTS) / x86_64  OK    OK    OK  UNNEEDED, same version is already published
tokay2Windows Server 2012 R2 Standard / x64  OK    OK    OK    OK  UNNEEDED, same version is already published
machv2macOS 10.14.6 Mojave / x86_64  OK    OK    OK    OK  UNNEEDED, same version is already published

Summary

Package: consensusSeekeR
Version: 1.22.0
Command: /home/biocbuild/bbs-3.14-bioc/R/bin/R CMD build --keep-empty-dirs --no-resave-data consensusSeekeR
StartedAt: 2021-11-25 06:17:08 -0500 (Thu, 25 Nov 2021)
EndedAt: 2021-11-25 06:18:30 -0500 (Thu, 25 Nov 2021)
EllapsedTime: 82.6 seconds
RetCode: 0
Status:   OK  
PackageFile: consensusSeekeR_1.22.0.tar.gz
PackageFileSize: 737.8 KiB

Command output

##############################################################################
##############################################################################
###
### Running command:
###
###   /home/biocbuild/bbs-3.14-bioc/R/bin/R CMD build --keep-empty-dirs --no-resave-data consensusSeekeR
###
##############################################################################
##############################################################################


* checking for file ‘consensusSeekeR/DESCRIPTION’ ... OK
* preparing ‘consensusSeekeR’:
* checking DESCRIPTION meta-information ... OK
* installing the package to build vignettes
* creating vignettes ... OK
* checking for LF line-endings in source and make files and shell scripts
* checking for empty or unneeded directories
* looking to see if a ‘data/datalist’ file should be added
* building ‘consensusSeekeR_1.22.0.tar.gz’