Back to Multiple platform build/check report for BioC 3.14
AB[C]DEFGHIJKLMNOPQRSTUVWXYZ

This page was generated on 2022-01-21 13:06:09 -0500 (Fri, 21 Jan 2022).

HostnameOSArch (*)R versionInstalled pkgs
nebbiolo2Linux (Ubuntu 20.04.4 LTS)x86_644.1.2 (2021-11-01) -- "Bird Hippie" 4329
tokay2Windows Server 2012 R2 Standardx644.1.2 (2021-11-01) -- "Bird Hippie" 4079
machv2macOS 10.14.6 Mojavex86_644.1.2 (2021-11-01) -- "Bird Hippie" 4140
Click on any hostname to see more info about the system (e.g. compilers)      (*) as reported by 'uname -p', except on Windows and Mac OS X

CHECK results for consensusOV on tokay2


To the developers/maintainers of the consensusOV package:
- Please allow up to 24 hours (and sometimes 48 hours) for your latest push to git@git.bioconductor.org:packages/consensusOV.git to
reflect on this report. See How and When does the builder pull? When will my changes propagate? here for more information.
- Make sure to use the following settings in order to reproduce any error or warning you see on this page.

raw results

Package 388/2083HostnameOS / ArchINSTALLBUILDCHECKBUILD BIN
consensusOV 1.16.0  (landing page)
Benjamin Haibe-Kains
Snapshot Date: 2022-01-20 01:55:04 -0500 (Thu, 20 Jan 2022)
git_url: https://git.bioconductor.org/packages/consensusOV
git_branch: RELEASE_3_14
git_last_commit: 23c1ec0
git_last_commit_date: 2021-10-26 12:36:29 -0500 (Tue, 26 Oct 2021)
nebbiolo2Linux (Ubuntu 20.04.4 LTS) / x86_64  OK    OK    OK  UNNEEDED, same version is already published
tokay2Windows Server 2012 R2 Standard / x64  OK    OK    OK    OK  UNNEEDED, same version is already published
machv2macOS 10.14.6 Mojave / x86_64  OK    OK    OK    OK  UNNEEDED, same version is already published

Summary

Package: consensusOV
Version: 1.16.0
Command: C:\Users\biocbuild\bbs-3.14-bioc\R\bin\R.exe CMD check --force-multiarch --install=check:consensusOV.install-out.txt --library=C:\Users\biocbuild\bbs-3.14-bioc\R\library --no-vignettes --timings consensusOV_1.16.0.tar.gz
StartedAt: 2022-01-20 18:01:51 -0500 (Thu, 20 Jan 2022)
EndedAt: 2022-01-20 18:09:04 -0500 (Thu, 20 Jan 2022)
EllapsedTime: 433.5 seconds
RetCode: 0
Status:   OK  
CheckDir: consensusOV.Rcheck
Warnings: 0

Command output

##############################################################################
##############################################################################
###
### Running command:
###
###   C:\Users\biocbuild\bbs-3.14-bioc\R\bin\R.exe CMD check --force-multiarch --install=check:consensusOV.install-out.txt --library=C:\Users\biocbuild\bbs-3.14-bioc\R\library --no-vignettes --timings consensusOV_1.16.0.tar.gz
###
##############################################################################
##############################################################################


* using log directory 'C:/Users/biocbuild/bbs-3.14-bioc/meat/consensusOV.Rcheck'
* using R version 4.1.2 (2021-11-01)
* using platform: x86_64-w64-mingw32 (64-bit)
* using session charset: ISO8859-1
* using option '--no-vignettes'
* checking for file 'consensusOV/DESCRIPTION' ... OK
* checking extension type ... Package
* this is package 'consensusOV' version '1.16.0'
* package encoding: UTF-8
* checking package namespace information ... OK
* checking package dependencies ... OK
* checking if this is a source package ... OK
* checking if there is a namespace ... OK
* checking for hidden files and directories ... OK
* checking for portable file names ... OK
* checking whether package 'consensusOV' can be installed ... OK
* checking installed package size ... OK
* checking package directory ... OK
* checking 'build' directory ... OK
* checking DESCRIPTION meta-information ... OK
* checking top-level files ... OK
* checking for left-over files ... OK
* checking index information ... OK
* checking package subdirectories ... OK
* checking R files for non-ASCII characters ... OK
* checking R files for syntax errors ... OK
* loading checks for arch 'i386'
** checking whether the package can be loaded ... OK
** checking whether the package can be loaded with stated dependencies ... OK
** checking whether the package can be unloaded cleanly ... OK
** checking whether the namespace can be loaded with stated dependencies ... OK
** checking whether the namespace can be unloaded cleanly ... OK
* loading checks for arch 'x64'
** checking whether the package can be loaded ... OK
** checking whether the package can be loaded with stated dependencies ... OK
** checking whether the package can be unloaded cleanly ... OK
** checking whether the namespace can be loaded with stated dependencies ... OK
** checking whether the namespace can be unloaded cleanly ... OK
* checking dependencies in R code ... OK
* checking S3 generic/method consistency ... OK
* checking replacement functions ... OK
* checking foreign function calls ... OK
* checking R code for possible problems ... OK
* checking Rd files ... OK
* checking Rd metadata ... OK
* checking Rd cross-references ... OK
* checking for missing documentation entries ... OK
* checking for code/documentation mismatches ... OK
* checking Rd \usage sections ... OK
* checking Rd contents ... OK
* checking for unstated dependencies in examples ... OK
* checking contents of 'data' directory ... OK
* checking data for non-ASCII characters ... OK
* checking LazyData ... OK
* checking data for ASCII and uncompressed saves ... OK
* checking R/sysdata.rda ... OK
* checking files in 'vignettes' ... OK
* checking examples ...
** running examples for arch 'i386' ... OK
Examples with CPU (user + system) or elapsed time > 5s
                        user system elapsed
get.consensus.subtypes 80.77   0.22   80.98
** running examples for arch 'x64' ... OK
Examples with CPU (user + system) or elapsed time > 5s
                        user system elapsed
get.consensus.subtypes 75.52   0.22   75.73
* checking for unstated dependencies in vignettes ... OK
* checking package vignettes in 'inst/doc' ... OK
* checking running R code from vignettes ... SKIPPED
* checking re-building of vignette outputs ... SKIPPED
* checking PDF version of manual ... OK
* DONE

Status: OK


Installation output

consensusOV.Rcheck/00install.out

##############################################################################
##############################################################################
###
### Running command:
###
###   C:\cygwin\bin\curl.exe -O http://155.52.207.166/BBS/3.14/bioc/src/contrib/consensusOV_1.16.0.tar.gz && rm -rf consensusOV.buildbin-libdir && mkdir consensusOV.buildbin-libdir && C:\Users\biocbuild\bbs-3.14-bioc\R\bin\R.exe CMD INSTALL --merge-multiarch --build --library=consensusOV.buildbin-libdir consensusOV_1.16.0.tar.gz && C:\Users\biocbuild\bbs-3.14-bioc\R\bin\R.exe CMD INSTALL consensusOV_1.16.0.zip && rm consensusOV_1.16.0.tar.gz consensusOV_1.16.0.zip
###
##############################################################################
##############################################################################


  % Total    % Received % Xferd  Average Speed   Time    Time     Time  Current
                                 Dload  Upload   Total   Spent    Left  Speed

  0     0    0     0    0     0      0      0 --:--:-- --:--:-- --:--:--     0
 63 2989k   63 1886k    0     0  3846k      0 --:--:-- --:--:-- --:--:-- 3842k
100 2989k  100 2989k    0     0  4671k      0 --:--:-- --:--:-- --:--:-- 4671k

install for i386

* installing *source* package 'consensusOV' ...
** using staged installation
** R
** data
*** moving datasets to lazyload DB
** inst
** byte-compile and prepare package for lazy loading
** help
*** installing help indices
  converting help for package 'consensusOV'
    finding HTML links ... done
    GSE14764.eset                           html  
    dataset.merging                         html  
    get.bentink.subtypes                    html  
    get.consensus.subtypes                  html  
    get.hao.subtypes                        html  
    get.helland.subtypes                    html  
    get.konecny.subtypes                    html  
    get.subtypes                            html  
    get.verhaak.subtypes                    html  
** building package indices
** installing vignettes
** testing if installed package can be loaded from temporary location
** testing if installed package can be loaded from final location
** testing if installed package keeps a record of temporary installation path

install for x64

* installing *source* package 'consensusOV' ...
** testing if installed package can be loaded
* MD5 sums
packaged installation of 'consensusOV' as consensusOV_1.16.0.zip
* DONE (consensusOV)
* installing to library 'C:/Users/biocbuild/bbs-3.14-bioc/R/library'
package 'consensusOV' successfully unpacked and MD5 sums checked

Tests output


Example timings

consensusOV.Rcheck/examples_i386/consensusOV-Ex.timings

nameusersystemelapsed
get.bentink.subtypes1.640.512.80
get.consensus.subtypes80.77 0.2280.98
get.hao.subtypes0.060.000.06
get.helland.subtypes0.030.020.05
get.konecny.subtypes0.080.010.09
get.subtypes0.080.000.07
get.verhaak.subtypes0.080.000.08

consensusOV.Rcheck/examples_x64/consensusOV-Ex.timings

nameusersystemelapsed
get.bentink.subtypes1.230.091.33
get.consensus.subtypes75.52 0.2275.73
get.hao.subtypes0.060.000.06
get.helland.subtypes0.030.000.03
get.konecny.subtypes0.060.000.06
get.subtypes0.080.000.08
get.verhaak.subtypes0.050.020.06