Back to Multiple platform build/check report for BioC 3.14
AB[C]DEFGHIJKLMNOPQRSTUVWXYZ

This page was generated on 2022-01-17 13:06:05 -0500 (Mon, 17 Jan 2022).

HostnameOSArch (*)R versionInstalled pkgs
nebbiolo2Linux (Ubuntu 20.04.4 LTS)x86_644.1.2 (2021-11-01) -- "Bird Hippie" 4328
tokay2Windows Server 2012 R2 Standardx644.1.2 (2021-11-01) -- "Bird Hippie" 4077
machv2macOS 10.14.6 Mojavex86_644.1.2 (2021-11-01) -- "Bird Hippie" 4138
Click on any hostname to see more info about the system (e.g. compilers)      (*) as reported by 'uname -p', except on Windows and Mac OS X

INSTALL results for condiments on tokay2


To the developers/maintainers of the condiments package:
- Please allow up to 24 hours (and sometimes 48 hours) for your latest push to git@git.bioconductor.org:packages/condiments.git to
reflect on this report. See How and When does the builder pull? When will my changes propagate? here for more information.
- Make sure to use the following settings in order to reproduce any error or warning you see on this page.

raw results

Package 383/2083HostnameOS / ArchINSTALLBUILDCHECKBUILD BIN
condiments 1.2.0  (landing page)
Hector Roux de Bezieux
Snapshot Date: 2022-01-16 01:55:05 -0500 (Sun, 16 Jan 2022)
git_url: https://git.bioconductor.org/packages/condiments
git_branch: RELEASE_3_14
git_last_commit: 2e393ee
git_last_commit_date: 2021-10-26 13:08:17 -0500 (Tue, 26 Oct 2021)
nebbiolo2Linux (Ubuntu 20.04.4 LTS) / x86_64  OK    OK    OK  UNNEEDED, same version is already published
tokay2Windows Server 2012 R2 Standard / x64  OK    OK    OK    OK  UNNEEDED, same version is already published
machv2macOS 10.14.6 Mojave / x86_64  OK    OK    OK    OK  UNNEEDED, same version is already published

Summary

Package: condiments
Version: 1.2.0
Command: C:\cygwin\bin\curl.exe -O http://155.52.207.166/BBS/3.14/bioc/src/contrib/condiments_1.2.0.tar.gz && rm -rf condiments.buildbin-libdir && mkdir condiments.buildbin-libdir && C:\Users\biocbuild\bbs-3.14-bioc\R\bin\R.exe CMD INSTALL --merge-multiarch --build --library=condiments.buildbin-libdir condiments_1.2.0.tar.gz && C:\Users\biocbuild\bbs-3.14-bioc\R\bin\R.exe CMD INSTALL condiments_1.2.0.zip && rm condiments_1.2.0.tar.gz condiments_1.2.0.zip
StartedAt: 2022-01-16 07:41:42 -0500 (Sun, 16 Jan 2022)
EndedAt: 2022-01-16 07:43:27 -0500 (Sun, 16 Jan 2022)
EllapsedTime: 104.3 seconds
RetCode: 0
Status:   OK  

Command output

##############################################################################
##############################################################################
###
### Running command:
###
###   C:\cygwin\bin\curl.exe -O http://155.52.207.166/BBS/3.14/bioc/src/contrib/condiments_1.2.0.tar.gz && rm -rf condiments.buildbin-libdir && mkdir condiments.buildbin-libdir && C:\Users\biocbuild\bbs-3.14-bioc\R\bin\R.exe CMD INSTALL --merge-multiarch --build --library=condiments.buildbin-libdir condiments_1.2.0.tar.gz && C:\Users\biocbuild\bbs-3.14-bioc\R\bin\R.exe CMD INSTALL condiments_1.2.0.zip && rm condiments_1.2.0.tar.gz condiments_1.2.0.zip
###
##############################################################################
##############################################################################


  % Total    % Received % Xferd  Average Speed   Time    Time     Time  Current
                                 Dload  Upload   Total   Spent    Left  Speed

  0     0    0     0    0     0      0      0 --:--:-- --:--:-- --:--:--     0
100  286k  100  286k    0     0  1561k      0 --:--:-- --:--:-- --:--:-- 1565k

install for i386

* installing *source* package 'condiments' ...
** using staged installation
** R
** data
** inst
** byte-compile and prepare package for lazy loading
** help
*** installing help indices
  converting help for package 'condiments'
    finding HTML links ... done
    condiments-package                      html  
    create_differential_topology            html  
    differentiationTest                     html  
    finding level-2 HTML links ... done

    imbalance_score                         html  
    merge_sds                               html  
    nLineages                               html  
    progressionTest                         html  
    slingshot_conditions                    html  
    topologyTest                            html  
    toy_dataset                             html  
    weights_from_pst                        html  
*** copying figures
** building package indices
** installing vignettes
** testing if installed package can be loaded from temporary location
** testing if installed package can be loaded from final location
** testing if installed package keeps a record of temporary installation path

install for x64

* installing *source* package 'condiments' ...
** testing if installed package can be loaded
* MD5 sums
packaged installation of 'condiments' as condiments_1.2.0.zip
* DONE (condiments)
* installing to library 'C:/Users/biocbuild/bbs-3.14-bioc/R/library'
package 'condiments' successfully unpacked and MD5 sums checked