Back to Multiple platform build/check report for BioC 3.14
AB[C]DEFGHIJKLMNOPQRSTUVWXYZ

This page was generated on 2022-01-24 13:06:04 -0500 (Mon, 24 Jan 2022).

HostnameOSArch (*)R versionInstalled pkgs
nebbiolo2Linux (Ubuntu 20.04.4 LTS)x86_644.1.2 (2021-11-01) -- "Bird Hippie" 4329
tokay2Windows Server 2012 R2 Standardx644.1.2 (2021-11-01) -- "Bird Hippie" 4080
machv2macOS 10.14.6 Mojavex86_644.1.2 (2021-11-01) -- "Bird Hippie" 4141
Click on any hostname to see more info about the system (e.g. compilers)      (*) as reported by 'uname -p', except on Windows and Mac OS X

CHECK results for condiments on tokay2


To the developers/maintainers of the condiments package:
- Please allow up to 24 hours (and sometimes 48 hours) for your latest push to git@git.bioconductor.org:packages/condiments.git to
reflect on this report. See How and When does the builder pull? When will my changes propagate? here for more information.
- Make sure to use the following settings in order to reproduce any error or warning you see on this page.

raw results

Package 383/2083HostnameOS / ArchINSTALLBUILDCHECKBUILD BIN
condiments 1.2.0  (landing page)
Hector Roux de Bezieux
Snapshot Date: 2022-01-23 01:55:04 -0500 (Sun, 23 Jan 2022)
git_url: https://git.bioconductor.org/packages/condiments
git_branch: RELEASE_3_14
git_last_commit: 2e393ee
git_last_commit_date: 2021-10-26 13:08:17 -0500 (Tue, 26 Oct 2021)
nebbiolo2Linux (Ubuntu 20.04.4 LTS) / x86_64  OK    OK    OK  UNNEEDED, same version is already published
tokay2Windows Server 2012 R2 Standard / x64  OK    OK    OK    OK  UNNEEDED, same version is already published
machv2macOS 10.14.6 Mojave / x86_64  OK    OK    OK    OK  UNNEEDED, same version is already published

Summary

Package: condiments
Version: 1.2.0
Command: C:\Users\biocbuild\bbs-3.14-bioc\R\bin\R.exe CMD check --force-multiarch --install=check:condiments.install-out.txt --library=C:\Users\biocbuild\bbs-3.14-bioc\R\library --no-vignettes --timings condiments_1.2.0.tar.gz
StartedAt: 2022-01-23 17:26:36 -0500 (Sun, 23 Jan 2022)
EndedAt: 2022-01-23 17:39:25 -0500 (Sun, 23 Jan 2022)
EllapsedTime: 769.8 seconds
RetCode: 0
Status:   OK  
CheckDir: condiments.Rcheck
Warnings: 0

Command output

##############################################################################
##############################################################################
###
### Running command:
###
###   C:\Users\biocbuild\bbs-3.14-bioc\R\bin\R.exe CMD check --force-multiarch --install=check:condiments.install-out.txt --library=C:\Users\biocbuild\bbs-3.14-bioc\R\library --no-vignettes --timings condiments_1.2.0.tar.gz
###
##############################################################################
##############################################################################


* using log directory 'C:/Users/biocbuild/bbs-3.14-bioc/meat/condiments.Rcheck'
* using R version 4.1.2 (2021-11-01)
* using platform: x86_64-w64-mingw32 (64-bit)
* using session charset: ISO8859-1
* using option '--no-vignettes'
* checking for file 'condiments/DESCRIPTION' ... OK
* checking extension type ... Package
* this is package 'condiments' version '1.2.0'
* package encoding: UTF-8
* checking package namespace information ... OK
* checking package dependencies ... OK
* checking if this is a source package ... OK
* checking if there is a namespace ... OK
* checking for hidden files and directories ... OK
* checking for portable file names ... OK
* checking whether package 'condiments' can be installed ... OK
* checking installed package size ... OK
* checking package directory ... OK
* checking 'build' directory ... OK
* checking DESCRIPTION meta-information ... OK
* checking top-level files ... OK
* checking for left-over files ... OK
* checking index information ... OK
* checking package subdirectories ... OK
* checking R files for non-ASCII characters ... OK
* checking R files for syntax errors ... OK
* loading checks for arch 'i386'
** checking whether the package can be loaded ... OK
** checking whether the package can be loaded with stated dependencies ... OK
** checking whether the package can be unloaded cleanly ... OK
** checking whether the namespace can be loaded with stated dependencies ... OK
** checking whether the namespace can be unloaded cleanly ... OK
* loading checks for arch 'x64'
** checking whether the package can be loaded ... OK
** checking whether the package can be loaded with stated dependencies ... OK
** checking whether the package can be unloaded cleanly ... OK
** checking whether the namespace can be loaded with stated dependencies ... OK
** checking whether the namespace can be unloaded cleanly ... OK
* checking dependencies in R code ... OK
* checking S3 generic/method consistency ... OK
* checking replacement functions ... OK
* checking foreign function calls ... OK
* checking R code for possible problems ... NOTE
.differentiationTest: no visible binding for global variable 'pair'
.differentiationTest: no visible binding for global variable
  'statistic'
.differentiationTest: no visible binding for global variable 'p.value'
.progressionTest: no visible binding for global variable 'lineage'
.progressionTest: no visible binding for global variable 'statistic'
.progressionTest: no visible binding for global variable 'p.value'
Undefined global functions or variables:
  lineage p.value pair statistic
* checking Rd files ... OK
* checking Rd metadata ... OK
* checking Rd cross-references ... OK
* checking for missing documentation entries ... OK
* checking for code/documentation mismatches ... OK
* checking Rd \usage sections ... OK
* checking Rd contents ... OK
* checking for unstated dependencies in examples ... OK
* checking contents of 'data' directory ... OK
* checking data for non-ASCII characters ... OK
* checking data for ASCII and uncompressed saves ... OK
* checking files in 'vignettes' ... OK
* checking examples ...
** running examples for arch 'i386' ... OK
Examples with CPU (user + system) or elapsed time > 5s
             user system elapsed
topologyTest 8.66   0.03    8.69
** running examples for arch 'x64' ... OK
Examples with CPU (user + system) or elapsed time > 5s
             user system elapsed
topologyTest 8.93   0.03    8.95
* checking for unstated dependencies in 'tests' ... OK
* checking tests ...
** running tests for arch 'i386' ...
  Running 'testthat.R'
 OK
** running tests for arch 'x64' ...
  Running 'testthat.R'
 OK
* checking for unstated dependencies in vignettes ... OK
* checking package vignettes in 'inst/doc' ... OK
* checking running R code from vignettes ... SKIPPED
* checking re-building of vignette outputs ... SKIPPED
* checking PDF version of manual ... OK
* DONE

Status: 1 NOTE
See
  'C:/Users/biocbuild/bbs-3.14-bioc/meat/condiments.Rcheck/00check.log'
for details.



Installation output

condiments.Rcheck/00install.out

##############################################################################
##############################################################################
###
### Running command:
###
###   C:\cygwin\bin\curl.exe -O http://155.52.207.166/BBS/3.14/bioc/src/contrib/condiments_1.2.0.tar.gz && rm -rf condiments.buildbin-libdir && mkdir condiments.buildbin-libdir && C:\Users\biocbuild\bbs-3.14-bioc\R\bin\R.exe CMD INSTALL --merge-multiarch --build --library=condiments.buildbin-libdir condiments_1.2.0.tar.gz && C:\Users\biocbuild\bbs-3.14-bioc\R\bin\R.exe CMD INSTALL condiments_1.2.0.zip && rm condiments_1.2.0.tar.gz condiments_1.2.0.zip
###
##############################################################################
##############################################################################


  % Total    % Received % Xferd  Average Speed   Time    Time     Time  Current
                                 Dload  Upload   Total   Spent    Left  Speed

  0     0    0     0    0     0      0      0 --:--:-- --:--:-- --:--:--     0
100  286k  100  286k    0     0  1260k      0 --:--:-- --:--:-- --:--:-- 1267k

install for i386

* installing *source* package 'condiments' ...
** using staged installation
** R
** data
** inst
** byte-compile and prepare package for lazy loading
** help
*** installing help indices
  converting help for package 'condiments'
    finding HTML links ... done
    condiments-package                      html  
    create_differential_topology            html  
    differentiationTest                     html  
    finding level-2 HTML links ... done

    imbalance_score                         html  
    merge_sds                               html  
    nLineages                               html  
    progressionTest                         html  
    slingshot_conditions                    html  
    topologyTest                            html  
    toy_dataset                             html  
    weights_from_pst                        html  
*** copying figures
** building package indices
** installing vignettes
** testing if installed package can be loaded from temporary location
** testing if installed package can be loaded from final location
** testing if installed package keeps a record of temporary installation path

install for x64

* installing *source* package 'condiments' ...
** testing if installed package can be loaded
* MD5 sums
packaged installation of 'condiments' as condiments_1.2.0.zip
* DONE (condiments)
* installing to library 'C:/Users/biocbuild/bbs-3.14-bioc/R/library'
package 'condiments' successfully unpacked and MD5 sums checked

Tests output

condiments.Rcheck/tests_i386/testthat.Rout


R version 4.1.2 (2021-11-01) -- "Bird Hippie"
Copyright (C) 2021 The R Foundation for Statistical Computing
Platform: i386-w64-mingw32/i386 (32-bit)

R is free software and comes with ABSOLUTELY NO WARRANTY.
You are welcome to redistribute it under certain conditions.
Type 'license()' or 'licence()' for distribution details.

R is a collaborative project with many contributors.
Type 'contributors()' for more information and
'citation()' on how to cite R or R packages in publications.

Type 'demo()' for some demos, 'help()' for on-line help, or
'help.start()' for an HTML browser interface to help.
Type 'q()' to quit R.

> library(condiments)
> library(testthat)
> test_check("condiments")
note: only 1 unique complexity parameters in default grid. Truncating the grid to 1 .

note: only 1 unique complexity parameters in default grid. Truncating the grid to 1 .

note: only 1 unique complexity parameters in default grid. Truncating the grid to 1 .

note: only 2 unique complexity parameters in default grid. Truncating the grid to 2 .

note: only 1 unique complexity parameters in default grid. Truncating the grid to 1 .

note: only 1 unique complexity parameters in default grid. Truncating the grid to 1 .

note: only 1 unique complexity parameters in default grid. Truncating the grid to 1 .

note: only 2 unique complexity parameters in default grid. Truncating the grid to 2 .

note: only 1 unique complexity parameters in default grid. Truncating the grid to 1 .

note: only 1 unique complexity parameters in default grid. Truncating the grid to 1 .

note: only 1 unique complexity parameters in default grid. Truncating the grid to 1 .

note: only 1 unique complexity parameters in default grid. Truncating the grid to 1 .

note: only 1 unique complexity parameters in default grid. Truncating the grid to 1 .

note: only 1 unique complexity parameters in default grid. Truncating the grid to 1 .

note: only 1 unique complexity parameters in default grid. Truncating the grid to 1 .

note: only 1 unique complexity parameters in default grid. Truncating the grid to 1 .

note: only 1 unique complexity parameters in default grid. Truncating the grid to 1 .

note: only 1 unique complexity parameters in default grid. Truncating the grid to 1 .

note: only 1 unique complexity parameters in default grid. Truncating the grid to 1 .

note: only 1 unique complexity parameters in default grid. Truncating the grid to 1 .

note: only 1 unique complexity parameters in default grid. Truncating the grid to 1 .

note: only 1 unique complexity parameters in default grid. Truncating the grid to 1 .

note: only 1 unique complexity parameters in default grid. Truncating the grid to 1 .

note: only 1 unique complexity parameters in default grid. Truncating the grid to 1 .

[ FAIL 0 | WARN 0 | SKIP 0 | PASS 105 ]
> 
> proc.time()
   user  system elapsed 
 209.84   38.14  248.04 

condiments.Rcheck/tests_x64/testthat.Rout


R version 4.1.2 (2021-11-01) -- "Bird Hippie"
Copyright (C) 2021 The R Foundation for Statistical Computing
Platform: x86_64-w64-mingw32/x64 (64-bit)

R is free software and comes with ABSOLUTELY NO WARRANTY.
You are welcome to redistribute it under certain conditions.
Type 'license()' or 'licence()' for distribution details.

R is a collaborative project with many contributors.
Type 'contributors()' for more information and
'citation()' on how to cite R or R packages in publications.

Type 'demo()' for some demos, 'help()' for on-line help, or
'help.start()' for an HTML browser interface to help.
Type 'q()' to quit R.

> library(condiments)
> library(testthat)
> test_check("condiments")
note: only 1 unique complexity parameters in default grid. Truncating the grid to 1 .

note: only 1 unique complexity parameters in default grid. Truncating the grid to 1 .

note: only 1 unique complexity parameters in default grid. Truncating the grid to 1 .

note: only 2 unique complexity parameters in default grid. Truncating the grid to 2 .

note: only 1 unique complexity parameters in default grid. Truncating the grid to 1 .

note: only 1 unique complexity parameters in default grid. Truncating the grid to 1 .

note: only 1 unique complexity parameters in default grid. Truncating the grid to 1 .

note: only 2 unique complexity parameters in default grid. Truncating the grid to 2 .

note: only 1 unique complexity parameters in default grid. Truncating the grid to 1 .

note: only 1 unique complexity parameters in default grid. Truncating the grid to 1 .

note: only 1 unique complexity parameters in default grid. Truncating the grid to 1 .

note: only 1 unique complexity parameters in default grid. Truncating the grid to 1 .

note: only 1 unique complexity parameters in default grid. Truncating the grid to 1 .

note: only 1 unique complexity parameters in default grid. Truncating the grid to 1 .

note: only 1 unique complexity parameters in default grid. Truncating the grid to 1 .

note: only 1 unique complexity parameters in default grid. Truncating the grid to 1 .

note: only 1 unique complexity parameters in default grid. Truncating the grid to 1 .

note: only 1 unique complexity parameters in default grid. Truncating the grid to 1 .

note: only 1 unique complexity parameters in default grid. Truncating the grid to 1 .

note: only 1 unique complexity parameters in default grid. Truncating the grid to 1 .

note: only 1 unique complexity parameters in default grid. Truncating the grid to 1 .

note: only 1 unique complexity parameters in default grid. Truncating the grid to 1 .

note: only 1 unique complexity parameters in default grid. Truncating the grid to 1 .

note: only 1 unique complexity parameters in default grid. Truncating the grid to 1 .

[ FAIL 0 | WARN 0 | SKIP 0 | PASS 105 ]
> 
> proc.time()
   user  system elapsed 
 205.96   39.48  245.43 

Example timings

condiments.Rcheck/examples_i386/condiments-Ex.timings

nameusersystemelapsed
create_differential_topology0.010.000.01
differentiationTest3.280.113.40
imbalance_score0.280.020.30
merge_sds0.810.000.81
nLineages0.280.020.30
progressionTest0.350.010.36
slingshot_conditions0.700.080.78
topologyTest8.660.038.69
weights_from_pst0.320.000.32

condiments.Rcheck/examples_x64/condiments-Ex.timings

nameusersystemelapsed
create_differential_topology000
differentiationTest3.390.103.48
imbalance_score0.270.040.33
merge_sds0.810.080.89
nLineages0.280.000.28
progressionTest0.330.000.33
slingshot_conditions0.700.000.71
topologyTest8.930.038.95
weights_from_pst0.260.000.26