Back to Multiple platform build/check report for BioC 3.14
AB[C]DEFGHIJKLMNOPQRSTUVWXYZ

This page was generated on 2021-11-29 15:04:52 -0500 (Mon, 29 Nov 2021).

CHECK results for condiments on nebbiolo2

To the developers/maintainers of the condiments package:
- Please allow up to 24 hours (and sometimes 48 hours) for your latest push to git@git.bioconductor.org:packages/condiments.git to
reflect on this report. See How and When does the builder pull? When will my changes propagate? here for more information.
- Make sure to use the following settings in order to reproduce any error or warning you see on this page.

raw results

Package 383/2083HostnameOS / ArchINSTALLBUILDCHECKBUILD BIN
condiments 1.2.0  (landing page)
Hector Roux de Bezieux
Snapshot Date: 2021-11-28 04:15:06 -0500 (Sun, 28 Nov 2021)
git_url: https://git.bioconductor.org/packages/condiments
git_branch: RELEASE_3_14
git_last_commit: 2e393ee
git_last_commit_date: 2021-10-26 13:08:17 -0500 (Tue, 26 Oct 2021)
nebbiolo2Linux (Ubuntu 20.04.3 LTS) / x86_64  OK    OK    OK  UNNEEDED, same version is already published
tokay2Windows Server 2012 R2 Standard / x64  OK    OK    OK    OK  UNNEEDED, same version is already published
machv2macOS 10.14.6 Mojave / x86_64  OK    OK    OK    OK  UNNEEDED, same version is already published

Summary

Package: condiments
Version: 1.2.0
Command: /home/biocbuild/bbs-3.14-bioc/R/bin/R CMD check --install=check:condiments.install-out.txt --library=/home/biocbuild/bbs-3.14-bioc/R/library --no-vignettes --timings condiments_1.2.0.tar.gz
StartedAt: 2021-11-28 08:40:04 -0500 (Sun, 28 Nov 2021)
EndedAt: 2021-11-28 08:46:04 -0500 (Sun, 28 Nov 2021)
EllapsedTime: 359.5 seconds
RetCode: 0
Status:   OK  
CheckDir: condiments.Rcheck
Warnings: 0

Command output

##############################################################################
##############################################################################
###
### Running command:
###
###   /home/biocbuild/bbs-3.14-bioc/R/bin/R CMD check --install=check:condiments.install-out.txt --library=/home/biocbuild/bbs-3.14-bioc/R/library --no-vignettes --timings condiments_1.2.0.tar.gz
###
##############################################################################
##############################################################################


* using log directory ‘/home/biocbuild/bbs-3.14-bioc/meat/condiments.Rcheck’
* using R version 4.1.2 (2021-11-01)
* using platform: x86_64-pc-linux-gnu (64-bit)
* using session charset: UTF-8
* using option ‘--no-vignettes’
* checking for file ‘condiments/DESCRIPTION’ ... OK
* checking extension type ... Package
* this is package ‘condiments’ version ‘1.2.0’
* package encoding: UTF-8
* checking package namespace information ... OK
* checking package dependencies ... OK
* checking if this is a source package ... OK
* checking if there is a namespace ... OK
* checking for hidden files and directories ... OK
* checking for portable file names ... OK
* checking for sufficient/correct file permissions ... OK
* checking whether package ‘condiments’ can be installed ... OK
* checking installed package size ... OK
* checking package directory ... OK
* checking ‘build’ directory ... OK
* checking DESCRIPTION meta-information ... OK
* checking top-level files ... OK
* checking for left-over files ... OK
* checking index information ... OK
* checking package subdirectories ... OK
* checking R files for non-ASCII characters ... OK
* checking R files for syntax errors ... OK
* checking whether the package can be loaded ... OK
* checking whether the package can be loaded with stated dependencies ... OK
* checking whether the package can be unloaded cleanly ... OK
* checking whether the namespace can be loaded with stated dependencies ... OK
* checking whether the namespace can be unloaded cleanly ... OK
* checking dependencies in R code ... OK
* checking S3 generic/method consistency ... OK
* checking replacement functions ... OK
* checking foreign function calls ... OK
* checking R code for possible problems ... NOTE
.differentiationTest: no visible binding for global variable ‘pair’
.differentiationTest: no visible binding for global variable
  ‘statistic’
.differentiationTest: no visible binding for global variable ‘p.value’
.progressionTest: no visible binding for global variable ‘lineage’
.progressionTest: no visible binding for global variable ‘statistic’
.progressionTest: no visible binding for global variable ‘p.value’
Undefined global functions or variables:
  lineage p.value pair statistic
* checking Rd files ... OK
* checking Rd metadata ... OK
* checking Rd cross-references ... OK
* checking for missing documentation entries ... OK
* checking for code/documentation mismatches ... OK
* checking Rd \usage sections ... OK
* checking Rd contents ... OK
* checking for unstated dependencies in examples ... OK
* checking contents of ‘data’ directory ... OK
* checking data for non-ASCII characters ... OK
* checking data for ASCII and uncompressed saves ... OK
* checking files in ‘vignettes’ ... OK
* checking examples ... OK
Examples with CPU (user + system) or elapsed time > 5s
              user system elapsed
topologyTest 8.653   0.14   8.793
* checking for unstated dependencies in ‘tests’ ... OK
* checking tests ...
  Running ‘testthat.R’
 OK
* checking for unstated dependencies in vignettes ... OK
* checking package vignettes in ‘inst/doc’ ... OK
* checking running R code from vignettes ... SKIPPED
* checking re-building of vignette outputs ... SKIPPED
* checking PDF version of manual ... OK
* DONE

Status: 1 NOTE
See
  ‘/home/biocbuild/bbs-3.14-bioc/meat/condiments.Rcheck/00check.log’
for details.



Installation output

condiments.Rcheck/00install.out

##############################################################################
##############################################################################
###
### Running command:
###
###   /home/biocbuild/bbs-3.14-bioc/R/bin/R CMD INSTALL condiments
###
##############################################################################
##############################################################################


* installing to library ‘/home/biocbuild/bbs-3.14-bioc/R/library’
* installing *source* package ‘condiments’ ...
** using staged installation
** R
** data
** inst
** byte-compile and prepare package for lazy loading
** help
*** installing help indices
*** copying figures
** building package indices
** installing vignettes
** testing if installed package can be loaded from temporary location
** testing if installed package can be loaded from final location
** testing if installed package keeps a record of temporary installation path
* DONE (condiments)

Tests output

condiments.Rcheck/tests/testthat.Rout


R version 4.1.2 (2021-11-01) -- "Bird Hippie"
Copyright (C) 2021 The R Foundation for Statistical Computing
Platform: x86_64-pc-linux-gnu (64-bit)

R is free software and comes with ABSOLUTELY NO WARRANTY.
You are welcome to redistribute it under certain conditions.
Type 'license()' or 'licence()' for distribution details.

R is a collaborative project with many contributors.
Type 'contributors()' for more information and
'citation()' on how to cite R or R packages in publications.

Type 'demo()' for some demos, 'help()' for on-line help, or
'help.start()' for an HTML browser interface to help.
Type 'q()' to quit R.

> library(condiments)
> library(testthat)
> test_check("condiments")
note: only 1 unique complexity parameters in default grid. Truncating the grid to 1 .

note: only 1 unique complexity parameters in default grid. Truncating the grid to 1 .

note: only 1 unique complexity parameters in default grid. Truncating the grid to 1 .

note: only 2 unique complexity parameters in default grid. Truncating the grid to 2 .

note: only 1 unique complexity parameters in default grid. Truncating the grid to 1 .

note: only 1 unique complexity parameters in default grid. Truncating the grid to 1 .

note: only 1 unique complexity parameters in default grid. Truncating the grid to 1 .

note: only 2 unique complexity parameters in default grid. Truncating the grid to 2 .

note: only 1 unique complexity parameters in default grid. Truncating the grid to 1 .

note: only 1 unique complexity parameters in default grid. Truncating the grid to 1 .

note: only 1 unique complexity parameters in default grid. Truncating the grid to 1 .

note: only 1 unique complexity parameters in default grid. Truncating the grid to 1 .

note: only 1 unique complexity parameters in default grid. Truncating the grid to 1 .

note: only 1 unique complexity parameters in default grid. Truncating the grid to 1 .

note: only 1 unique complexity parameters in default grid. Truncating the grid to 1 .

note: only 1 unique complexity parameters in default grid. Truncating the grid to 1 .

note: only 1 unique complexity parameters in default grid. Truncating the grid to 1 .

note: only 1 unique complexity parameters in default grid. Truncating the grid to 1 .

note: only 1 unique complexity parameters in default grid. Truncating the grid to 1 .

note: only 1 unique complexity parameters in default grid. Truncating the grid to 1 .

note: only 1 unique complexity parameters in default grid. Truncating the grid to 1 .

note: only 1 unique complexity parameters in default grid. Truncating the grid to 1 .

note: only 1 unique complexity parameters in default grid. Truncating the grid to 1 .

note: only 1 unique complexity parameters in default grid. Truncating the grid to 1 .

[ FAIL 0 | WARN 0 | SKIP 0 | PASS 105 ]
> 
> proc.time()
   user  system elapsed 
156.675   5.968 162.637 

Example timings

condiments.Rcheck/condiments-Ex.timings

nameusersystemelapsed
create_differential_topology0.0060.0000.005
differentiationTest4.2820.0964.378
imbalance_score0.1980.0120.210
merge_sds0.7210.1080.829
nLineages0.2630.0200.282
progressionTest0.3270.0000.328
slingshot_conditions0.6980.0240.722
topologyTest8.6530.1408.793
weights_from_pst0.3170.0320.349